| Back to Multiple platform build/check report for BioC 3.20: simplified long |
|
This page was generated on 2025-04-02 19:34 -0400 (Wed, 02 Apr 2025).
| Hostname | OS | Arch (*) | R version | Installed pkgs |
|---|---|---|---|---|
| nebbiolo2 | Linux (Ubuntu 24.04.1 LTS) | x86_64 | 4.4.3 (2025-02-28) -- "Trophy Case" | 4764 |
| palomino8 | Windows Server 2022 Datacenter | x64 | 4.4.3 (2025-02-28 ucrt) -- "Trophy Case" | 4495 |
| merida1 | macOS 12.7.5 Monterey | x86_64 | 4.4.3 (2025-02-28) -- "Trophy Case" | 4522 |
| kjohnson1 | macOS 13.6.6 Ventura | arm64 | 4.4.3 (2025-02-28) -- "Trophy Case" | 4449 |
| taishan | Linux (openEuler 24.03 LTS) | aarch64 | 4.4.3 (2025-02-28) -- "Trophy Case" | 4426 |
| Click on any hostname to see more info about the system (e.g. compilers) (*) as reported by 'uname -p', except on Windows and Mac OS X | ||||
| Package 1698/2289 | Hostname | OS / Arch | INSTALL | BUILD | CHECK | BUILD BIN | ||||||||
| ReactomeGSA 1.20.0 (landing page) Johannes Griss
| nebbiolo2 | Linux (Ubuntu 24.04.1 LTS) / x86_64 | OK | OK | OK | |||||||||
| palomino8 | Windows Server 2022 Datacenter / x64 | OK | OK | OK | OK | |||||||||
| merida1 | macOS 12.7.5 Monterey / x86_64 | OK | OK | OK | OK | |||||||||
| kjohnson1 | macOS 13.6.6 Ventura / arm64 | OK | OK | OK | OK | |||||||||
| taishan | Linux (openEuler 24.03 LTS) / aarch64 | OK | OK | OK | ||||||||||
|
To the developers/maintainers of the ReactomeGSA package: - Allow up to 24 hours (and sometimes 48 hours) for your latest push to git@git.bioconductor.org:packages/ReactomeGSA.git to reflect on this report. See Troubleshooting Build Report for more information. - Use the following Renviron settings to reproduce errors and warnings. - If 'R CMD check' started to fail recently on the Linux builder(s) over a missing dependency, add the missing dependency to 'Suggests:' in your DESCRIPTION file. See Renviron.bioc for more information. |
| Package: ReactomeGSA |
| Version: 1.20.0 |
| Command: /Library/Frameworks/R.framework/Resources/bin/R CMD check --install=check:ReactomeGSA.install-out.txt --library=/Library/Frameworks/R.framework/Resources/library --no-vignettes --timings ReactomeGSA_1.20.0.tar.gz |
| StartedAt: 2025-04-02 05:37:23 -0400 (Wed, 02 Apr 2025) |
| EndedAt: 2025-04-02 05:49:48 -0400 (Wed, 02 Apr 2025) |
| EllapsedTime: 745.4 seconds |
| RetCode: 0 |
| Status: OK |
| CheckDir: ReactomeGSA.Rcheck |
| Warnings: 0 |
##############################################################################
##############################################################################
###
### Running command:
###
### /Library/Frameworks/R.framework/Resources/bin/R CMD check --install=check:ReactomeGSA.install-out.txt --library=/Library/Frameworks/R.framework/Resources/library --no-vignettes --timings ReactomeGSA_1.20.0.tar.gz
###
##############################################################################
##############################################################################
* using log directory ‘/Users/biocbuild/bbs-3.20-bioc/meat/ReactomeGSA.Rcheck’
* using R version 4.4.3 (2025-02-28)
* using platform: aarch64-apple-darwin20
* R was compiled by
Apple clang version 14.0.0 (clang-1400.0.29.202)
GNU Fortran (GCC) 12.2.0
* running under: macOS Ventura 13.7.1
* using session charset: UTF-8
* using option ‘--no-vignettes’
* checking for file ‘ReactomeGSA/DESCRIPTION’ ... OK
* checking extension type ... Package
* this is package ‘ReactomeGSA’ version ‘1.20.0’
* package encoding: UTF-8
* checking package namespace information ... OK
* checking package dependencies ... OK
* checking if this is a source package ... OK
* checking if there is a namespace ... OK
* checking for hidden files and directories ... OK
* checking for portable file names ... OK
* checking for sufficient/correct file permissions ... OK
* checking whether package ‘ReactomeGSA’ can be installed ... OK
* checking installed package size ... OK
* checking package directory ... OK
* checking ‘build’ directory ... OK
* checking DESCRIPTION meta-information ... OK
* checking top-level files ... OK
* checking for left-over files ... OK
* checking index information ... OK
* checking package subdirectories ... OK
* checking code files for non-ASCII characters ... OK
* checking R files for syntax errors ... OK
* checking whether the package can be loaded ... OK
* checking whether the package can be loaded with stated dependencies ... OK
* checking whether the package can be unloaded cleanly ... OK
* checking whether the namespace can be loaded with stated dependencies ... OK
* checking whether the namespace can be unloaded cleanly ... OK
* checking whether startup messages can be suppressed ... OK
* checking dependencies in R code ... OK
* checking S3 generic/method consistency ... OK
* checking replacement functions ... OK
* checking foreign function calls ... OK
* checking R code for possible problems ... NOTE
plot_correlations,ReactomeAnalysisResult: no visible binding for global
variable ‘combined_sig’
plot_correlations,ReactomeAnalysisResult: no visible binding for global
variable ‘alpha’
plot_gsva_pathway,ReactomeAnalysisResult: no visible binding for global
variable ‘cluster_id’
plot_gsva_pathway,ReactomeAnalysisResult: no visible binding for global
variable ‘expr’
plot_gsva_pca,ReactomeAnalysisResult: no visible binding for global
variable ‘gsva_result’
plot_gsva_pca,ReactomeAnalysisResult: no visible binding for global
variable ‘PC1’
plot_gsva_pca,ReactomeAnalysisResult: no visible binding for global
variable ‘PC2’
plot_heatmap,ReactomeAnalysisResult: no visible global function
definition for ‘desc’
plot_heatmap,ReactomeAnalysisResult: no visible binding for global
variable ‘n_sig’
plot_heatmap,ReactomeAnalysisResult: no visible binding for global
variable ‘dataset’
plot_heatmap,ReactomeAnalysisResult: no visible binding for global
variable ‘Name’
plot_volcano,ReactomeAnalysisResult: no visible binding for global
variable ‘av_foldchange’
plot_volcano,ReactomeAnalysisResult: no visible binding for global
variable ‘FDR’
Undefined global functions or variables:
FDR Name PC1 PC2 alpha av_foldchange cluster_id combined_sig dataset
desc expr gsva_result n_sig
* checking Rd files ... OK
* checking Rd metadata ... OK
* checking Rd cross-references ... OK
* checking for missing documentation entries ... OK
* checking for code/documentation mismatches ... OK
* checking Rd \usage sections ... OK
* checking Rd contents ... OK
* checking for unstated dependencies in examples ... OK
* checking files in ‘vignettes’ ... OK
* checking examples ... OK
Examples with CPU (user + system) or elapsed time > 5s
user system elapsed
analyse_sc_clusters-Seurat-method 30.841 1.818 64.684
analyse_sc_clusters-SingleCellExperiment-method 29.782 2.440 100.896
plot_gsva_heatmap 29.785 2.253 62.083
plot_gsva_heatmap-ReactomeAnalysisResult-method 29.421 2.010 62.850
plot_gsva_pathway-ReactomeAnalysisResult-method 28.670 2.143 63.854
plot_gsva_pathway 28.663 1.858 61.105
analyse_sc_clusters 28.343 2.123 103.688
plot_gsva_pca-ReactomeAnalysisResult-method 28.221 1.859 61.773
plot_gsva_pca 26.645 1.809 60.042
ReactomeAnalysisRequest 5.454 0.315 5.782
perform_reactome_analysis 2.227 0.211 15.543
* checking for unstated dependencies in ‘tests’ ... OK
* checking tests ...
Running ‘testthat.R’
OK
* checking for unstated dependencies in vignettes ... OK
* checking package vignettes ... OK
* checking running R code from vignettes ... SKIPPED
* checking re-building of vignette outputs ... SKIPPED
* checking PDF version of manual ... OK
* DONE
Status: 1 NOTE
See
‘/Users/biocbuild/bbs-3.20-bioc/meat/ReactomeGSA.Rcheck/00check.log’
for details.
ReactomeGSA.Rcheck/00install.out
############################################################################## ############################################################################## ### ### Running command: ### ### /Library/Frameworks/R.framework/Resources/bin/R CMD INSTALL ReactomeGSA ### ############################################################################## ############################################################################## * installing to library ‘/Library/Frameworks/R.framework/Versions/4.4-arm64/Resources/library’ * installing *source* package ‘ReactomeGSA’ ... ** using staged installation ** R ** inst ** byte-compile and prepare package for lazy loading in method for ‘analyse_sc_clusters’ with signature ‘object="Seurat"’: no definition for class “Seurat” in method for ‘analyse_sc_clusters’ with signature ‘object="SingleCellExperiment"’: no definition for class “SingleCellExperiment” in method for ‘add_dataset’ with signature ‘request="ReactomeAnalysisRequest",expression_values="EList"’: no definition for class “EList” in method for ‘add_dataset’ with signature ‘request="ReactomeAnalysisRequest",expression_values="DGEList"’: no definition for class “DGEList” ** help *** installing help indices ** building package indices ** installing vignettes ** testing if installed package can be loaded from temporary location ** testing if installed package can be loaded from final location ** testing if installed package keeps a record of temporary installation path * DONE (ReactomeGSA)
ReactomeGSA.Rcheck/tests/testthat.Rout
R version 4.4.3 (2025-02-28) -- "Trophy Case"
Copyright (C) 2025 The R Foundation for Statistical Computing
Platform: aarch64-apple-darwin20
R is free software and comes with ABSOLUTELY NO WARRANTY.
You are welcome to redistribute it under certain conditions.
Type 'license()' or 'licence()' for distribution details.
R is a collaborative project with many contributors.
Type 'contributors()' for more information and
'citation()' on how to cite R or R packages in publications.
Type 'demo()' for some demos, 'help()' for on-line help, or
'help.start()' for an HTML browser interface to help.
Type 'q()' to quit R.
> library(testthat)
> library(ReactomeGSA)
>
> test_check("ReactomeGSA")
[ FAIL 0 | WARN 0 | SKIP 0 | PASS 17 ]
>
> proc.time()
user system elapsed
1.752 0.148 1.884
ReactomeGSA.Rcheck/ReactomeGSA-Ex.timings
| name | user | system | elapsed | |
| ReactomeAnalysisRequest | 5.454 | 0.315 | 5.782 | |
| ReactomeAnalysisResult-class | 1.372 | 0.017 | 1.392 | |
| add_dataset-ReactomeAnalysisRequest-DGEList-method | 0.947 | 0.053 | 1.002 | |
| add_dataset-ReactomeAnalysisRequest-EList-method | 0.839 | 0.082 | 0.940 | |
| add_dataset-ReactomeAnalysisRequest-ExpressionSet-method | 0.850 | 0.082 | 0.946 | |
| add_dataset-ReactomeAnalysisRequest-data.frame-method | 1.236 | 0.095 | 1.353 | |
| add_dataset-ReactomeAnalysisRequest-matrix-method | 0.777 | 0.097 | 0.889 | |
| add_dataset | 0.706 | 0.079 | 0.801 | |
| analyse_sc_clusters-Seurat-method | 30.841 | 1.818 | 64.684 | |
| analyse_sc_clusters-SingleCellExperiment-method | 29.782 | 2.440 | 100.896 | |
| analyse_sc_clusters | 28.343 | 2.123 | 103.688 | |
| find_public_datasets | 0.107 | 0.018 | 3.126 | |
| get_public_species | 0.032 | 0.003 | 0.170 | |
| get_reactome_data_types | 0.065 | 0.009 | 0.333 | |
| get_reactome_methods | 0.103 | 0.013 | 0.756 | |
| get_result-ReactomeAnalysisResult-method | 0.261 | 0.012 | 0.272 | |
| get_result | 0.256 | 0.013 | 0.268 | |
| load_public_dataset | 0.852 | 0.071 | 3.422 | |
| names-ReactomeAnalysisResult-method | 0.917 | 0.163 | 1.080 | |
| open_reactome-ReactomeAnalysisResult-method | 0.240 | 0.011 | 0.250 | |
| open_reactome | 0.243 | 0.012 | 0.254 | |
| pathways-ReactomeAnalysisResult-method | 1.408 | 0.027 | 1.437 | |
| pathways | 1.361 | 0.020 | 1.383 | |
| perform_reactome_analysis | 2.227 | 0.211 | 15.543 | |
| plot_correlations-ReactomeAnalysisResult-method | 1.449 | 0.032 | 1.508 | |
| plot_correlations | 1.523 | 0.051 | 1.595 | |
| plot_gsva_heatmap-ReactomeAnalysisResult-method | 29.421 | 2.010 | 62.850 | |
| plot_gsva_heatmap | 29.785 | 2.253 | 62.083 | |
| plot_gsva_pathway-ReactomeAnalysisResult-method | 28.670 | 2.143 | 63.854 | |
| plot_gsva_pathway | 28.663 | 1.858 | 61.105 | |
| plot_gsva_pca-ReactomeAnalysisResult-method | 28.221 | 1.859 | 61.773 | |
| plot_gsva_pca | 26.645 | 1.809 | 60.042 | |
| plot_heatmap-ReactomeAnalysisResult-method | 1.741 | 0.053 | 1.797 | |
| plot_heatmap | 2.231 | 0.127 | 2.364 | |
| plot_volcano-ReactomeAnalysisResult-method | 0.171 | 0.009 | 0.182 | |
| plot_volcano | 0.184 | 0.011 | 0.195 | |
| print-ReactomeAnalysisRequest-method | 0.001 | 0.001 | 0.002 | |
| print-ReactomeAnalysisResult-method | 0.135 | 0.009 | 0.145 | |
| reactome_links-ReactomeAnalysisResult-method | 0.141 | 0.009 | 0.150 | |
| reactome_links | 0.225 | 0.011 | 0.236 | |
| result_types-ReactomeAnalysisResult-method | 0.258 | 0.011 | 0.270 | |
| result_types | 0.245 | 0.011 | 0.256 | |
| set_method-ReactomeAnalysisRequest-method | 0.002 | 0.002 | 0.005 | |
| set_method | 0.002 | 0.001 | 0.003 | |
| set_parameters-ReactomeAnalysisRequest-method | 0.001 | 0.000 | 0.001 | |
| set_parameters | 0.001 | 0.001 | 0.001 | |
| show-ReactomeAnalysisRequest-method | 0.001 | 0.000 | 0.002 | |
| show-ReactomeAnalysisResult-method | 0.243 | 0.012 | 0.257 | |