| Back to Multiple platform build/check report for BioC 3.20: simplified long |
|
This page was generated on 2025-04-02 19:36 -0400 (Wed, 02 Apr 2025).
| Hostname | OS | Arch (*) | R version | Installed pkgs |
|---|---|---|---|---|
| nebbiolo2 | Linux (Ubuntu 24.04.1 LTS) | x86_64 | 4.4.3 (2025-02-28) -- "Trophy Case" | 4764 |
| palomino8 | Windows Server 2022 Datacenter | x64 | 4.4.3 (2025-02-28 ucrt) -- "Trophy Case" | 4495 |
| merida1 | macOS 12.7.5 Monterey | x86_64 | 4.4.3 (2025-02-28) -- "Trophy Case" | 4522 |
| kjohnson1 | macOS 13.6.6 Ventura | arm64 | 4.4.3 (2025-02-28) -- "Trophy Case" | 4449 |
| taishan | Linux (openEuler 24.03 LTS) | aarch64 | 4.4.3 (2025-02-28) -- "Trophy Case" | 4426 |
| Click on any hostname to see more info about the system (e.g. compilers) (*) as reported by 'uname -p', except on Windows and Mac OS X | ||||
| Package 1698/2289 | Hostname | OS / Arch | INSTALL | BUILD | CHECK | BUILD BIN | ||||||||
| ReactomeGSA 1.20.0 (landing page) Johannes Griss
| nebbiolo2 | Linux (Ubuntu 24.04.1 LTS) / x86_64 | OK | OK | OK | |||||||||
| palomino8 | Windows Server 2022 Datacenter / x64 | OK | OK | OK | OK | |||||||||
| merida1 | macOS 12.7.5 Monterey / x86_64 | OK | OK | OK | OK | |||||||||
| kjohnson1 | macOS 13.6.6 Ventura / arm64 | OK | OK | OK | OK | |||||||||
| taishan | Linux (openEuler 24.03 LTS) / aarch64 | OK | OK | OK | ||||||||||
|
To the developers/maintainers of the ReactomeGSA package: - Allow up to 24 hours (and sometimes 48 hours) for your latest push to git@git.bioconductor.org:packages/ReactomeGSA.git to reflect on this report. See Troubleshooting Build Report for more information. - Use the following Renviron settings to reproduce errors and warnings. - If 'R CMD check' started to fail recently on the Linux builder(s) over a missing dependency, add the missing dependency to 'Suggests:' in your DESCRIPTION file. See Renviron.bioc for more information. - See Martin Grigorov's blog post for how to debug Linux ARM64 related issues on a x86_64 host. |
| Package: ReactomeGSA |
| Version: 1.20.0 |
| Command: /home/biocbuild/R/R/bin/R CMD check --install=check:ReactomeGSA.install-out.txt --library=/home/biocbuild/R/R/site-library --no-vignettes --timings ReactomeGSA_1.20.0.tar.gz |
| StartedAt: 2025-04-01 09:50:44 -0000 (Tue, 01 Apr 2025) |
| EndedAt: 2025-04-01 10:07:28 -0000 (Tue, 01 Apr 2025) |
| EllapsedTime: 1004.2 seconds |
| RetCode: 0 |
| Status: OK |
| CheckDir: ReactomeGSA.Rcheck |
| Warnings: 0 |
##############################################################################
##############################################################################
###
### Running command:
###
### /home/biocbuild/R/R/bin/R CMD check --install=check:ReactomeGSA.install-out.txt --library=/home/biocbuild/R/R/site-library --no-vignettes --timings ReactomeGSA_1.20.0.tar.gz
###
##############################################################################
##############################################################################
* using log directory ‘/home/biocbuild/bbs-3.20-bioc/meat/ReactomeGSA.Rcheck’
* using R version 4.4.3 (2025-02-28)
* using platform: aarch64-unknown-linux-gnu
* R was compiled by
aarch64-unknown-linux-gnu-gcc (GCC) 14.2.0
GNU Fortran (GCC) 14.2.0
* running under: openEuler 24.03 (LTS)
* using session charset: UTF-8
* using option ‘--no-vignettes’
* checking for file ‘ReactomeGSA/DESCRIPTION’ ... OK
* checking extension type ... Package
* this is package ‘ReactomeGSA’ version ‘1.20.0’
* package encoding: UTF-8
* checking package namespace information ... OK
* checking package dependencies ... OK
* checking if this is a source package ... OK
* checking if there is a namespace ... OK
* checking for hidden files and directories ... OK
* checking for portable file names ... OK
* checking for sufficient/correct file permissions ... OK
* checking whether package ‘ReactomeGSA’ can be installed ... OK
* checking installed package size ... OK
* checking package directory ... OK
* checking ‘build’ directory ... OK
* checking DESCRIPTION meta-information ... OK
* checking top-level files ... OK
* checking for left-over files ... OK
* checking index information ... OK
* checking package subdirectories ... OK
* checking code files for non-ASCII characters ... OK
* checking R files for syntax errors ... OK
* checking whether the package can be loaded ... OK
* checking whether the package can be loaded with stated dependencies ... OK
* checking whether the package can be unloaded cleanly ... OK
* checking whether the namespace can be loaded with stated dependencies ... OK
* checking whether the namespace can be unloaded cleanly ... OK
* checking loading without being on the library search path ... OK
* checking whether startup messages can be suppressed ... OK
* checking dependencies in R code ... OK
* checking S3 generic/method consistency ... OK
* checking replacement functions ... OK
* checking foreign function calls ... OK
* checking R code for possible problems ... NOTE
plot_correlations,ReactomeAnalysisResult: no visible binding for global
variable ‘combined_sig’
plot_correlations,ReactomeAnalysisResult: no visible binding for global
variable ‘alpha’
plot_gsva_pathway,ReactomeAnalysisResult: no visible binding for global
variable ‘cluster_id’
plot_gsva_pathway,ReactomeAnalysisResult: no visible binding for global
variable ‘expr’
plot_gsva_pca,ReactomeAnalysisResult: no visible binding for global
variable ‘gsva_result’
plot_gsva_pca,ReactomeAnalysisResult: no visible binding for global
variable ‘PC1’
plot_gsva_pca,ReactomeAnalysisResult: no visible binding for global
variable ‘PC2’
plot_heatmap,ReactomeAnalysisResult: no visible global function
definition for ‘desc’
plot_heatmap,ReactomeAnalysisResult: no visible binding for global
variable ‘n_sig’
plot_heatmap,ReactomeAnalysisResult: no visible binding for global
variable ‘dataset’
plot_heatmap,ReactomeAnalysisResult: no visible binding for global
variable ‘Name’
plot_volcano,ReactomeAnalysisResult: no visible binding for global
variable ‘av_foldchange’
plot_volcano,ReactomeAnalysisResult: no visible binding for global
variable ‘FDR’
Undefined global functions or variables:
FDR Name PC1 PC2 alpha av_foldchange cluster_id combined_sig dataset
desc expr gsva_result n_sig
* checking Rd files ... OK
* checking Rd metadata ... OK
* checking Rd cross-references ... OK
* checking for missing documentation entries ... OK
* checking for code/documentation mismatches ... OK
* checking Rd \usage sections ... OK
* checking Rd contents ... OK
* checking for unstated dependencies in examples ... OK
* checking files in ‘vignettes’ ... OK
* checking examples ... OK
Examples with CPU (user + system) or elapsed time > 5s
user system elapsed
plot_gsva_heatmap 52.665 0.972 89.922
plot_gsva_heatmap-ReactomeAnalysisResult-method 52.056 0.993 88.736
analyse_sc_clusters 51.390 1.332 129.693
plot_gsva_pathway-ReactomeAnalysisResult-method 51.558 1.152 88.800
plot_gsva_pca 51.284 1.378 89.486
analyse_sc_clusters-SingleCellExperiment-method 51.276 1.114 91.034
analyse_sc_clusters-Seurat-method 50.411 1.171 90.425
plot_gsva_pca-ReactomeAnalysisResult-method 50.051 0.811 121.807
plot_gsva_pathway 49.357 0.996 85.944
ReactomeAnalysisRequest 6.554 0.440 7.015
perform_reactome_analysis 3.485 0.303 20.713
load_public_dataset 1.217 0.224 11.454
find_public_datasets 0.243 0.036 5.722
* checking for unstated dependencies in ‘tests’ ... OK
* checking tests ...
Running ‘testthat.R’
OK
* checking for unstated dependencies in vignettes ... OK
* checking package vignettes ... OK
* checking running R code from vignettes ... SKIPPED
* checking re-building of vignette outputs ... SKIPPED
* checking PDF version of manual ... OK
* DONE
Status: 1 NOTE
See
‘/home/biocbuild/bbs-3.20-bioc/meat/ReactomeGSA.Rcheck/00check.log’
for details.
ReactomeGSA.Rcheck/00install.out
############################################################################## ############################################################################## ### ### Running command: ### ### /home/biocbuild/R/R/bin/R CMD INSTALL ReactomeGSA ### ############################################################################## ############################################################################## * installing to library ‘/home/biocbuild/R/R-4.4.3/site-library’ * installing *source* package ‘ReactomeGSA’ ... ** using staged installation ** R ** inst ** byte-compile and prepare package for lazy loading in method for ‘analyse_sc_clusters’ with signature ‘object="Seurat"’: no definition for class “Seurat” in method for ‘analyse_sc_clusters’ with signature ‘object="SingleCellExperiment"’: no definition for class “SingleCellExperiment” in method for ‘add_dataset’ with signature ‘request="ReactomeAnalysisRequest",expression_values="EList"’: no definition for class “EList” in method for ‘add_dataset’ with signature ‘request="ReactomeAnalysisRequest",expression_values="DGEList"’: no definition for class “DGEList” ** help *** installing help indices ** building package indices ** installing vignettes ** testing if installed package can be loaded from temporary location ** testing if installed package can be loaded from final location ** testing if installed package keeps a record of temporary installation path * DONE (ReactomeGSA)
ReactomeGSA.Rcheck/tests/testthat.Rout
R version 4.4.3 (2025-02-28) -- "Trophy Case"
Copyright (C) 2025 The R Foundation for Statistical Computing
Platform: aarch64-unknown-linux-gnu
R is free software and comes with ABSOLUTELY NO WARRANTY.
You are welcome to redistribute it under certain conditions.
Type 'license()' or 'licence()' for distribution details.
R is a collaborative project with many contributors.
Type 'contributors()' for more information and
'citation()' on how to cite R or R packages in publications.
Type 'demo()' for some demos, 'help()' for on-line help, or
'help.start()' for an HTML browser interface to help.
Type 'q()' to quit R.
> library(testthat)
> library(ReactomeGSA)
>
> test_check("ReactomeGSA")
[ FAIL 0 | WARN 0 | SKIP 0 | PASS 17 ]
>
> proc.time()
user system elapsed
1.869 0.096 1.956
ReactomeGSA.Rcheck/ReactomeGSA-Ex.timings
| name | user | system | elapsed | |
| ReactomeAnalysisRequest | 6.554 | 0.440 | 7.015 | |
| ReactomeAnalysisResult-class | 2.060 | 0.071 | 2.139 | |
| add_dataset-ReactomeAnalysisRequest-DGEList-method | 1.031 | 0.012 | 1.045 | |
| add_dataset-ReactomeAnalysisRequest-EList-method | 1.045 | 0.024 | 1.071 | |
| add_dataset-ReactomeAnalysisRequest-ExpressionSet-method | 1.396 | 0.132 | 1.530 | |
| add_dataset-ReactomeAnalysisRequest-data.frame-method | 1.009 | 0.004 | 1.015 | |
| add_dataset-ReactomeAnalysisRequest-matrix-method | 0.997 | 0.020 | 1.019 | |
| add_dataset | 0.970 | 0.004 | 0.976 | |
| analyse_sc_clusters-Seurat-method | 50.411 | 1.171 | 90.425 | |
| analyse_sc_clusters-SingleCellExperiment-method | 51.276 | 1.114 | 91.034 | |
| analyse_sc_clusters | 51.390 | 1.332 | 129.693 | |
| find_public_datasets | 0.243 | 0.036 | 5.722 | |
| get_public_species | 0.074 | 0.004 | 1.593 | |
| get_reactome_data_types | 0.139 | 0.016 | 2.638 | |
| get_reactome_methods | 0.233 | 0.024 | 3.488 | |
| get_result-ReactomeAnalysisResult-method | 0.224 | 0.016 | 0.241 | |
| get_result | 0.212 | 0.019 | 0.232 | |
| load_public_dataset | 1.217 | 0.224 | 11.454 | |
| names-ReactomeAnalysisResult-method | 0.220 | 0.028 | 0.249 | |
| open_reactome-ReactomeAnalysisResult-method | 0.207 | 0.012 | 0.219 | |
| open_reactome | 0.214 | 0.012 | 0.227 | |
| pathways-ReactomeAnalysisResult-method | 2.538 | 0.191 | 2.736 | |
| pathways | 1.858 | 0.056 | 1.919 | |
| perform_reactome_analysis | 3.485 | 0.303 | 20.713 | |
| plot_correlations-ReactomeAnalysisResult-method | 1.988 | 0.115 | 2.109 | |
| plot_correlations | 1.911 | 0.048 | 1.963 | |
| plot_gsva_heatmap-ReactomeAnalysisResult-method | 52.056 | 0.993 | 88.736 | |
| plot_gsva_heatmap | 52.665 | 0.972 | 89.922 | |
| plot_gsva_pathway-ReactomeAnalysisResult-method | 51.558 | 1.152 | 88.800 | |
| plot_gsva_pathway | 49.357 | 0.996 | 85.944 | |
| plot_gsva_pca-ReactomeAnalysisResult-method | 50.051 | 0.811 | 121.807 | |
| plot_gsva_pca | 51.284 | 1.378 | 89.486 | |
| plot_heatmap-ReactomeAnalysisResult-method | 2.382 | 0.100 | 2.488 | |
| plot_heatmap | 2.555 | 0.019 | 2.580 | |
| plot_volcano-ReactomeAnalysisResult-method | 0.241 | 0.008 | 0.250 | |
| plot_volcano | 0.316 | 0.001 | 0.316 | |
| print-ReactomeAnalysisRequest-method | 0.002 | 0.000 | 0.002 | |
| print-ReactomeAnalysisResult-method | 0.221 | 0.003 | 0.229 | |
| reactome_links-ReactomeAnalysisResult-method | 0.225 | 0.003 | 0.230 | |
| reactome_links | 0.218 | 0.008 | 0.227 | |
| result_types-ReactomeAnalysisResult-method | 0.22 | 0.00 | 0.22 | |
| result_types | 0.226 | 0.000 | 0.226 | |
| set_method-ReactomeAnalysisRequest-method | 0.001 | 0.000 | 0.002 | |
| set_method | 0.002 | 0.000 | 0.001 | |
| set_parameters-ReactomeAnalysisRequest-method | 0.002 | 0.000 | 0.002 | |
| set_parameters | 0.000 | 0.001 | 0.002 | |
| show-ReactomeAnalysisRequest-method | 0.000 | 0.001 | 0.001 | |
| show-ReactomeAnalysisResult-method | 0.216 | 0.008 | 0.224 | |