Back to Multiple platform build/check report for BioC 3.21: simplified long |
|
This page was generated on 2025-04-22 13:16 -0400 (Tue, 22 Apr 2025).
Hostname | OS | Arch (*) | R version | Installed pkgs |
---|---|---|---|---|
nebbiolo1 | Linux (Ubuntu 24.04.1 LTS) | x86_64 | 4.5.0 RC (2025-04-04 r88126) -- "How About a Twenty-Six" | 4831 |
palomino7 | Windows Server 2022 Datacenter | x64 | 4.5.0 RC (2025-04-04 r88126 ucrt) -- "How About a Twenty-Six" | 4573 |
lconway | macOS 12.7.1 Monterey | x86_64 | 4.5.0 RC (2025-04-04 r88126) -- "How About a Twenty-Six" | 4599 |
kjohnson3 | macOS 13.7.1 Ventura | arm64 | 4.5.0 RC (2025-04-04 r88126) -- "How About a Twenty-Six" | 4553 |
kunpeng2 | Linux (openEuler 24.03 LTS) | aarch64 | R Under development (unstable) (2025-02-19 r87757) -- "Unsuffered Consequences" | 4570 |
Click on any hostname to see more info about the system (e.g. compilers) (*) as reported by 'uname -p', except on Windows and Mac OS X |
Package 1361/2341 | Hostname | OS / Arch | INSTALL | BUILD | CHECK | BUILD BIN | ||||||||
MsBackendRawFileReader 1.14.0 (landing page) Christian Panse
| nebbiolo1 | Linux (Ubuntu 24.04.1 LTS) / x86_64 | OK | OK | OK | ![]() | ||||||||
palomino7 | Windows Server 2022 Datacenter / x64 | OK | OK | OK | OK | ![]() | ||||||||
lconway | macOS 12.7.1 Monterey / x86_64 | OK | OK | OK | OK | ![]() | ||||||||
kjohnson3 | macOS 13.7.1 Ventura / arm64 | OK | OK | OK | OK | ![]() | ||||||||
kunpeng2 | Linux (openEuler 24.03 LTS) / aarch64 | OK | ERROR | skipped | ||||||||||
To the developers/maintainers of the MsBackendRawFileReader package: - Allow up to 24 hours (and sometimes 48 hours) for your latest push to git@git.bioconductor.org:packages/MsBackendRawFileReader.git to reflect on this report. See Troubleshooting Build Report for more information. - Use the following Renviron settings to reproduce errors and warnings. - If 'R CMD check' started to fail recently on the Linux builder(s) over a missing dependency, add the missing dependency to 'Suggests:' in your DESCRIPTION file. See Renviron.bioc for more information. |
Package: MsBackendRawFileReader |
Version: 1.14.0 |
Command: /Library/Frameworks/R.framework/Resources/bin/R CMD check --install=check:MsBackendRawFileReader.install-out.txt --library=/Library/Frameworks/R.framework/Resources/library --no-vignettes --timings MsBackendRawFileReader_1.14.0.tar.gz |
StartedAt: 2025-04-21 22:04:31 -0400 (Mon, 21 Apr 2025) |
EndedAt: 2025-04-21 22:08:18 -0400 (Mon, 21 Apr 2025) |
EllapsedTime: 226.7 seconds |
RetCode: 0 |
Status: OK |
CheckDir: MsBackendRawFileReader.Rcheck |
Warnings: 0 |
############################################################################## ############################################################################## ### ### Running command: ### ### /Library/Frameworks/R.framework/Resources/bin/R CMD check --install=check:MsBackendRawFileReader.install-out.txt --library=/Library/Frameworks/R.framework/Resources/library --no-vignettes --timings MsBackendRawFileReader_1.14.0.tar.gz ### ############################################################################## ############################################################################## * using log directory ‘/Users/biocbuild/bbs-3.21-bioc/meat/MsBackendRawFileReader.Rcheck’ * using R version 4.5.0 RC (2025-04-04 r88126) * using platform: x86_64-apple-darwin20 * R was compiled by Apple clang version 14.0.0 (clang-1400.0.29.202) GNU Fortran (GCC) 14.2.0 * running under: macOS Monterey 12.7.6 * using session charset: UTF-8 * using option ‘--no-vignettes’ * checking for file ‘MsBackendRawFileReader/DESCRIPTION’ ... OK * checking extension type ... Package * this is package ‘MsBackendRawFileReader’ version ‘1.14.0’ * package encoding: UTF-8 * checking package namespace information ... OK * checking package dependencies ... OK * checking if this is a source package ... OK * checking if there is a namespace ... OK * checking for hidden files and directories ... OK * checking for portable file names ... OK * checking for sufficient/correct file permissions ... OK * checking whether package ‘MsBackendRawFileReader’ can be installed ... OK * checking installed package size ... OK * checking package directory ... OK * checking ‘build’ directory ... OK * checking DESCRIPTION meta-information ... OK * checking top-level files ... OK * checking for left-over files ... OK * checking index information ... OK * checking package subdirectories ... OK * checking code files for non-ASCII characters ... OK * checking R files for syntax errors ... OK * checking whether the package can be loaded ... OK * checking whether the package can be loaded with stated dependencies ... OK * checking whether the package can be unloaded cleanly ... OK * checking whether the namespace can be loaded with stated dependencies ... OK * checking whether the namespace can be unloaded cleanly ... OK * checking whether startup messages can be suppressed ... OK * checking dependencies in R code ... OK * checking S3 generic/method consistency ... OK * checking replacement functions ... OK * checking foreign function calls ... OK * checking R code for possible problems ... OK * checking Rd files ... OK * checking Rd metadata ... OK * checking Rd cross-references ... OK * checking for missing documentation entries ... OK * checking for code/documentation mismatches ... OK * checking Rd \usage sections ... OK * checking Rd contents ... OK * checking for unstated dependencies in examples ... OK * checking files in ‘vignettes’ ... OK * checking examples ... OK Examples with CPU (user + system) or elapsed time > 5s user system elapsed ioBenchmark 29.921 11.047 19.022 MsBackendRawFileReader 8.021 2.967 11.363 MsBackendRawFileReader-class 3.609 1.071 5.083 * checking for unstated dependencies in ‘tests’ ... OK * checking tests ... Running ‘testthat.R’ OK * checking for unstated dependencies in vignettes ... OK * checking package vignettes ... OK * checking running R code from vignettes ... SKIPPED * checking re-building of vignette outputs ... SKIPPED * checking PDF version of manual ... OK * DONE Status: OK
MsBackendRawFileReader.Rcheck/00install.out
############################################################################## ############################################################################## ### ### Running command: ### ### /Library/Frameworks/R.framework/Resources/bin/R CMD INSTALL MsBackendRawFileReader ### ############################################################################## ############################################################################## * installing to library ‘/Library/Frameworks/R.framework/Versions/4.5-x86_64/Resources/library’ * installing *source* package ‘MsBackendRawFileReader’ ... ** this is package ‘MsBackendRawFileReader’ version ‘1.14.0’ ** using staged installation ** R ** inst ** byte-compile and prepare package for lazy loading ** help *** installing help indices ** building package indices ** installing vignettes ** testing if installed package can be loaded from temporary location ** testing if installed package can be loaded from final location ** testing if installed package keeps a record of temporary installation path * DONE (MsBackendRawFileReader)
MsBackendRawFileReader.Rcheck/tests/testthat.Rout
R version 4.5.0 RC (2025-04-04 r88126) -- "How About a Twenty-Six" Copyright (C) 2025 The R Foundation for Statistical Computing Platform: x86_64-apple-darwin20 R is free software and comes with ABSOLUTELY NO WARRANTY. You are welcome to redistribute it under certain conditions. Type 'license()' or 'licence()' for distribution details. R is a collaborative project with many contributors. Type 'contributors()' for more information and 'citation()' on how to cite R or R packages in publications. Type 'demo()' for some demos, 'help()' for on-line help, or 'help.start()' for an HTML browser interface to help. Type 'q()' to quit R. > library("testthat") > library("MsBackendRawFileReader") Loading required package: Spectra Loading required package: S4Vectors Loading required package: stats4 Loading required package: BiocGenerics Loading required package: generics Attaching package: 'generics' The following objects are masked from 'package:base': as.difftime, as.factor, as.ordered, intersect, is.element, setdiff, setequal, union Attaching package: 'BiocGenerics' The following objects are masked from 'package:stats': IQR, mad, sd, var, xtabs The following objects are masked from 'package:base': Filter, Find, Map, Position, Reduce, anyDuplicated, aperm, append, as.data.frame, basename, cbind, colnames, dirname, do.call, duplicated, eval, evalq, get, grep, grepl, is.unsorted, lapply, mapply, match, mget, order, paste, pmax, pmax.int, pmin, pmin.int, rank, rbind, rownames, sapply, saveRDS, table, tapply, unique, unsplit, which.max, which.min Attaching package: 'S4Vectors' The following object is masked from 'package:utils': findMatches The following objects are masked from 'package:base': I, expand.grid, unname Loading required package: BiocParallel > library("Spectra") > > > sample_raw_file <- file.path(system.file(package = "rawrr"), + 'extdata', 'sample.raw') > > sample_mzXML_file <- file.path(path.package(package = 'MsBackendRawFileReader'), + 'extdata', 'sample.mzXML') > > > sample_raw <- backendInitialize(MsBackendRawFileReader::MsBackendRawFileReader(), files = sample_raw_file) > > > #sample_mzr <- backendInitialize(MsBackendMzR(), files = sample_mzXML_file) > > > mgf_file <- file.path(system.file(package = "MsBackendRawFileReader"), + 'extdata', '3159619b11ed_4590_9594.mgf') > > > rv <- lapply(1:2, function(x){ + file.copy(from = sample_raw_file, to = tempfile(fileext='.raw'))}) > > > register(SnowParam(workers = 1, type = "SOCK") , default = TRUE); > sample_raw_2 <- backendInitialize(MsBackendRawFileReader(), + files = file.path(tempdir(), + list.files(path = tempdir(), pattern = 'raw$'))) > > > test_check("MsBackendRawFileReader") [ FAIL 0 | WARN 1 | SKIP 2 | PASS 21 ] ══ Skipped tests (2) ═══════════════════════════════════════════════════════════ • isFALSE(file.exists(sample_mzXML_file)) is TRUE (1): 'test_MsBackendMzR_MsBackendRawFileReader.R:1:1' • isFALSE(require(MsBackendRawMgf)) is TRUE (1): 'test_top_n_mgf.R:1:1' [ FAIL 0 | WARN 1 | SKIP 2 | PASS 21 ] > > > be <- Spectra::backendInitialize(MsBackendRawFileReader::MsBackendRawFileReader(), + files = c(sample_raw_file)) > > ## Run the MsBackend spectra variable test suite > > test_suite <- system.file("test_backends", "test_MsBackend", + package = "Spectra") > > #res <- test_file(paste0(test_suite, "/test_spectra_variables.R"), > # reporter = check_reporter(), stop_on_failure = TRUE) > > > ## Run the whole suite. > res <- test_dir(test_suite, stop_on_failure = TRUE) ✔ | F W S OK | Context ⠏ | 0 | peaks_variables ⠙ | 2 | peaks_variables ⠸ | 4 | peaks_variables ✔ | 4 | peaks_variables [4.4s] ⠏ | 0 | spectra_subsetting ⠋ | 1 | spectra_subsetting ⠹ | 13 | spectra_subsetting ⠼ | 25 | spectra_subsetting ⠦ | 37 | spectra_subsetting ⠇ | 49 | spectra_subsetting ⠧ | 58 | spectra_subsetting ⠏ | 70 | spectra_subsetting ⠙ | 82 | spectra_subsetting ⠸ | 94 | spectra_subsetting ⠹ | 103 | spectra_subsetting ⠼ | 115 | spectra_subsetting ⠦ | 127 | spectra_subsetting ⠧ | 138 | spectra_subsetting ⠧ | 148 | spectra_subsetting ⠏ | 160 | spectra_subsetting ⠙ | 172 | spectra_subsetting ⠸ | 184 | spectra_subsetting ⠦ | 197 | spectra_subsetting ⠇ | 209 | spectra_subsetting ⠏ | 220 | spectra_subsetting ⠙ | 232 | spectra_subsetting ⠸ | 244 | spectra_subsetting ⠴ | 256 | spectra_subsetting ⠧ | 268 | spectra_subsetting ⠏ | 280 | spectra_subsetting ⠙ | 292 | spectra_subsetting ⠸ | 304 | spectra_subsetting ⠴ | 316 | spectra_subsetting ⠧ | 328 | spectra_subsetting ⠙ | 342 | spectra_subsetting ⠹ | 353 | spectra_subsetting ⠸ | 364 | spectra_subsetting ⠦ | 377 | spectra_subsetting ⠧ | 388 | spectra_subsetting ⠏ | 400 | spectra_subsetting ⠹ | 413 | spectra_subsetting ⠼ | 425 | spectra_subsetting ⠴ | 436 | spectra_subsetting ⠧ | 448 | spectra_subsetting ⠏ | 460 | spectra_subsetting ⠙ | 472 | spectra_subsetting ⠼ | 485 | spectra_subsetting ⠦ | 497 | spectra_subsetting ⠧ | 508 | spectra_subsetting ⠏ | 520 | spectra_subsetting ⠙ | 532 | spectra_subsetting ⠸ | 544 | spectra_subsetting ⠴ | 556 | spectra_subsetting ⠇ | 569 | spectra_subsetting ⠏ | 580 | spectra_subsetting ⠙ | 592 | spectra_subsetting ⠸ | 604 | spectra_subsetting ⠴ | 616 | spectra_subsetting ⠧ | 628 | spectra_subsetting ⠋ | 641 | spectra_subsetting ⠙ | 652 | spectra_subsetting ⠸ | 664 | spectra_subsetting ⠴ | 676 | spectra_subsetting ⠧ | 688 | spectra_subsetting ⠏ | 700 | spectra_subsetting ⠙ | 712 | spectra_subsetting ⠸ | 724 | spectra_subsetting ⠴ | 736 | spectra_subsetting ⠋ | 751 | spectra_subsetting ⠹ | 763 | spectra_subsetting ⠼ | 775 | spectra_subsetting ⠦ | 787 | spectra_subsetting ⠇ | 799 | spectra_subsetting ⠋ | 811 | spectra_subsetting ⠹ | 823 | spectra_subsetting ⠼ | 835 | spectra_subsetting ⠧ | 848 | spectra_subsetting ⠙ | 862 | spectra_subsetting ⠸ | 874 | spectra_subsetting ⠇ | 889 | spectra_subsetting ⠋ | 901 | spectra_subsetting ⠹ | 913 | spectra_subsetting ⠼ | 925 | spectra_subsetting ⠦ | 937 | spectra_subsetting ⠦ | 947 | spectra_subsetting ⠇ | 959 | spectra_subsetting ⠏ | 970 | spectra_subsetting ⠏ | 980 | spectra_subsetting ⠋ | 991 | spectra_subsetting ⠹ | 1003 | spectra_subsetting ⠼ | 1015 | spectra_subsetting ⠦ | 1027 | spectra_subsetting ⠇ | 1039 | spectra_subsetting ⠇ | 1049 | spectra_subsetting ⠧ | 1058 | spectra_subsetting ⠇ | 1069 | spectra_subsetting ⠋ | 1081 | spectra_subsetting ⠙ | 1092 | spectra_subsetting ⠙ | 1102 | spectra_subsetting ⠸ | 1114 | spectra_subsetting ⠴ | 1126 | spectra_subsetting ⠧ | 1138 | spectra_subsetting ⠏ | 1150 | spectra_subsetting ⠙ | 1162 | spectra_subsetting ⠸ | 1174 | spectra_subsetting ⠦ | 1187 | spectra_subsetting ⠧ | 1198 | spectra_subsetting ⠏ | 1210 | spectra_subsetting ⠙ | 1222 | spectra_subsetting ⠙ | 1232 | spectra_subsetting ⠹ | 1243 | spectra_subsetting ⠼ | 1255 | spectra_subsetting ⠦ | 1267 | spectra_subsetting ⠦ | 1277 | spectra_subsetting ⠧ | 1288 | spectra_subsetting ⠏ | 1300 | spectra_subsetting ⠋ | 1311 | spectra_subsetting ⠋ | 1321 | spectra_subsetting ⠹ | 1333 | spectra_subsetting ⠼ | 1345 | spectra_subsetting ⠦ | 1357 | spectra_subsetting ⠇ | 1369 | spectra_subsetting ⠋ | 1381 | spectra_subsetting ⠹ | 1393 | spectra_subsetting ⠼ | 1405 | spectra_subsetting ⠼ | 1415 | spectra_subsetting ⠴ | 1426 | spectra_subsetting ⠧ | 1438 | spectra_subsetting ⠏ | 1450 | spectra_subsetting ⠙ | 1462 | spectra_subsetting ⠸ | 1474 | spectra_subsetting ⠴ | 1486 | spectra_subsetting ⠧ | 1498 | spectra_subsetting ⠏ | 1510 | spectra_subsetting ⠙ | 1522 | spectra_subsetting ⠸ | 1534 | spectra_subsetting ⠦ | 1547 | spectra_subsetting ⠧ | 1558 | spectra_subsetting ⠏ | 1570 | spectra_subsetting ⠹ | 1583 | spectra_subsetting ⠸ | 1594 | spectra_subsetting ⠴ | 1606 | spectra_subsetting ⠧ | 1618 | spectra_subsetting ⠏ | 1630 | spectra_subsetting ⠙ | 1642 | spectra_subsetting ⠸ | 1654 | spectra_subsetting ⠴ | 1666 | spectra_subsetting ⠦ | 1677 | spectra_subsetting ⠦ | 1687 | spectra_subsetting ⠇ | 1699 | spectra_subsetting ⠇ | 1709 | spectra_subsetting ⠋ | 1721 | spectra_subsetting ⠦ | 1727 | spectra_subsetting ⠇ | 1729 | spectra_subsetting ⠋ | 1731 | spectra_subsetting ⠹ | 1733 | spectra_subsetting ⠼ | 1735 | spectra_subsetting ⠦ | 1737 | spectra_subsetting ⠇ | 1739 | spectra_subsetting ⠋ | 1741 | spectra_subsetting ⠹ | 1743 | spectra_subsetting ⠼ | 1745 | spectra_subsetting ⠦ | 1747 | spectra_subsetting ⠏ | 1750 | spectra_subsetting ⠙ | 1752 | spectra_subsetting ⠸ | 1754 | spectra_subsetting ⠴ | 1756 | spectra_subsetting ⠧ | 1758 | spectra_subsetting ⠏ | 1760 | spectra_subsetting ⠙ | 1762 | spectra_subsetting ⠸ | 1764 | spectra_subsetting ⠴ | 1766 | spectra_subsetting ⠧ | 1768 | spectra_subsetting ⠏ | 1770 | spectra_subsetting ⠙ | 1772 | spectra_subsetting ⠸ | 1774 | spectra_subsetting ⠴ | 1776 | spectra_subsetting ⠧ | 1778 | spectra_subsetting ⠏ | 1780 | spectra_subsetting ⠙ | 1782 | spectra_subsetting ⠸ | 1784 | spectra_subsetting ⠴ | 1786 | spectra_subsetting ⠧ | 1788 | spectra_subsetting ⠏ | 1790 | spectra_subsetting ⠙ | 1792 | spectra_subsetting ⠸ | 1794 | spectra_subsetting ⠴ | 1796 | spectra_subsetting ⠧ | 1798 | spectra_subsetting ⠏ | 1800 | spectra_subsetting ⠙ | 1802 | spectra_subsetting ⠸ | 1804 | spectra_subsetting ⠴ | 1806 | spectra_subsetting ⠧ | 1808 | spectra_subsetting ⠋ | 1811 | spectra_subsetting ⠹ | 1813 | spectra_subsetting ⠴ | 1816 | spectra_subsetting ⠧ | 1818 | spectra_subsetting ⠏ | 1820 | spectra_subsetting ⠙ | 1822 | spectra_subsetting ⠸ | 1824 | spectra_subsetting ⠴ | 1826 | spectra_subsetting ⠧ | 1828 | spectra_subsetting ⠏ | 1830 | spectra_subsetting ⠙ | 1832 | spectra_subsetting ⠸ | 1834 | spectra_subsetting ⠴ | 1836 | spectra_subsetting ⠧ | 1838 | spectra_subsetting ⠏ | 1840 | spectra_subsetting ⠙ | 1842 | spectra_subsetting ⠸ | 1844 | spectra_subsetting ⠴ | 1846 | spectra_subsetting ⠧ | 1848 | spectra_subsetting ⠏ | 1850 | spectra_subsetting ⠙ | 1852 | spectra_subsetting ⠸ | 1854 | spectra_subsetting ⠴ | 1856 | spectra_subsetting ⠧ | 1858 | spectra_subsetting ⠏ | 1860 | spectra_subsetting ⠙ | 1862 | spectra_subsetting ⠸ | 1864 | spectra_subsetting ⠴ | 1866 | spectra_subsetting ⠧ | 1868 | spectra_subsetting ⠏ | 1870 | spectra_subsetting ⠙ | 1872 | spectra_subsetting ⠸ | 1874 | spectra_subsetting ⠴ | 1876 | spectra_subsetting ⠧ | 1878 | spectra_subsetting ⠏ | 1880 | spectra_subsetting ⠙ | 1882 | spectra_subsetting ⠸ | 1884 | spectra_subsetting ⠦ | 1887 | spectra_subsetting ⠏ | 1890 | spectra_subsetting ⠙ | 1892 | spectra_subsetting ⠸ | 1894 | spectra_subsetting ⠼ | 1895 | spectra_subsetting ⠧ | 1898 | spectra_subsetting ⠏ | 1900 | spectra_subsetting ⠹ | 1903 | spectra_subsetting ⠴ | 1906 | spectra_subsetting ⠇ | 1909 | spectra_subsetting ⠙ | 1912 | spectra_subsetting ⠸ | 1914 | spectra_subsetting ⠦ | 1917 | spectra_subsetting ⠏ | 1920 | spectra_subsetting ⠹ | 1923 | spectra_subsetting ⠴ | 1926 | spectra_subsetting ⠇ | 1929 | spectra_subsetting ⠙ | 1932 | spectra_subsetting ⠼ | 1935 | spectra_subsetting ⠦ | 1937 | spectra_subsetting ⠏ | 1940 | spectra_subsetting ⠙ | 1942 | spectra_subsetting ⠸ | 1944 | spectra_subsetting ⠴ | 1946 | spectra_subsetting ⠧ | 1948 | spectra_subsetting ⠏ | 1950 | spectra_subsetting ⠙ | 1952 | spectra_subsetting ⠸ | 1954 | spectra_subsetting ⠦ | 1957 | spectra_subsetting ⠇ | 1959 | spectra_subsetting ⠋ | 1961 | spectra_subsetting ⠹ | 1963 | spectra_subsetting ⠼ | 1965 | spectra_subsetting ⠦ | 1967 | spectra_subsetting ⠇ | 1969 | spectra_subsetting ⠋ | 1971 | spectra_subsetting ⠹ | 1973 | spectra_subsetting ⠼ | 1975 | spectra_subsetting ⠦ | 1977 | spectra_subsetting ⠏ | 1980 | spectra_subsetting ⠹ | 1983 | spectra_subsetting ⠼ | 1985 | spectra_subsetting ⠦ | 1987 | spectra_subsetting ⠏ | 1990 | spectra_subsetting ⠹ | 1993 | spectra_subsetting ⠼ | 1995 | spectra_subsetting ⠧ | 1998 | spectra_subsetting ⠋ | 2001 | spectra_subsetting ⠸ | 2004 | spectra_subsetting ⠦ | 2007 | spectra_subsetting ⠇ | 2009 | spectra_subsetting ⠋ | 2011 | spectra_subsetting ⠹ | 2013 | spectra_subsetting ⠼ | 2015 | spectra_subsetting ⠧ | 2018 | spectra_subsetting ⠋ | 2021 | spectra_subsetting ⠹ | 2023 | spectra_subsetting ⠼ | 2025 | spectra_subsetting ⠦ | 2027 | spectra_subsetting ⠇ | 2029 | spectra_subsetting ⠋ | 2031 | spectra_subsetting ⠹ | 2033 | spectra_subsetting ⠼ | 2035 | spectra_subsetting ⠦ | 2037 | spectra_subsetting ⠏ | 2040 | spectra_subsetting ⠙ | 2042 | spectra_subsetting ⠸ | 2044 | spectra_subsetting ⠴ | 2046 | spectra_subsetting ⠧ | 2048 | spectra_subsetting ⠏ | 2050 | spectra_subsetting ⠙ | 2052 | spectra_subsetting ⠸ | 2054 | spectra_subsetting ⠴ | 2056 | spectra_subsetting ⠧ | 2058 | spectra_subsetting ⠏ | 2060 | spectra_subsetting ⠙ | 2062 | spectra_subsetting ⠸ | 2064 | spectra_subsetting ⠴ | 2066 | spectra_subsetting ⠧ | 2068 | spectra_subsetting ⠏ | 2070 | spectra_subsetting ⠙ | 2072 | spectra_subsetting ⠼ | 2075 | spectra_subsetting ⠦ | 2077 | spectra_subsetting ⠇ | 2079 | spectra_subsetting ⠋ | 2081 | spectra_subsetting ⠹ | 2083 | spectra_subsetting ⠼ | 2085 | spectra_subsetting ⠧ | 2088 | spectra_subsetting ⠏ | 2090 | spectra_subsetting ⠹ | 2093 | spectra_subsetting ⠼ | 2095 | spectra_subsetting ⠦ | 2097 | spectra_subsetting ⠇ | 2099 | spectra_subsetting ⠋ | 2101 | spectra_subsetting ⠹ | 2103 | spectra_subsetting ⠴ | 2106 | spectra_subsetting ⠧ | 2108 | spectra_subsetting ⠏ | 2110 | spectra_subsetting ⠙ | 2112 | spectra_subsetting ⠸ | 2114 | spectra_subsetting ⠴ | 2116 | spectra_subsetting ⠧ | 2118 | spectra_subsetting ⠏ | 2120 | spectra_subsetting ⠙ | 2122 | spectra_subsetting ⠸ | 2124 | spectra_subsetting ⠴ | 2126 | spectra_subsetting ⠇ | 2129 | spectra_subsetting ⠋ | 2131 | spectra_subsetting ⠹ | 2133 | spectra_subsetting ⠼ | 2135 | spectra_subsetting ⠦ | 2137 | spectra_subsetting ⠏ | 2140 | spectra_subsetting ⠹ | 2143 | spectra_subsetting ⠼ | 2145 | spectra_subsetting ⠦ | 2147 | spectra_subsetting ⠇ | 2149 | spectra_subsetting ⠋ | 2151 | spectra_subsetting ⠹ | 2153 | spectra_subsetting ⠼ | 2155 | spectra_subsetting ⠦ | 2157 | spectra_subsetting ⠇ | 2159 | spectra_subsetting ⠋ | 2161 | spectra_subsetting ⠹ | 2163 | spectra_subsetting ⠴ | 2166 | spectra_subsetting ⠇ | 2169 | spectra_subsetting ⠙ | 2172 | spectra_subsetting ⠸ | 2174 | spectra_subsetting ⠴ | 2176 | spectra_subsetting ⠇ | 2179 | spectra_subsetting ⠋ | 2181 | spectra_subsetting ⠹ | 2183 | spectra_subsetting ⠼ | 2185 | spectra_subsetting ⠧ | 2188 | spectra_subsetting ⠋ | 2191 | spectra_subsetting ⠸ | 2194 | spectra_subsetting ⠦ | 2197 | spectra_subsetting ⠏ | 2200 | spectra_subsetting ⠹ | 2203 | spectra_subsetting ⠼ | 2205 | spectra_subsetting ⠦ | 2207 | spectra_subsetting ⠇ | 2209 | spectra_subsetting ⠙ | 2212 | spectra_subsetting ⠼ | 2215 | spectra_subsetting ⠦ | 2217 | spectra_subsetting ⠇ | 2219 | spectra_subsetting ⠋ | 2221 | spectra_subsetting ⠹ | 2223 | spectra_subsetting ⠴ | 2226 | spectra_subsetting ⠇ | 2229 | spectra_subsetting ⠋ | 2231 | spectra_subsetting ⠸ | 2234 | spectra_subsetting ⠦ | 2237 | spectra_subsetting ⠏ | 2240 | spectra_subsetting ⠹ | 2243 | spectra_subsetting ⠼ | 2245 | spectra_subsetting ⠦ | 2247 | spectra_subsetting ⠇ | 2249 | spectra_subsetting ⠋ | 2251 | spectra_subsetting ⠹ | 2253 | spectra_subsetting ⠼ | 2255 | spectra_subsetting ⠦ | 2257 | spectra_subsetting ⠇ | 2259 | spectra_subsetting ⠋ | 2261 | spectra_subsetting ⠸ | 2264 | spectra_subsetting ⠴ | 2266 | spectra_subsetting ⠧ | 2268 | spectra_subsetting ⠏ | 2270 | spectra_subsetting ⠙ | 2272 | spectra_subsetting ⠸ | 2274 | spectra_subsetting ⠴ | 2276 | spectra_subsetting ⠇ | 2279 | spectra_subsetting ⠙ | 2282 | spectra_subsetting ⠸ | 2284 | spectra_subsetting ⠦ | 2287 | spectra_subsetting ⠇ | 2289 | spectra_subsetting ⠋ | 2291 | spectra_subsetting ⠹ | 2293 | spectra_subsetting ⠴ | 2296 | spectra_subsetting ⠧ | 2298 | spectra_subsetting ⠏ | 2300 | spectra_subsetting ⠼ | 2305 | spectra_subsetting ⠹ | 2313 | spectra_subsetting ⠏ | 2320 | spectra_subsetting ⠦ | 2327 | spectra_subsetting ⠸ | 2334 | spectra_subsetting ✔ | 2342 | spectra_subsetting [48.6s] ⠏ | 0 | spectra_variables ⠙ | 12 | spectra_variables ⠸ | 14 | spectra_variables ⠴ | 16 | spectra_variables ⠙ | 22 | spectra_variables ⠦ | 27 | spectra_variables ⠇ | 29 | spectra_variables ⠋ | 31 | spectra_variables ⠹ | 43 | spectra_variables ⠧ | 48 | spectra_variables ⠦ | 1 56 | spectra_variables ✔ | 1 62 | spectra_variables [16.8s] ══ Results ═════════════════════════════════════════════════════════════════════ Duration: 69.9 s ── Skipped tests (1) ─────────────────────────────────────────────────────────── • empty test (1): 'test_spectra_variables.R:262:1' [ FAIL 0 | WARN 0 | SKIP 1 | PASS 2408 ] > > proc.time() user system elapsed 92.775 12.141 107.461
MsBackendRawFileReader.Rcheck/MsBackendRawFileReader-Ex.timings
name | user | system | elapsed | |
MsBackendRawFileReader-class | 3.609 | 1.071 | 5.083 | |
MsBackendRawFileReader | 8.021 | 2.967 | 11.363 | |
hidden_aliases | 2.641 | 0.962 | 3.697 | |
ioBenchmark | 29.921 | 11.047 | 19.022 | |