| Back to Multiple platform build/check report for BioC 3.21: simplified long |
|
This page was generated on 2025-04-22 13:16 -0400 (Tue, 22 Apr 2025).
| Hostname | OS | Arch (*) | R version | Installed pkgs |
|---|---|---|---|---|
| nebbiolo1 | Linux (Ubuntu 24.04.1 LTS) | x86_64 | 4.5.0 RC (2025-04-04 r88126) -- "How About a Twenty-Six" | 4831 |
| palomino7 | Windows Server 2022 Datacenter | x64 | 4.5.0 RC (2025-04-04 r88126 ucrt) -- "How About a Twenty-Six" | 4573 |
| lconway | macOS 12.7.1 Monterey | x86_64 | 4.5.0 RC (2025-04-04 r88126) -- "How About a Twenty-Six" | 4599 |
| kjohnson3 | macOS 13.7.1 Ventura | arm64 | 4.5.0 RC (2025-04-04 r88126) -- "How About a Twenty-Six" | 4553 |
| kunpeng2 | Linux (openEuler 24.03 LTS) | aarch64 | R Under development (unstable) (2025-02-19 r87757) -- "Unsuffered Consequences" | 4570 |
| Click on any hostname to see more info about the system (e.g. compilers) (*) as reported by 'uname -p', except on Windows and Mac OS X | ||||
| Package 387/2341 | Hostname | OS / Arch | INSTALL | BUILD | CHECK | BUILD BIN | ||||||||
| clustifyr 1.20.0 (landing page) Rui Fu
| nebbiolo1 | Linux (Ubuntu 24.04.1 LTS) / x86_64 | OK | OK | OK | |||||||||
| palomino7 | Windows Server 2022 Datacenter / x64 | OK | OK | OK | OK | |||||||||
| lconway | macOS 12.7.1 Monterey / x86_64 | OK | OK | OK | OK | |||||||||
| kjohnson3 | macOS 13.7.1 Ventura / arm64 | OK | OK | OK | OK | |||||||||
| kunpeng2 | Linux (openEuler 24.03 LTS) / aarch64 | OK | OK | OK | ||||||||||
|
To the developers/maintainers of the clustifyr package: - Allow up to 24 hours (and sometimes 48 hours) for your latest push to git@git.bioconductor.org:packages/clustifyr.git to reflect on this report. See Troubleshooting Build Report for more information. - Use the following Renviron settings to reproduce errors and warnings. - If 'R CMD check' started to fail recently on the Linux builder(s) over a missing dependency, add the missing dependency to 'Suggests:' in your DESCRIPTION file. See Renviron.bioc for more information. |
| Package: clustifyr |
| Version: 1.20.0 |
| Command: /Library/Frameworks/R.framework/Resources/bin/R CMD check --install=check:clustifyr.install-out.txt --library=/Library/Frameworks/R.framework/Resources/library --no-vignettes --timings clustifyr_1.20.0.tar.gz |
| StartedAt: 2025-04-21 19:48:33 -0400 (Mon, 21 Apr 2025) |
| EndedAt: 2025-04-21 20:00:40 -0400 (Mon, 21 Apr 2025) |
| EllapsedTime: 727.4 seconds |
| RetCode: 0 |
| Status: OK |
| CheckDir: clustifyr.Rcheck |
| Warnings: 0 |
##############################################################################
##############################################################################
###
### Running command:
###
### /Library/Frameworks/R.framework/Resources/bin/R CMD check --install=check:clustifyr.install-out.txt --library=/Library/Frameworks/R.framework/Resources/library --no-vignettes --timings clustifyr_1.20.0.tar.gz
###
##############################################################################
##############################################################################
* using log directory ‘/Users/biocbuild/bbs-3.21-bioc/meat/clustifyr.Rcheck’
* using R version 4.5.0 RC (2025-04-04 r88126)
* using platform: x86_64-apple-darwin20
* R was compiled by
Apple clang version 14.0.0 (clang-1400.0.29.202)
GNU Fortran (GCC) 14.2.0
* running under: macOS Monterey 12.7.6
* using session charset: UTF-8
* using option ‘--no-vignettes’
* checking for file ‘clustifyr/DESCRIPTION’ ... OK
* this is package ‘clustifyr’ version ‘1.20.0’
* package encoding: UTF-8
* checking package namespace information ... OK
* checking package dependencies ... OK
* checking if this is a source package ... OK
* checking if there is a namespace ... OK
* checking for hidden files and directories ... OK
* checking for portable file names ... OK
* checking for sufficient/correct file permissions ... OK
* checking whether package ‘clustifyr’ can be installed ... OK
* checking installed package size ... OK
* checking package directory ... OK
* checking ‘build’ directory ... OK
* checking DESCRIPTION meta-information ... NOTE
License stub is invalid DCF.
* checking top-level files ... OK
* checking for left-over files ... OK
* checking index information ... OK
* checking package subdirectories ... OK
* checking code files for non-ASCII characters ... OK
* checking R files for syntax errors ... OK
* checking whether the package can be loaded ... OK
* checking whether the package can be loaded with stated dependencies ... OK
* checking whether the package can be unloaded cleanly ... OK
* checking whether the namespace can be loaded with stated dependencies ... OK
* checking whether the namespace can be unloaded cleanly ... OK
* checking dependencies in R code ... OK
* checking S3 generic/method consistency ... OK
* checking replacement functions ... OK
* checking foreign function calls ... OK
* checking R code for possible problems ... OK
* checking Rd files ... OK
* checking Rd metadata ... OK
* checking Rd cross-references ... OK
* checking for missing documentation entries ... OK
* checking for code/documentation mismatches ... OK
* checking Rd \usage sections ... OK
* checking Rd contents ... OK
* checking for unstated dependencies in examples ... OK
* checking contents of ‘data’ directory ... OK
* checking data for non-ASCII characters ... OK
* checking LazyData ... OK
* checking data for ASCII and uncompressed saves ... OK
* checking files in ‘vignettes’ ... OK
* checking examples ... OK
Examples with CPU (user + system) or elapsed time > 5s
user system elapsed
plot_pathway_gsea 17.641 0.132 17.898
calculate_pathway_gsea 15.042 0.119 15.251
* checking for unstated dependencies in ‘tests’ ... OK
* checking tests ...
Running ‘testthat.R’
OK
* checking for unstated dependencies in vignettes ... OK
* checking package vignettes ... OK
* checking running R code from vignettes ... SKIPPED
* checking re-building of vignette outputs ... SKIPPED
* checking PDF version of manual ... OK
* DONE
Status: 1 NOTE
See
‘/Users/biocbuild/bbs-3.21-bioc/meat/clustifyr.Rcheck/00check.log’
for details.
clustifyr.Rcheck/00install.out
############################################################################## ############################################################################## ### ### Running command: ### ### /Library/Frameworks/R.framework/Resources/bin/R CMD INSTALL clustifyr ### ############################################################################## ############################################################################## * installing to library ‘/Library/Frameworks/R.framework/Versions/4.5-x86_64/Resources/library’ * installing *source* package ‘clustifyr’ ... ** this is package ‘clustifyr’ version ‘1.20.0’ ** using staged installation ** R ** data *** moving datasets to lazyload DB ** inst ** byte-compile and prepare package for lazy loading ** help *** installing help indices *** copying figures ** building package indices ** installing vignettes ** testing if installed package can be loaded from temporary location ** testing if installed package can be loaded from final location ** testing if installed package keeps a record of temporary installation path * DONE (clustifyr)
clustifyr.Rcheck/tests/testthat.Rout
R version 4.5.0 RC (2025-04-04 r88126) -- "How About a Twenty-Six"
Copyright (C) 2025 The R Foundation for Statistical Computing
Platform: x86_64-apple-darwin20
R is free software and comes with ABSOLUTELY NO WARRANTY.
You are welcome to redistribute it under certain conditions.
Type 'license()' or 'licence()' for distribution details.
R is a collaborative project with many contributors.
Type 'contributors()' for more information and
'citation()' on how to cite R or R packages in publications.
Type 'demo()' for some demos, 'help()' for on-line help, or
'help.start()' for an HTML browser interface to help.
Type 'q()' to quit R.
> library(testthat)
> library(clustifyr)
>
> test_check("clustifyr")
[ FAIL 0 | WARN 1 | SKIP 0 | PASS 183 ]
[ FAIL 0 | WARN 1 | SKIP 0 | PASS 183 ]
>
> proc.time()
user system elapsed
439.490 6.831 448.583
clustifyr.Rcheck/clustifyr-Ex.timings
| name | user | system | elapsed | |
| append_genes | 0.658 | 0.012 | 0.674 | |
| assess_rank_bias | 0.000 | 0.000 | 0.001 | |
| average_clusters | 0.040 | 0.009 | 0.049 | |
| binarize_expr | 0.033 | 0.002 | 0.036 | |
| build_atlas | 0.051 | 0.017 | 0.068 | |
| calc_distance | 0.005 | 0.001 | 0.006 | |
| calculate_pathway_gsea | 15.042 | 0.119 | 15.251 | |
| call_consensus | 0.224 | 0.009 | 0.234 | |
| call_to_metadata | 0.183 | 0.167 | 0.352 | |
| check_raw_counts | 0.784 | 0.036 | 0.825 | |
| clustify | 2.023 | 0.091 | 2.134 | |
| clustify_lists | 0.050 | 0.006 | 0.057 | |
| clustify_nudge | 0.921 | 0.031 | 0.956 | |
| clustifyr_methods | 0.000 | 0.001 | 0.001 | |
| collapse_to_cluster | 1.312 | 0.061 | 1.378 | |
| compare_lists | 0.114 | 0.004 | 0.119 | |
| cor_to_call | 0.076 | 0.006 | 0.082 | |
| cor_to_call_rank | 0.059 | 0.001 | 0.060 | |
| cor_to_call_topn | 0.066 | 0.002 | 0.068 | |
| downsample_matrix | 0.014 | 0.000 | 0.015 | |
| feature_select_PCA | 0.008 | 0.002 | 0.010 | |
| file_marker_parse | 0.002 | 0.002 | 0.004 | |
| find_rank_bias | 0.028 | 0.002 | 0.029 | |
| gene_pct_markerm | 0.263 | 0.002 | 0.267 | |
| get_ucsc_reference | 0 | 0 | 0 | |
| get_vargenes | 0.000 | 0.001 | 0.001 | |
| gmt_to_list | 0.039 | 0.002 | 0.042 | |
| insert_meta_object | 0.263 | 0.014 | 0.278 | |
| make_comb_ref | 0.016 | 0.002 | 0.018 | |
| marker_select | 0.024 | 0.011 | 0.034 | |
| matrixize_markers | 0.029 | 0.004 | 0.032 | |
| object_data | 0.336 | 0.017 | 0.355 | |
| object_ref | 0.297 | 0.106 | 0.406 | |
| overcluster | 1.623 | 0.095 | 1.727 | |
| overcluster_test | 1.870 | 0.067 | 1.948 | |
| parse_loc_object | 0.252 | 0.011 | 0.265 | |
| plot_best_call | 0.535 | 0.024 | 0.561 | |
| plot_cor | 0.625 | 0.040 | 0.671 | |
| plot_cor_heatmap | 0.943 | 0.043 | 0.989 | |
| plot_dims | 0.234 | 0.005 | 0.239 | |
| plot_gene | 0.467 | 0.012 | 0.484 | |
| plot_pathway_gsea | 17.641 | 0.132 | 17.898 | |
| plot_rank_bias | 0.001 | 0.001 | 0.001 | |
| pos_neg_marker | 0.008 | 0.001 | 0.008 | |
| pos_neg_select | 0.076 | 0.001 | 0.078 | |
| query_rank_bias | 0.043 | 0.003 | 0.045 | |
| ref_feature_select | 0.027 | 0.002 | 0.028 | |
| ref_marker_select | 0.197 | 0.002 | 0.201 | |
| reverse_marker_matrix | 0.003 | 0.003 | 0.007 | |
| run_clustifyr_app | 0 | 0 | 0 | |
| seurat_meta | 0.250 | 0.006 | 0.259 | |
| seurat_ref | 0.301 | 0.028 | 0.335 | |
| write_meta | 0.311 | 0.009 | 0.325 | |