Back to Multiple platform build/check report for BioC 3.22:   simplified   long
ABCDEFGHIJKL[M]NOPQRSTUVWXYZ

This page was generated on 2025-11-04 12:04 -0500 (Tue, 04 Nov 2025).

HostnameOSArch (*)R versionInstalled pkgs
nebbiolo2Linux (Ubuntu 24.04.3 LTS)x86_644.5.1 Patched (2025-08-23 r88802) -- "Great Square Root" 4902
lconwaymacOS 12.7.6 Montereyx86_644.5.1 Patched (2025-09-10 r88807) -- "Great Square Root" 4692
kjohnson3macOS 13.7.7 Venturaarm644.5.1 Patched (2025-09-10 r88807) -- "Great Square Root" 4638
Click on any hostname to see more info about the system (e.g. compilers)      (*) as reported by 'uname -p', except on Windows and Mac OS X

Package 1378/2361HostnameOS / ArchINSTALLBUILDCHECKBUILD BIN
MsBackendRawFileReader 1.16.0  (landing page)
Christian Panse
Snapshot Date: 2025-11-03 13:45 -0500 (Mon, 03 Nov 2025)
git_url: https://git.bioconductor.org/packages/MsBackendRawFileReader
git_branch: RELEASE_3_22
git_last_commit: 53064fe
git_last_commit_date: 2025-10-29 11:12:57 -0500 (Wed, 29 Oct 2025)
nebbiolo2Linux (Ubuntu 24.04.3 LTS) / x86_64  OK    OK    OK  UNNEEDED, same version is already published
lconwaymacOS 12.7.6 Monterey / x86_64  OK    OK    OK    OK  UNNEEDED, same version is already published
kjohnson3macOS 13.7.7 Ventura / arm64  OK    OK    OK    OK  UNNEEDED, same version is already published


CHECK results for MsBackendRawFileReader on lconway

To the developers/maintainers of the MsBackendRawFileReader package:
- Allow up to 24 hours (and sometimes 48 hours) for your latest push to git@git.bioconductor.org:packages/MsBackendRawFileReader.git to reflect on this report. See Troubleshooting Build Report for more information.
- Use the following Renviron settings to reproduce errors and warnings.
- If 'R CMD check' started to fail recently on the Linux builder(s) over a missing dependency, add the missing dependency to 'Suggests:' in your DESCRIPTION file. See Renviron.bioc for more information.

raw results


Summary

Package: MsBackendRawFileReader
Version: 1.16.0
Command: /Library/Frameworks/R.framework/Resources/bin/R CMD check --install=check:MsBackendRawFileReader.install-out.txt --library=/Library/Frameworks/R.framework/Resources/library --no-vignettes --timings MsBackendRawFileReader_1.16.0.tar.gz
StartedAt: 2025-11-03 22:42:48 -0500 (Mon, 03 Nov 2025)
EndedAt: 2025-11-03 22:46:28 -0500 (Mon, 03 Nov 2025)
EllapsedTime: 220.0 seconds
RetCode: 0
Status:   OK  
CheckDir: MsBackendRawFileReader.Rcheck
Warnings: 0

Command output

##############################################################################
##############################################################################
###
### Running command:
###
###   /Library/Frameworks/R.framework/Resources/bin/R CMD check --install=check:MsBackendRawFileReader.install-out.txt --library=/Library/Frameworks/R.framework/Resources/library --no-vignettes --timings MsBackendRawFileReader_1.16.0.tar.gz
###
##############################################################################
##############################################################################


* using log directory ‘/Users/biocbuild/bbs-3.22-bioc/meat/MsBackendRawFileReader.Rcheck’
* using R version 4.5.1 Patched (2025-09-10 r88807)
* using platform: x86_64-apple-darwin20
* R was compiled by
    Apple clang version 14.0.0 (clang-1400.0.29.202)
    GNU Fortran (GCC) 14.2.0
* running under: macOS Monterey 12.7.6
* using session charset: UTF-8
* using option ‘--no-vignettes’
* checking for file ‘MsBackendRawFileReader/DESCRIPTION’ ... OK
* checking extension type ... Package
* this is package ‘MsBackendRawFileReader’ version ‘1.16.0’
* package encoding: UTF-8
* checking package namespace information ... OK
* checking package dependencies ... OK
* checking if this is a source package ... OK
* checking if there is a namespace ... OK
* checking for hidden files and directories ... OK
* checking for portable file names ... OK
* checking for sufficient/correct file permissions ... OK
* checking whether package ‘MsBackendRawFileReader’ can be installed ... OK
* checking installed package size ... OK
* checking package directory ... OK
* checking ‘build’ directory ... OK
* checking DESCRIPTION meta-information ... OK
* checking top-level files ... OK
* checking for left-over files ... OK
* checking index information ... OK
* checking package subdirectories ... OK
* checking code files for non-ASCII characters ... OK
* checking R files for syntax errors ... OK
* checking whether the package can be loaded ... OK
* checking whether the package can be loaded with stated dependencies ... OK
* checking whether the package can be unloaded cleanly ... OK
* checking whether the namespace can be loaded with stated dependencies ... OK
* checking whether the namespace can be unloaded cleanly ... OK
* checking whether startup messages can be suppressed ... OK
* checking dependencies in R code ... OK
* checking S3 generic/method consistency ... OK
* checking replacement functions ... OK
* checking foreign function calls ... OK
* checking R code for possible problems ... OK
* checking Rd files ... OK
* checking Rd metadata ... OK
* checking Rd cross-references ... OK
* checking for missing documentation entries ... OK
* checking for code/documentation mismatches ... OK
* checking Rd \usage sections ... OK
* checking Rd contents ... OK
* checking for unstated dependencies in examples ... OK
* checking files in ‘vignettes’ ... OK
* checking examples ... OK
Examples with CPU (user + system) or elapsed time > 5s
                               user system elapsed
ioBenchmark                  27.815 11.211  14.127
MsBackendRawFileReader        7.731  2.881  11.064
MsBackendRawFileReader-class  3.632  1.068   5.174
* checking for unstated dependencies in ‘tests’ ... OK
* checking tests ...
  Running ‘testthat.R’
 OK
* checking for unstated dependencies in vignettes ... OK
* checking package vignettes ... OK
* checking running R code from vignettes ... SKIPPED
* checking re-building of vignette outputs ... SKIPPED
* checking PDF version of manual ... OK
* DONE

Status: OK


Installation output

MsBackendRawFileReader.Rcheck/00install.out

##############################################################################
##############################################################################
###
### Running command:
###
###   /Library/Frameworks/R.framework/Resources/bin/R CMD INSTALL MsBackendRawFileReader
###
##############################################################################
##############################################################################


* installing to library ‘/Library/Frameworks/R.framework/Versions/4.5-x86_64/Resources/library’
* installing *source* package ‘MsBackendRawFileReader’ ...
** this is package ‘MsBackendRawFileReader’ version ‘1.16.0’
** using staged installation
** R
** inst
** byte-compile and prepare package for lazy loading
** help
*** installing help indices
** building package indices
** installing vignettes
** testing if installed package can be loaded from temporary location
** testing if installed package can be loaded from final location
** testing if installed package keeps a record of temporary installation path
* DONE (MsBackendRawFileReader)

Tests output

MsBackendRawFileReader.Rcheck/tests/testthat.Rout


R version 4.5.1 Patched (2025-09-10 r88807) -- "Great Square Root"
Copyright (C) 2025 The R Foundation for Statistical Computing
Platform: x86_64-apple-darwin20

R is free software and comes with ABSOLUTELY NO WARRANTY.
You are welcome to redistribute it under certain conditions.
Type 'license()' or 'licence()' for distribution details.

R is a collaborative project with many contributors.
Type 'contributors()' for more information and
'citation()' on how to cite R or R packages in publications.

Type 'demo()' for some demos, 'help()' for on-line help, or
'help.start()' for an HTML browser interface to help.
Type 'q()' to quit R.

> library("testthat")
> library("MsBackendRawFileReader")
Loading required package: Spectra
Loading required package: S4Vectors
Loading required package: stats4
Loading required package: BiocGenerics
Loading required package: generics

Attaching package: 'generics'

The following objects are masked from 'package:base':

    as.difftime, as.factor, as.ordered, intersect, is.element, setdiff,
    setequal, union


Attaching package: 'BiocGenerics'

The following objects are masked from 'package:stats':

    IQR, mad, sd, var, xtabs

The following objects are masked from 'package:base':

    Filter, Find, Map, Position, Reduce, anyDuplicated, aperm, append,
    as.data.frame, basename, cbind, colnames, dirname, do.call,
    duplicated, eval, evalq, get, grep, grepl, is.unsorted, lapply,
    mapply, match, mget, order, paste, pmax, pmax.int, pmin, pmin.int,
    rank, rbind, rownames, sapply, saveRDS, table, tapply, unique,
    unsplit, which.max, which.min


Attaching package: 'S4Vectors'

The following object is masked from 'package:utils':

    findMatches

The following objects are masked from 'package:base':

    I, expand.grid, unname

Loading required package: BiocParallel
> library("Spectra")
> 
> 
> sample_raw_file <- file.path(system.file(package = "rawrr"),
+                                 'extdata', 'sample.raw')
> 
> sample_mzXML_file <- file.path(path.package(package = 'MsBackendRawFileReader'),
+                                 'extdata', 'sample.mzXML')
> 
> 
> sample_raw <-  backendInitialize(MsBackendRawFileReader::MsBackendRawFileReader(), files = sample_raw_file)
> 
> 
> #sample_mzr <-  backendInitialize(MsBackendMzR(), files = sample_mzXML_file)
> 
> 
> mgf_file <- file.path(system.file(package = "MsBackendRawFileReader"),
+                              'extdata', '3159619b11ed_4590_9594.mgf')
> 
> 
> rv <- lapply(1:2, function(x){
+   file.copy(from = sample_raw_file, to = tempfile(fileext='.raw'))})
> 
> 
> register(SnowParam(workers = 1, type = "SOCK") , default = TRUE); 
> sample_raw_2 <- backendInitialize(MsBackendRawFileReader(),
+     files = file.path(tempdir(),
+          list.files(path = tempdir(), pattern = 'raw$')))
> 
> 
> test_check("MsBackendRawFileReader")
[ FAIL 0 | WARN 1 | SKIP 2 | PASS 21 ]

══ Skipped tests (2) ═══════════════════════════════════════════════════════════
• isFALSE(file.exists(sample_mzXML_file)) is TRUE (1):
  'test_MsBackendMzR_MsBackendRawFileReader.R:1:1'
• isFALSE(require(MsBackendRawMgf)) is TRUE (1): 'test_top_n_mgf.R:1:1'

[ FAIL 0 | WARN 1 | SKIP 2 | PASS 21 ]
> 
> 
> be <- Spectra::backendInitialize(MsBackendRawFileReader::MsBackendRawFileReader(),
+                                  files = c(sample_raw_file))
> 
> ## Run the MsBackend spectra variable test suite
> 
> test_suite <- system.file("test_backends", "test_MsBackend",
+                           package = "Spectra")
> 
> #res <- test_file(paste0(test_suite, "/test_spectra_variables.R"),
> #                 reporter = check_reporter(), stop_on_failure = TRUE)
> 
> 
> ## Run the whole suite.
> res <- test_dir(test_suite, stop_on_failure = TRUE)
✔ | F W  S  OK | Context

⠏ |          0 | peaks_variables                                                
⠙ |          2 | peaks_variables                                                
⠸ |          4 | peaks_variables                                                
✔ |          4 | peaks_variables [4.6s]

⠏ |          0 | spectra_subsetting                                             
⠋ |          1 | spectra_subsetting                                             
⠸ |         14 | spectra_subsetting                                             
⠼ |         25 | spectra_subsetting                                             
⠦ |         37 | spectra_subsetting                                             
⠏ |         50 | spectra_subsetting                                             
⠏ |         60 | spectra_subsetting                                             
⠏ |         70 | spectra_subsetting                                             
⠹ |         83 | spectra_subsetting                                             
⠸ |         94 | spectra_subsetting                                             
⠸ |        104 | spectra_subsetting                                             
⠼ |        115 | spectra_subsetting                                             
⠦ |        127 | spectra_subsetting                                             
⠇ |        139 | spectra_subsetting                                             
⠋ |        151 | spectra_subsetting                                             
⠸ |        164 | spectra_subsetting                                             
⠼ |        175 | spectra_subsetting                                             
⠦ |        187 | spectra_subsetting                                             
⠇ |        199 | spectra_subsetting                                             
⠋ |        211 | spectra_subsetting                                             
⠹ |        223 | spectra_subsetting                                             
⠼ |        235 | spectra_subsetting                                             
⠦ |        247 | spectra_subsetting                                             
⠇ |        259 | spectra_subsetting                                             
⠙ |        272 | spectra_subsetting                                             
⠹ |        283 | spectra_subsetting                                             
⠸ |        294 | spectra_subsetting                                             
⠼ |        305 | spectra_subsetting                                             
⠴ |        316 | spectra_subsetting                                             
⠼ |        325 | spectra_subsetting                                             
⠦ |        337 | spectra_subsetting                                             
⠇ |        349 | spectra_subsetting                                             
⠋ |        361 | spectra_subsetting                                             
⠹ |        373 | spectra_subsetting                                             
⠼ |        385 | spectra_subsetting                                             
⠦ |        397 | spectra_subsetting                                             
⠇ |        409 | spectra_subsetting                                             
⠋ |        421 | spectra_subsetting                                             
⠹ |        433 | spectra_subsetting                                             
⠼ |        445 | spectra_subsetting                                             
⠦ |        457 | spectra_subsetting                                             
⠇ |        469 | spectra_subsetting                                             
⠋ |        481 | spectra_subsetting                                             
⠹ |        493 | spectra_subsetting                                             
⠼ |        505 | spectra_subsetting                                             
⠼ |        515 | spectra_subsetting                                             
⠦ |        527 | spectra_subsetting                                             
⠧ |        538 | spectra_subsetting                                             
⠏ |        550 | spectra_subsetting                                             
⠙ |        562 | spectra_subsetting                                             
⠙ |        572 | spectra_subsetting                                             
⠏ |        580 | spectra_subsetting                                             
⠙ |        592 | spectra_subsetting                                             
⠸ |        604 | spectra_subsetting                                             
⠴ |        616 | spectra_subsetting                                             
⠧ |        628 | spectra_subsetting                                             
⠏ |        640 | spectra_subsetting                                             
⠇ |        649 | spectra_subsetting                                             
⠧ |        658 | spectra_subsetting                                             
⠇ |        669 | spectra_subsetting                                             
⠇ |        679 | spectra_subsetting                                             
⠇ |        689 | spectra_subsetting                                             
⠏ |        700 | spectra_subsetting                                             
⠙ |        712 | spectra_subsetting                                             
⠸ |        724 | spectra_subsetting                                             
⠹ |        733 | spectra_subsetting                                             
⠹ |        743 | spectra_subsetting                                             
⠸ |        754 | spectra_subsetting                                             
⠸ |        764 | spectra_subsetting                                             
⠼ |        775 | spectra_subsetting                                             
⠦ |        787 | spectra_subsetting                                             
⠇ |        799 | spectra_subsetting                                             
⠋ |        811 | spectra_subsetting                                             
⠹ |        823 | spectra_subsetting                                             
⠹ |        833 | spectra_subsetting                                             
⠸ |        844 | spectra_subsetting                                             
⠴ |        856 | spectra_subsetting                                             
⠧ |        868 | spectra_subsetting                                             
⠧ |        878 | spectra_subsetting                                             
⠏ |        890 | spectra_subsetting                                             
⠋ |        901 | spectra_subsetting                                             
⠹ |        913 | spectra_subsetting                                             
⠼ |        925 | spectra_subsetting                                             
⠦ |        937 | spectra_subsetting                                             
⠇ |        949 | spectra_subsetting                                             
⠋ |        961 | spectra_subsetting                                             
⠸ |        974 | spectra_subsetting                                             
⠼ |        985 | spectra_subsetting                                             
⠦ |        997 | spectra_subsetting                                             
⠇ |        1009 | spectra_subsetting                                            
⠇ |        1019 | spectra_subsetting                                            
⠏ |        1030 | spectra_subsetting                                            
⠙ |        1042 | spectra_subsetting                                            
⠸ |        1054 | spectra_subsetting                                            
⠸ |        1064 | spectra_subsetting                                            
⠦ |        1077 | spectra_subsetting                                            
⠧ |        1088 | spectra_subsetting                                            
⠇ |        1099 | spectra_subsetting                                            
⠋ |        1111 | spectra_subsetting                                            
⠹ |        1123 | spectra_subsetting                                            
⠙ |        1132 | spectra_subsetting                                            
⠸ |        1144 | spectra_subsetting                                            
⠴ |        1156 | spectra_subsetting                                            
⠧ |        1168 | spectra_subsetting                                            
⠏ |        1180 | spectra_subsetting                                            
⠙ |        1192 | spectra_subsetting                                            
⠙ |        1202 | spectra_subsetting                                            
⠹ |        1213 | spectra_subsetting                                            
⠼ |        1225 | spectra_subsetting                                            
⠴ |        1236 | spectra_subsetting                                            
⠴ |        1246 | spectra_subsetting                                            
⠧ |        1258 | spectra_subsetting                                            
⠏ |        1270 | spectra_subsetting                                            
⠙ |        1282 | spectra_subsetting                                            
⠸ |        1294 | spectra_subsetting                                            
⠴ |        1306 | spectra_subsetting                                            
⠦ |        1317 | spectra_subsetting                                            
⠦ |        1327 | spectra_subsetting                                            
⠇ |        1339 | spectra_subsetting                                            
⠇ |        1349 | spectra_subsetting                                            
⠏ |        1360 | spectra_subsetting                                            
⠙ |        1372 | spectra_subsetting                                            
⠸ |        1384 | spectra_subsetting                                            
⠴ |        1396 | spectra_subsetting                                            
⠧ |        1408 | spectra_subsetting                                            
⠏ |        1420 | spectra_subsetting                                            
⠙ |        1432 | spectra_subsetting                                            
⠸ |        1444 | spectra_subsetting                                            
⠴ |        1456 | spectra_subsetting                                            
⠧ |        1468 | spectra_subsetting                                            
⠏ |        1480 | spectra_subsetting                                            
⠙ |        1492 | spectra_subsetting                                            
⠸ |        1504 | spectra_subsetting                                            
⠴ |        1516 | spectra_subsetting                                            
⠧ |        1528 | spectra_subsetting                                            
⠏ |        1540 | spectra_subsetting                                            
⠹ |        1553 | spectra_subsetting                                            
⠸ |        1564 | spectra_subsetting                                            
⠴ |        1576 | spectra_subsetting                                            
⠧ |        1588 | spectra_subsetting                                            
⠧ |        1598 | spectra_subsetting                                            
⠇ |        1609 | spectra_subsetting                                            
⠋ |        1621 | spectra_subsetting                                            
⠹ |        1633 | spectra_subsetting                                            
⠼ |        1645 | spectra_subsetting                                            
⠦ |        1657 | spectra_subsetting                                            
⠇ |        1669 | spectra_subsetting                                            
⠧ |        1678 | spectra_subsetting                                            
⠙ |        1692 | spectra_subsetting                                            
⠹ |        1703 | spectra_subsetting                                            
⠸ |        1714 | spectra_subsetting                                            
⠴ |        1726 | spectra_subsetting                                            
⠧ |        1728 | spectra_subsetting                                            
⠏ |        1730 | spectra_subsetting                                            
⠙ |        1732 | spectra_subsetting                                            
⠸ |        1734 | spectra_subsetting                                            
⠴ |        1736 | spectra_subsetting                                            
⠧ |        1738 | spectra_subsetting                                            
⠋ |        1741 | spectra_subsetting                                            
⠹ |        1743 | spectra_subsetting                                            
⠼ |        1745 | spectra_subsetting                                            
⠦ |        1747 | spectra_subsetting                                            
⠇ |        1749 | spectra_subsetting                                            
⠋ |        1751 | spectra_subsetting                                            
⠹ |        1753 | spectra_subsetting                                            
⠼ |        1755 | spectra_subsetting                                            
⠦ |        1757 | spectra_subsetting                                            
⠇ |        1759 | spectra_subsetting                                            
⠋ |        1761 | spectra_subsetting                                            
⠹ |        1763 | spectra_subsetting                                            
⠼ |        1765 | spectra_subsetting                                            
⠦ |        1767 | spectra_subsetting                                            
⠇ |        1769 | spectra_subsetting                                            
⠋ |        1771 | spectra_subsetting                                            
⠹ |        1773 | spectra_subsetting                                            
⠴ |        1776 | spectra_subsetting                                            
⠧ |        1778 | spectra_subsetting                                            
⠏ |        1780 | spectra_subsetting                                            
⠙ |        1782 | spectra_subsetting                                            
⠸ |        1784 | spectra_subsetting                                            
⠴ |        1786 | spectra_subsetting                                            
⠧ |        1788 | spectra_subsetting                                            
⠏ |        1790 | spectra_subsetting                                            
⠙ |        1792 | spectra_subsetting                                            
⠸ |        1794 | spectra_subsetting                                            
⠴ |        1796 | spectra_subsetting                                            
⠧ |        1798 | spectra_subsetting                                            
⠏ |        1800 | spectra_subsetting                                            
⠙ |        1802 | spectra_subsetting                                            
⠸ |        1804 | spectra_subsetting                                            
⠦ |        1807 | spectra_subsetting                                            
⠇ |        1809 | spectra_subsetting                                            
⠙ |        1812 | spectra_subsetting                                            
⠸ |        1814 | spectra_subsetting                                            
⠴ |        1816 | spectra_subsetting                                            
⠧ |        1818 | spectra_subsetting                                            
⠋ |        1821 | spectra_subsetting                                            
⠸ |        1824 | spectra_subsetting                                            
⠴ |        1826 | spectra_subsetting                                            
⠇ |        1829 | spectra_subsetting                                            
⠋ |        1831 | spectra_subsetting                                            
⠸ |        1834 | spectra_subsetting                                            
⠴ |        1836 | spectra_subsetting                                            
⠧ |        1838 | spectra_subsetting                                            
⠏ |        1840 | spectra_subsetting                                            
⠹ |        1843 | spectra_subsetting                                            
⠼ |        1845 | spectra_subsetting                                            
⠦ |        1847 | spectra_subsetting                                            
⠇ |        1849 | spectra_subsetting                                            
⠋ |        1851 | spectra_subsetting                                            
⠹ |        1853 | spectra_subsetting                                            
⠴ |        1856 | spectra_subsetting                                            
⠧ |        1858 | spectra_subsetting                                            
⠏ |        1860 | spectra_subsetting                                            
⠙ |        1862 | spectra_subsetting                                            
⠼ |        1865 | spectra_subsetting                                            
⠦ |        1867 | spectra_subsetting                                            
⠏ |        1870 | spectra_subsetting                                            
⠹ |        1873 | spectra_subsetting                                            
⠼ |        1875 | spectra_subsetting                                            
⠧ |        1878 | spectra_subsetting                                            
⠏ |        1880 | spectra_subsetting                                            
⠹ |        1883 | spectra_subsetting                                            
⠼ |        1885 | spectra_subsetting                                            
⠧ |        1888 | spectra_subsetting                                            
⠋ |        1891 | spectra_subsetting                                            
⠹ |        1893 | spectra_subsetting                                            
⠼ |        1895 | spectra_subsetting                                            
⠴ |        1896 | spectra_subsetting                                            
⠇ |        1899 | spectra_subsetting                                            
⠋ |        1901 | spectra_subsetting                                            
⠸ |        1904 | spectra_subsetting                                            
⠴ |        1906 | spectra_subsetting                                            
⠇ |        1909 | spectra_subsetting                                            
⠋ |        1911 | spectra_subsetting                                            
⠹ |        1913 | spectra_subsetting                                            
⠼ |        1915 | spectra_subsetting                                            
⠦ |        1917 | spectra_subsetting                                            
⠇ |        1919 | spectra_subsetting                                            
⠋ |        1921 | spectra_subsetting                                            
⠹ |        1923 | spectra_subsetting                                            
⠼ |        1925 | spectra_subsetting                                            
⠦ |        1927 | spectra_subsetting                                            
⠇ |        1929 | spectra_subsetting                                            
⠋ |        1931 | spectra_subsetting                                            
⠹ |        1933 | spectra_subsetting                                            
⠼ |        1935 | spectra_subsetting                                            
⠦ |        1937 | spectra_subsetting                                            
⠏ |        1940 | spectra_subsetting                                            
⠙ |        1942 | spectra_subsetting                                            
⠸ |        1944 | spectra_subsetting                                            
⠴ |        1946 | spectra_subsetting                                            
⠧ |        1948 | spectra_subsetting                                            
⠏ |        1950 | spectra_subsetting                                            
⠙ |        1952 | spectra_subsetting                                            
⠸ |        1954 | spectra_subsetting                                            
⠴ |        1956 | spectra_subsetting                                            
⠧ |        1958 | spectra_subsetting                                            
⠏ |        1960 | spectra_subsetting                                            
⠙ |        1962 | spectra_subsetting                                            
⠸ |        1964 | spectra_subsetting                                            
⠴ |        1966 | spectra_subsetting                                            
⠧ |        1968 | spectra_subsetting                                            
⠏ |        1970 | spectra_subsetting                                            
⠹ |        1973 | spectra_subsetting                                            
⠴ |        1976 | spectra_subsetting                                            
⠧ |        1978 | spectra_subsetting                                            
⠏ |        1980 | spectra_subsetting                                            
⠹ |        1983 | spectra_subsetting                                            
⠴ |        1986 | spectra_subsetting                                            
⠧ |        1988 | spectra_subsetting                                            
⠋ |        1991 | spectra_subsetting                                            
⠸ |        1994 | spectra_subsetting                                            
⠴ |        1996 | spectra_subsetting                                            
⠧ |        1998 | spectra_subsetting                                            
⠏ |        2000 | spectra_subsetting                                            
⠙ |        2002 | spectra_subsetting                                            
⠼ |        2005 | spectra_subsetting                                            
⠦ |        2007 | spectra_subsetting                                            
⠇ |        2009 | spectra_subsetting                                            
⠋ |        2011 | spectra_subsetting                                            
⠸ |        2014 | spectra_subsetting                                            
⠦ |        2017 | spectra_subsetting                                            
⠇ |        2019 | spectra_subsetting                                            
⠋ |        2021 | spectra_subsetting                                            
⠹ |        2023 | spectra_subsetting                                            
⠼ |        2025 | spectra_subsetting                                            
⠧ |        2028 | spectra_subsetting                                            
⠋ |        2031 | spectra_subsetting                                            
⠹ |        2033 | spectra_subsetting                                            
⠼ |        2035 | spectra_subsetting                                            
⠦ |        2037 | spectra_subsetting                                            
⠇ |        2039 | spectra_subsetting                                            
⠋ |        2041 | spectra_subsetting                                            
⠹ |        2043 | spectra_subsetting                                            
⠼ |        2045 | spectra_subsetting                                            
⠦ |        2047 | spectra_subsetting                                            
⠏ |        2050 | spectra_subsetting                                            
⠹ |        2053 | spectra_subsetting                                            
⠼ |        2055 | spectra_subsetting                                            
⠦ |        2057 | spectra_subsetting                                            
⠇ |        2059 | spectra_subsetting                                            
⠋ |        2061 | spectra_subsetting                                            
⠹ |        2063 | spectra_subsetting                                            
⠼ |        2065 | spectra_subsetting                                            
⠦ |        2067 | spectra_subsetting                                            
⠇ |        2069 | spectra_subsetting                                            
⠋ |        2071 | spectra_subsetting                                            
⠹ |        2073 | spectra_subsetting                                            
⠼ |        2075 | spectra_subsetting                                            
⠦ |        2077 | spectra_subsetting                                            
⠇ |        2079 | spectra_subsetting                                            
⠋ |        2081 | spectra_subsetting                                            
⠹ |        2083 | spectra_subsetting                                            
⠼ |        2085 | spectra_subsetting                                            
⠦ |        2087 | spectra_subsetting                                            
⠇ |        2089 | spectra_subsetting                                            
⠋ |        2091 | spectra_subsetting                                            
⠹ |        2093 | spectra_subsetting                                            
⠼ |        2095 | spectra_subsetting                                            
⠦ |        2097 | spectra_subsetting                                            
⠇ |        2099 | spectra_subsetting                                            
⠋ |        2101 | spectra_subsetting                                            
⠹ |        2103 | spectra_subsetting                                            
⠼ |        2105 | spectra_subsetting                                            
⠦ |        2107 | spectra_subsetting                                            
⠇ |        2109 | spectra_subsetting                                            
⠋ |        2111 | spectra_subsetting                                            
⠹ |        2113 | spectra_subsetting                                            
⠼ |        2115 | spectra_subsetting                                            
⠦ |        2117 | spectra_subsetting                                            
⠏ |        2120 | spectra_subsetting                                            
⠙ |        2122 | spectra_subsetting                                            
⠸ |        2124 | spectra_subsetting                                            
⠴ |        2126 | spectra_subsetting                                            
⠧ |        2128 | spectra_subsetting                                            
⠋ |        2131 | spectra_subsetting                                            
⠹ |        2133 | spectra_subsetting                                            
⠴ |        2136 | spectra_subsetting                                            
⠇ |        2139 | spectra_subsetting                                            
⠋ |        2141 | spectra_subsetting                                            
⠸ |        2144 | spectra_subsetting                                            
⠴ |        2146 | spectra_subsetting                                            
⠇ |        2149 | spectra_subsetting                                            
⠋ |        2151 | spectra_subsetting                                            
⠹ |        2153 | spectra_subsetting                                            
⠼ |        2155 | spectra_subsetting                                            
⠦ |        2157 | spectra_subsetting                                            
⠇ |        2159 | spectra_subsetting                                            
⠋ |        2161 | spectra_subsetting                                            
⠹ |        2163 | spectra_subsetting                                            
⠼ |        2165 | spectra_subsetting                                            
⠦ |        2167 | spectra_subsetting                                            
⠇ |        2169 | spectra_subsetting                                            
⠙ |        2172 | spectra_subsetting                                            
⠸ |        2174 | spectra_subsetting                                            
⠴ |        2176 | spectra_subsetting                                            
⠧ |        2178 | spectra_subsetting                                            
⠏ |        2180 | spectra_subsetting                                            
⠙ |        2182 | spectra_subsetting                                            
⠸ |        2184 | spectra_subsetting                                            
⠴ |        2186 | spectra_subsetting                                            
⠧ |        2188 | spectra_subsetting                                            
⠏ |        2190 | spectra_subsetting                                            
⠹ |        2193 | spectra_subsetting                                            
⠼ |        2195 | spectra_subsetting                                            
⠦ |        2197 | spectra_subsetting                                            
⠇ |        2199 | spectra_subsetting                                            
⠋ |        2201 | spectra_subsetting                                            
⠹ |        2203 | spectra_subsetting                                            
⠼ |        2205 | spectra_subsetting                                            
⠦ |        2207 | spectra_subsetting                                            
⠇ |        2209 | spectra_subsetting                                            
⠙ |        2212 | spectra_subsetting                                            
⠸ |        2214 | spectra_subsetting                                            
⠴ |        2216 | spectra_subsetting                                            
⠧ |        2218 | spectra_subsetting                                            
⠏ |        2220 | spectra_subsetting                                            
⠙ |        2222 | spectra_subsetting                                            
⠸ |        2224 | spectra_subsetting                                            
⠴ |        2226 | spectra_subsetting                                            
⠧ |        2228 | spectra_subsetting                                            
⠏ |        2230 | spectra_subsetting                                            
⠙ |        2232 | spectra_subsetting                                            
⠸ |        2234 | spectra_subsetting                                            
⠴ |        2236 | spectra_subsetting                                            
⠧ |        2238 | spectra_subsetting                                            
⠏ |        2240 | spectra_subsetting                                            
⠙ |        2242 | spectra_subsetting                                            
⠸ |        2244 | spectra_subsetting                                            
⠴ |        2246 | spectra_subsetting                                            
⠧ |        2248 | spectra_subsetting                                            
⠏ |        2250 | spectra_subsetting                                            
⠙ |        2252 | spectra_subsetting                                            
⠸ |        2254 | spectra_subsetting                                            
⠦ |        2257 | spectra_subsetting                                            
⠇ |        2259 | spectra_subsetting                                            
⠙ |        2262 | spectra_subsetting                                            
⠸ |        2264 | spectra_subsetting                                            
⠴ |        2266 | spectra_subsetting                                            
⠧ |        2268 | spectra_subsetting                                            
⠏ |        2270 | spectra_subsetting                                            
⠙ |        2272 | spectra_subsetting                                            
⠸ |        2274 | spectra_subsetting                                            
⠴ |        2276 | spectra_subsetting                                            
⠧ |        2278 | spectra_subsetting                                            
⠏ |        2280 | spectra_subsetting                                            
⠙ |        2282 | spectra_subsetting                                            
⠸ |        2284 | spectra_subsetting                                            
⠴ |        2286 | spectra_subsetting                                            
⠧ |        2288 | spectra_subsetting                                            
⠏ |        2290 | spectra_subsetting                                            
⠙ |        2292 | spectra_subsetting                                            
⠸ |        2294 | spectra_subsetting                                            
⠦ |        2297 | spectra_subsetting                                            
⠇ |        2299 | spectra_subsetting                                            
⠹ |        2303 | spectra_subsetting                                            
⠇ |        2309 | spectra_subsetting                                            
⠹ |        2313 | spectra_subsetting                                            
⠋ |        2321 | spectra_subsetting                                            
⠦ |        2327 | spectra_subsetting                                            
⠹ |        2333 | spectra_subsetting                                            
⠸ |        2334 | spectra_subsetting                                            
✔ |        2342 | spectra_subsetting [49.8s]

⠏ |          0 | spectra_variables                                              
⠙ |         12 | spectra_variables                                              
⠸ |         14 | spectra_variables                                              
⠴ |         16 | spectra_variables                                              
⠦ |         27 | spectra_variables                                              
⠇ |         29 | spectra_variables                                              
⠋ |         31 | spectra_variables                                              
⠹ |         43 | spectra_variables                                              
⠴ |      1  55 | spectra_variables                                              
✔ |      1  62 | spectra_variables [17.1s]

══ Results ═════════════════════════════════════════════════════════════════════
Duration: 71.5 s

── Skipped tests (1) ───────────────────────────────────────────────────────────
• empty test (1): 'test_spectra_variables.R:262:1'

[ FAIL 0 | WARN 0 | SKIP 1 | PASS 2408 ]
> 
> proc.time()
   user  system elapsed 
 93.617  12.452 108.795 

Example timings

MsBackendRawFileReader.Rcheck/MsBackendRawFileReader-Ex.timings

nameusersystemelapsed
MsBackendRawFileReader-class3.6321.0685.174
MsBackendRawFileReader 7.731 2.88111.064
hidden_aliases2.4100.9503.492
ioBenchmark27.81511.21114.127