Back to Books build report for BioC 3.22

This page was generated on 2025-11-26 14:30 -0500 (Wed, 26 Nov 2025).

HostnameOSArch (*)R versionInstalled pkgs
nebbiolo2Linux (Ubuntu 24.04.3 LTS)x86_644.5.2 (2025-10-31) -- "[Not] Part in a Rumble" 4876
merida1macOS 12.7.6 Montereyx86_644.5.2 Patched (2025-11-05 r88990) -- "[Not] Part in a Rumble" 4669
Click on any hostname to see more info about the system (e.g. compilers)      (*) as reported by 'uname -p', except on Windows and Mac OS X

Package 6/11HostnameOS / ArchINSTALLBUILDCHECK
OSCA.basic 1.18.0  (landing page)
Peter Hickey
Snapshot Date: 2025-11-26 06:30 -0500 (Wed, 26 Nov 2025)
git_url: https://git.bioconductor.org/packages/OSCA.basic
git_branch: RELEASE_3_22
git_last_commit: d99cbba
git_last_commit_date: 2025-10-29 10:12:53 -0500 (Wed, 29 Oct 2025)
nebbiolo2Linux (Ubuntu 24.04.3 LTS) / x86_64  OK    OK    OK  UNNEEDED, same version is already published
merida1macOS 12.7.6 Monterey / x86_64  OK    OK    OK  


INSTALL results for OSCA.basic on nebbiolo2

To the developers/maintainers of the OSCA.basic package:
- Use the following Renviron settings to reproduce errors and warnings.
- If 'R CMD check' started to fail recently on the Linux builder(s) over a missing dependency, add the missing dependency to 'Suggests:' in your DESCRIPTION file. See Renviron.bioc for more information.

raw results


Summary

Package: OSCA.basic
Version: 1.18.0
Command: /home/biocbuild/bbs-3.22-books/R/bin/R CMD INSTALL OSCA.basic
StartedAt: 2025-11-26 06:45:55 -0500 (Wed, 26 Nov 2025)
EndedAt: 2025-11-26 06:46:30 -0500 (Wed, 26 Nov 2025)
EllapsedTime: 35.3 seconds
RetCode: 0
Status:   OK  

Command output

##############################################################################
##############################################################################
###
### Running command:
###
###   /home/biocbuild/bbs-3.22-books/R/bin/R CMD INSTALL OSCA.basic
###
##############################################################################
##############################################################################


* installing to library ‘/home/biocbuild/bbs-3.22-bioc/R/site-library’
* installing *source* package ‘OSCA.basic’ ...
** this is package ‘OSCA.basic’ version ‘1.18.0’
** using staged installation
** inst
** help
No man pages found in package  ‘OSCA.basic’ 
*** installing help indices
** building package indices
** installing vignettes
** testing if installed package can be loaded from temporary location
** testing if installed package can be loaded from final location
** testing if installed package keeps a record of temporary installation path
* DONE (OSCA.basic)