| Back to Multiple platform build/check report for BioC 3.7 | 
 | 
This page was generated on 2018-10-17 08:47:13 -0400 (Wed, 17 Oct 2018).
| Package 173/1561 | Hostname | OS / Arch | INSTALL | BUILD | CHECK | BUILD BIN | ||||||
| BufferedMatrixMethods 1.44.0 Ben Bolstad 
 | malbec2 | Linux (Ubuntu 16.04.1 LTS) / x86_64 | OK | OK | OK |  | ||||||
| tokay2 | Windows Server 2012 R2 Standard / x64 | OK | OK | OK | OK |  | ||||||
| merida2 | OS X 10.11.6 El Capitan / x86_64 | OK | [ OK ] | OK | OK |  | 
| Package: BufferedMatrixMethods | 
| Version: 1.44.0 | 
| Command: /Library/Frameworks/R.framework/Versions/Current/Resources/bin/R CMD build --keep-empty-dirs --no-resave-data BufferedMatrixMethods | 
| StartedAt: 2018-10-16 16:29:12 -0400 (Tue, 16 Oct 2018) | 
| EndedAt: 2018-10-16 16:30:06 -0400 (Tue, 16 Oct 2018) | 
| EllapsedTime: 54.0 seconds | 
| RetCode: 0 | 
| Status: OK | 
| PackageFile: BufferedMatrixMethods_1.44.0.tar.gz | 
| PackageFileSize: 10.84 KiB | 
############################################################################## ############################################################################## ### ### Running command: ### ### /Library/Frameworks/R.framework/Versions/Current/Resources/bin/R CMD build --keep-empty-dirs --no-resave-data BufferedMatrixMethods ### ############################################################################## ############################################################################## * checking for file ‘BufferedMatrixMethods/DESCRIPTION’ ... OK * preparing ‘BufferedMatrixMethods’: * checking DESCRIPTION meta-information ... OK * cleaning src * checking for LF line-endings in source and make files and shell scripts * checking for empty or unneeded directories * building ‘BufferedMatrixMethods_1.44.0.tar.gz’