| Back to Multiple platform build/check report for BioC 3.7 |
|
This page was generated on 2018-10-17 08:33:06 -0400 (Wed, 17 Oct 2018).
| Package 173/1561 | Hostname | OS / Arch | INSTALL | BUILD | CHECK | BUILD BIN | ||||||
| BufferedMatrixMethods 1.44.0 Ben Bolstad
| malbec2 | Linux (Ubuntu 16.04.1 LTS) / x86_64 | OK | OK | OK | |||||||
| tokay2 | Windows Server 2012 R2 Standard / x64 | [ OK ] | OK | OK | OK | |||||||
| merida2 | OS X 10.11.6 El Capitan / x86_64 | OK | OK | OK | OK |
| Package: BufferedMatrixMethods |
| Version: 1.44.0 |
| Command: C:\cygwin\bin\curl.exe -O https://malbec2.bioconductor.org/BBS/3.7/bioc/src/contrib/BufferedMatrixMethods_1.44.0.tar.gz && rm -rf BufferedMatrixMethods.buildbin-libdir && mkdir BufferedMatrixMethods.buildbin-libdir && C:\Users\biocbuild\bbs-3.7-bioc\R\bin\R.exe CMD INSTALL --merge-multiarch --build --library=BufferedMatrixMethods.buildbin-libdir BufferedMatrixMethods_1.44.0.tar.gz && C:\Users\biocbuild\bbs-3.7-bioc\R\bin\R.exe CMD INSTALL BufferedMatrixMethods_1.44.0.zip && rm BufferedMatrixMethods_1.44.0.tar.gz BufferedMatrixMethods_1.44.0.zip |
| StartedAt: 2018-10-16 18:45:21 -0400 (Tue, 16 Oct 2018) |
| EndedAt: 2018-10-16 18:45:47 -0400 (Tue, 16 Oct 2018) |
| EllapsedTime: 26.5 seconds |
| RetCode: 0 |
| Status: OK |
##############################################################################
##############################################################################
###
### Running command:
###
### C:\cygwin\bin\curl.exe -O https://malbec2.bioconductor.org/BBS/3.7/bioc/src/contrib/BufferedMatrixMethods_1.44.0.tar.gz && rm -rf BufferedMatrixMethods.buildbin-libdir && mkdir BufferedMatrixMethods.buildbin-libdir && C:\Users\biocbuild\bbs-3.7-bioc\R\bin\R.exe CMD INSTALL --merge-multiarch --build --library=BufferedMatrixMethods.buildbin-libdir BufferedMatrixMethods_1.44.0.tar.gz && C:\Users\biocbuild\bbs-3.7-bioc\R\bin\R.exe CMD INSTALL BufferedMatrixMethods_1.44.0.zip && rm BufferedMatrixMethods_1.44.0.tar.gz BufferedMatrixMethods_1.44.0.zip
###
##############################################################################
##############################################################################
% Total % Received % Xferd Average Speed Time Time Time Current
Dload Upload Total Spent Left Speed
0 0 0 0 0 0 0 0 --:--:-- --:--:-- --:--:-- 0
100 11276 100 11276 0 0 206k 0 --:--:-- --:--:-- --:--:-- 234k
install for i386
* installing *source* package 'BufferedMatrixMethods' ...
** libs
C:/Rtools/mingw_32/bin/gcc -I"C:/Users/BIOCBU˜1/BBS-3˜1.7-B/R/include" -DNDEBUG -I"C:/Users/biocbuild/bbs-3.7-bioc/R/library/BufferedMatrix/include" -I"C:/extsoft/include" -O3 -Wall -std=gnu99 -mtune=generic -c init_package.c -o init_package.o
C:/Rtools/mingw_32/bin/gcc -I"C:/Users/BIOCBU˜1/BBS-3˜1.7-B/R/include" -DNDEBUG -I"C:/Users/biocbuild/bbs-3.7-bioc/R/library/BufferedMatrix/include" -I"C:/extsoft/include" -O3 -Wall -std=gnu99 -mtune=generic -c preprocess_bm.c -o preprocess_bm.o
preprocess_bm.c: In function 'bm_rma_bg_correct':
preprocess_bm.c:344:7: warning: unused variable 'i' [-Wunused-variable]
int i,j;
^
preprocess_bm.c: In function 'R_bm_rma_bg_correct':
preprocess_bm.c:378:7: warning: unused variable 'current_mode' [-Wunused-variable]
int current_mode;
^
preprocess_bm.c: In function 'R_bm_quantile_normalize':
preprocess_bm.c:593:7: warning: unused variable 'current_mode' [-Wunused-variable]
int current_mode;
^
preprocess_bm.c: In function 'do_RMA_buffmat':
preprocess_bm.c:924:7: warning: variable 'first_ind' set but not used [-Wunused-but-set-variable]
int first_ind;
^
preprocess_bm.c: In function 'R_bm_rma_bg_correct_quantile_normalize':
preprocess_bm.c:1151:7: warning: unused variable 'current_mode' [-Wunused-variable]
int current_mode;
^
preprocess_bm.c: At top level:
preprocess_bm.c:453:12: warning: 'min' defined but not used [-Wunused-function]
static int min(int x1,int x2){
^
C:/Rtools/mingw_32/bin/gcc -shared -s -static-libgcc -o BufferedMatrixMethods.dll tmp.def init_package.o preprocess_bm.o -LC:/extsoft/lib/i386 -LC:/extsoft/lib -LC:/Users/BIOCBU˜1/BBS-3˜1.7-B/R/bin/i386 -lR
installing to C:/Users/biocbuild/bbs-3.7-bioc/meat/BufferedMatrixMethods.buildbin-libdir/BufferedMatrixMethods/libs/i386
** R
** byte-compile and prepare package for lazy loading
** help
*** installing help indices
converting help for package 'BufferedMatrixMethods'
finding HTML links ... done
BM_affyDataInput html
BM_justRMA html
BM_readcelfiles html
rmapreprocess.bufferedmatrix html
** building package indices
** testing if installed package can be loaded
In R CMD INSTALL
install for x64
* installing *source* package 'BufferedMatrixMethods' ...
** libs
C:/Rtools/mingw_64/bin/gcc -I"C:/Users/BIOCBU˜1/BBS-3˜1.7-B/R/include" -DNDEBUG -I"C:/Users/biocbuild/bbs-3.7-bioc/R/library/BufferedMatrix/include" -I"C:/extsoft/include" -O2 -Wall -std=gnu99 -mtune=generic -c init_package.c -o init_package.o
C:/Rtools/mingw_64/bin/gcc -I"C:/Users/BIOCBU˜1/BBS-3˜1.7-B/R/include" -DNDEBUG -I"C:/Users/biocbuild/bbs-3.7-bioc/R/library/BufferedMatrix/include" -I"C:/extsoft/include" -O2 -Wall -std=gnu99 -mtune=generic -c preprocess_bm.c -o preprocess_bm.o
preprocess_bm.c: In function 'bm_rma_bg_correct':
preprocess_bm.c:344:7: warning: unused variable 'i' [-Wunused-variable]
int i,j;
^
preprocess_bm.c: In function 'R_bm_rma_bg_correct':
preprocess_bm.c:378:7: warning: unused variable 'current_mode' [-Wunused-variable]
int current_mode;
^
preprocess_bm.c: In function 'R_bm_quantile_normalize':
preprocess_bm.c:593:7: warning: unused variable 'current_mode' [-Wunused-variable]
int current_mode;
^
preprocess_bm.c: In function 'do_RMA_buffmat':
preprocess_bm.c:924:7: warning: variable 'first_ind' set but not used [-Wunused-but-set-variable]
int first_ind;
^
preprocess_bm.c: In function 'R_bm_rma_bg_correct_quantile_normalize':
preprocess_bm.c:1151:7: warning: unused variable 'current_mode' [-Wunused-variable]
int current_mode;
^
preprocess_bm.c: At top level:
preprocess_bm.c:453:12: warning: 'min' defined but not used [-Wunused-function]
static int min(int x1,int x2){
^
C:/Rtools/mingw_64/bin/gcc -shared -s -static-libgcc -o BufferedMatrixMethods.dll tmp.def init_package.o preprocess_bm.o -LC:/extsoft/lib/x64 -LC:/extsoft/lib -LC:/Users/BIOCBU˜1/BBS-3˜1.7-B/R/bin/x64 -lR
installing to C:/Users/biocbuild/bbs-3.7-bioc/meat/BufferedMatrixMethods.buildbin-libdir/BufferedMatrixMethods/libs/x64
** testing if installed package can be loaded
* MD5 sums
packaged installation of 'BufferedMatrixMethods' as BufferedMatrixMethods_1.44.0.zip
* DONE (BufferedMatrixMethods)
In R CMD INSTALL
In R CMD INSTALL
* installing to library 'C:/Users/biocbuild/bbs-3.7-bioc/R/library'
package 'BufferedMatrixMethods' successfully unpacked and MD5 sums checked
In R CMD INSTALL