| Back to Multiple platform build/check report for BioC 3.7 experimental data | 
This page was generated on 2018-10-16 14:18:46 -0400 (Tue, 16 Oct 2018).
| Package 317/342 | Hostname | OS / Arch | INSTALL | BUILD | CHECK | BUILD BIN | ||||||
| TCGAcrcmiRNA 0.114.0 Claudio Isella 
  | malbec2 | Linux (Ubuntu 16.04.1 LTS) / x86_64 | OK | [ OK ] | OK | 
| Package: TCGAcrcmiRNA | 
| Version: 0.114.0 | 
| Command: /home/biocbuild/bbs-3.7-bioc/R/bin/R CMD build --keep-empty-dirs --no-resave-data TCGAcrcmiRNA | 
| StartedAt: 2018-10-16 09:45:08 -0400 (Tue, 16 Oct 2018) | 
| EndedAt: 2018-10-16 09:45:12 -0400 (Tue, 16 Oct 2018) | 
| EllapsedTime: 4.0 seconds | 
| RetCode: 0 | 
| Status: OK | 
| PackageFile: TCGAcrcmiRNA_0.114.0.tar.gz | 
| PackageFileSize: 891 KiB | 
############################################################################## ############################################################################## ### ### Running command: ### ### /home/biocbuild/bbs-3.7-bioc/R/bin/R CMD build --keep-empty-dirs --no-resave-data TCGAcrcmiRNA ### ############################################################################## ############################################################################## * checking for file ‘TCGAcrcmiRNA/DESCRIPTION’ ... OK * preparing ‘TCGAcrcmiRNA’: * checking DESCRIPTION meta-information ... OK * installing the package to build vignettes * creating vignettes ... OK * checking for LF line-endings in source and make files and shell scripts * checking for empty or unneeded directories * looking to see if a ‘data/datalist’ file should be added * building ‘TCGAcrcmiRNA_0.114.0.tar.gz’