| Back to Multiple platform build/check report for BioC 3.7 experimental data |
This page was generated on 2018-10-16 14:18:46 -0400 (Tue, 16 Oct 2018).
| Package 317/342 | Hostname | OS / Arch | INSTALL | BUILD | CHECK | BUILD BIN | ||||||
| TCGAcrcmiRNA 0.114.0 Claudio Isella
| malbec2 | Linux (Ubuntu 16.04.1 LTS) / x86_64 | [ OK ] | OK | OK |
| Package: TCGAcrcmiRNA |
| Version: 0.114.0 |
| Command: /home/biocbuild/bbs-3.7-bioc/R/bin/R CMD INSTALL TCGAcrcmiRNA |
| StartedAt: 2018-10-16 09:03:26 -0400 (Tue, 16 Oct 2018) |
| EndedAt: 2018-10-16 09:03:29 -0400 (Tue, 16 Oct 2018) |
| EllapsedTime: 3.0 seconds |
| RetCode: 0 |
| Status: OK |
############################################################################## ############################################################################## ### ### Running command: ### ### /home/biocbuild/bbs-3.7-bioc/R/bin/R CMD INSTALL TCGAcrcmiRNA ### ############################################################################## ############################################################################## * installing to library ‘/home/biocbuild/bbs-3.7-bioc/R/library’ * installing *source* package ‘TCGAcrcmiRNA’ ... ** R ** data ** byte-compile and prepare package for lazy loading ** help *** installing help indices ** building package indices ** installing vignettes ** testing if installed package can be loaded * DONE (TCGAcrcmiRNA)