| Back to Multiple platform build/check report for BioC 3.9 |
|
This page was generated on 2019-10-16 12:06:43 -0400 (Wed, 16 Oct 2019).
| Package 435/1741 | Hostname | OS / Arch | INSTALL | BUILD | CHECK | BUILD BIN | ||||||
| diffHic 1.16.0 Aaron Lun
| malbec2 | Linux (Ubuntu 18.04.2 LTS) / x86_64 | [ OK ] | OK | OK | |||||||
| tokay2 | Windows Server 2012 R2 Standard / x64 | OK | OK | WARNINGS | OK | |||||||
| celaya2 | OS X 10.11.6 El Capitan / x86_64 | OK | OK | OK | OK |
| Package: diffHic |
| Version: 1.16.0 |
| Command: /home/biocbuild/bbs-3.9-bioc/R/bin/R CMD INSTALL diffHic |
| StartedAt: 2019-10-15 19:22:28 -0400 (Tue, 15 Oct 2019) |
| EndedAt: 2019-10-15 19:24:27 -0400 (Tue, 15 Oct 2019) |
| EllapsedTime: 119.3 seconds |
| RetCode: 0 |
| Status: OK |
##############################################################################
##############################################################################
###
### Running command:
###
### /home/biocbuild/bbs-3.9-bioc/R/bin/R CMD INSTALL diffHic
###
##############################################################################
##############################################################################
* installing to library ‘/home/biocbuild/bbs-3.9-bioc/R/library’
* installing *source* package ‘diffHic’ ...
** using staged installation
** libs
g++ -std=gnu++11 -I"/home/biocbuild/bbs-3.9-bioc/R/include" -DNDEBUG -I"/home/biocbuild/bbs-3.9-bioc/R/library/Rhtslib/include" -I"/home/biocbuild/bbs-3.9-bioc/R/library/zlibbioc/include" -I"/home/biocbuild/bbs-3.9-bioc/R/library/Rcpp/include" -I/usr/local/include -fpic -g -O2 -Wall -c binner.cpp -o binner.o
g++ -std=gnu++11 -I"/home/biocbuild/bbs-3.9-bioc/R/include" -DNDEBUG -I"/home/biocbuild/bbs-3.9-bioc/R/library/Rhtslib/include" -I"/home/biocbuild/bbs-3.9-bioc/R/library/zlibbioc/include" -I"/home/biocbuild/bbs-3.9-bioc/R/library/Rcpp/include" -I/usr/local/include -fpic -g -O2 -Wall -c check_input.cpp -o check_input.o
g++ -std=gnu++11 -I"/home/biocbuild/bbs-3.9-bioc/R/include" -DNDEBUG -I"/home/biocbuild/bbs-3.9-bioc/R/library/Rhtslib/include" -I"/home/biocbuild/bbs-3.9-bioc/R/library/zlibbioc/include" -I"/home/biocbuild/bbs-3.9-bioc/R/library/Rcpp/include" -I/usr/local/include -fpic -g -O2 -Wall -c cluster_2d.cpp -o cluster_2d.o
g++ -std=gnu++11 -I"/home/biocbuild/bbs-3.9-bioc/R/include" -DNDEBUG -I"/home/biocbuild/bbs-3.9-bioc/R/library/Rhtslib/include" -I"/home/biocbuild/bbs-3.9-bioc/R/library/zlibbioc/include" -I"/home/biocbuild/bbs-3.9-bioc/R/library/Rcpp/include" -I/usr/local/include -fpic -g -O2 -Wall -c count_background.cpp -o count_background.o
g++ -std=gnu++11 -I"/home/biocbuild/bbs-3.9-bioc/R/include" -DNDEBUG -I"/home/biocbuild/bbs-3.9-bioc/R/library/Rhtslib/include" -I"/home/biocbuild/bbs-3.9-bioc/R/library/zlibbioc/include" -I"/home/biocbuild/bbs-3.9-bioc/R/library/Rcpp/include" -I/usr/local/include -fpic -g -O2 -Wall -c count_connect.cpp -o count_connect.o
count_connect.cpp: In function ‘SEXPREC* count_connect(SEXP, SEXP)’:
count_connect.cpp:57:30: warning: comparison between signed and unsigned integer expressions [-Wsign-compare]
for (size_t odex=0; odex < ncombos; ++odex) {
~~~~~^~~~~~~~~
g++ -std=gnu++11 -I"/home/biocbuild/bbs-3.9-bioc/R/include" -DNDEBUG -I"/home/biocbuild/bbs-3.9-bioc/R/library/Rhtslib/include" -I"/home/biocbuild/bbs-3.9-bioc/R/library/zlibbioc/include" -I"/home/biocbuild/bbs-3.9-bioc/R/library/Rcpp/include" -I/usr/local/include -fpic -g -O2 -Wall -c count_patch.cpp -o count_patch.o
count_patch.cpp: In function ‘SEXPREC* count_patch(SEXP, SEXP, SEXP, SEXP, SEXP)’:
count_patch.cpp:45:33: warning: comparison between signed and unsigned integer expressions [-Wsign-compare]
for (size_t vecdex=0; vecdex