Back to Multiple platform build/check report for BioC 3.22:   simplified   long
A[B]CDEFGHIJKLMNOPQRSTUVWXYZ

This page was generated on 2025-07-18 12:04 -0400 (Fri, 18 Jul 2025).

HostnameOSArch (*)R versionInstalled pkgs
nebbiolo2Linux (Ubuntu 24.04.2 LTS)x86_644.5.1 (2025-06-13) -- "Great Square Root" 4787
palomino8Windows Server 2022 Datacenterx644.5.1 (2025-06-13 ucrt) -- "Great Square Root" 4525
lconwaymacOS 12.7.1 Montereyx86_644.5.1 (2025-06-13) -- "Great Square Root" 4568
kjohnson3macOS 13.7.1 Venturaarm644.5.1 Patched (2025-06-14 r88325) -- "Great Square Root" 4509
taishanLinux (openEuler 24.03 LTS)aarch644.5.0 (2025-04-11) -- "How About a Twenty-Six" 4510
Click on any hostname to see more info about the system (e.g. compilers)      (*) as reported by 'uname -p', except on Windows and Mac OS X

Package 136/2311HostnameOS / ArchINSTALLBUILDCHECKBUILD BIN
BASiCS 2.21.0  (landing page)
Catalina Vallejos
Snapshot Date: 2025-07-17 13:25 -0400 (Thu, 17 Jul 2025)
git_url: https://git.bioconductor.org/packages/BASiCS
git_branch: devel
git_last_commit: de11c8b
git_last_commit_date: 2025-04-15 11:14:38 -0400 (Tue, 15 Apr 2025)
nebbiolo2Linux (Ubuntu 24.04.2 LTS) / x86_64  OK    OK    OK  UNNEEDED, same version is already published
palomino8Windows Server 2022 Datacenter / x64  OK    OK    OK    OK  NO, package depends on 'scran' which is only available as a source package that needs compilation
lconwaymacOS 12.7.1 Monterey / x86_64  OK    OK    OK    OK  UNNEEDED, same version is already published
kjohnson3macOS 13.7.1 Ventura / arm64  OK    OK    WARNINGS    OK  UNNEEDED, same version is already published
taishanLinux (openEuler 24.03 LTS) / aarch64  OK    OK    OK  


CHECK results for BASiCS on nebbiolo2

To the developers/maintainers of the BASiCS package:
- Allow up to 24 hours (and sometimes 48 hours) for your latest push to git@git.bioconductor.org:packages/BASiCS.git to reflect on this report. See Troubleshooting Build Report for more information.
- Use the following Renviron settings to reproduce errors and warnings.
- If 'R CMD check' started to fail recently on the Linux builder(s) over a missing dependency, add the missing dependency to 'Suggests:' in your DESCRIPTION file. See Renviron.bioc for more information.

raw results


Summary

Package: BASiCS
Version: 2.21.0
Command: /home/biocbuild/bbs-3.22-bioc/R/bin/R CMD check --install=check:BASiCS.install-out.txt --library=/home/biocbuild/bbs-3.22-bioc/R/site-library --timings BASiCS_2.21.0.tar.gz
StartedAt: 2025-07-17 20:09:11 -0400 (Thu, 17 Jul 2025)
EndedAt: 2025-07-17 20:18:29 -0400 (Thu, 17 Jul 2025)
EllapsedTime: 558.1 seconds
RetCode: 0
Status:   OK  
CheckDir: BASiCS.Rcheck
Warnings: 0

Command output

##############################################################################
##############################################################################
###
### Running command:
###
###   /home/biocbuild/bbs-3.22-bioc/R/bin/R CMD check --install=check:BASiCS.install-out.txt --library=/home/biocbuild/bbs-3.22-bioc/R/site-library --timings BASiCS_2.21.0.tar.gz
###
##############################################################################
##############################################################################


* using log directory ‘/home/biocbuild/bbs-3.22-bioc/meat/BASiCS.Rcheck’
* using R version 4.5.1 (2025-06-13)
* using platform: x86_64-pc-linux-gnu
* R was compiled by
    gcc (Ubuntu 13.3.0-6ubuntu2~24.04) 13.3.0
    GNU Fortran (Ubuntu 13.3.0-6ubuntu2~24.04) 13.3.0
* running under: Ubuntu 24.04.2 LTS
* using session charset: UTF-8
* checking for file ‘BASiCS/DESCRIPTION’ ... OK
* checking extension type ... Package
* this is package ‘BASiCS’ version ‘2.21.0’
* package encoding: UTF-8
* checking package namespace information ... OK
* checking package dependencies ... OK
* checking if this is a source package ... OK
* checking if there is a namespace ... OK
* checking for hidden files and directories ... OK
* checking for portable file names ... OK
* checking for sufficient/correct file permissions ... OK
* checking whether package ‘BASiCS’ can be installed ... OK
* used C++ compiler: ‘g++ (Ubuntu 13.3.0-6ubuntu2~24.04) 13.3.0’
* checking C++ specification ... NOTE
  Specified C++11: please drop specification unless essential
* checking installed package size ... INFO
  installed size is 11.7Mb
  sub-directories of 1Mb or more:
    data   2.0Mb
    libs   8.7Mb
* checking package directory ... OK
* checking ‘build’ directory ... OK
* checking DESCRIPTION meta-information ... OK
* checking top-level files ... OK
* checking for left-over files ... OK
* checking index information ... OK
* checking package subdirectories ... OK
* checking code files for non-ASCII characters ... OK
* checking R files for syntax errors ... OK
* checking whether the package can be loaded ... OK
* checking whether the package can be loaded with stated dependencies ... OK
* checking whether the package can be unloaded cleanly ... OK
* checking whether the namespace can be loaded with stated dependencies ... OK
* checking whether the namespace can be unloaded cleanly ... OK
* checking loading without being on the library search path ... OK
* checking whether startup messages can be suppressed ... OK
* checking dependencies in R code ... OK
* checking S3 generic/method consistency ... OK
* checking replacement functions ... OK
* checking foreign function calls ... OK
* checking R code for possible problems ... OK
* checking Rd files ... OK
* checking Rd metadata ... OK
* checking Rd cross-references ... NOTE
Found the following Rd file(s) with Rd \link{} targets missing package
anchors:
  BASiCS_DenoisedCounts.Rd: SingleCellExperiment-class
  BASiCS_DenoisedRates.Rd: SingleCellExperiment-class
  BASiCS_DivideAndConquer.Rd: BiocParallelParam
  BASiCS_Draw.Rd: SingleCellExperiment-class
  BASiCS_Filter.Rd: SingleCellExperiment-class
  BASiCS_MCMC.Rd: SingleCellExperiment-class, BiocParallelParam
  BASiCS_MockSCE.Rd: SingleCellExperiment-class
  BASiCS_PriorParam.Rd: SingleCellExperiment-class
  BASiCS_ResultVG.Rd: DataFrame-class
  BASiCS_Sim.Rd: SingleCellExperiment-class
  BASiCS_VarianceDecomp.Rd: scale_fill_brewer
  makeExampleBASiCS_Data.Rd: SingleCellExperiment-class
  newBASiCS_Data.Rd: SingleCellExperiment-class
  rowData.Rd: DFrame-class
Please provide package anchors for all Rd \link{} targets not in the
package itself and the base packages.
* checking for missing documentation entries ... OK
* checking for code/documentation mismatches ... OK
* checking Rd \usage sections ... OK
* checking Rd contents ... OK
* checking for unstated dependencies in examples ... OK
* checking contents of ‘data’ directory ... OK
* checking data for non-ASCII characters ... OK
* checking data for ASCII and uncompressed saves ... OK
* checking line endings in C/C++/Fortran sources/headers ... OK
* checking line endings in Makefiles ... OK
* checking compilation flags in Makevars ... OK
* checking for GNU extensions in Makefiles ... OK
* checking for portable use of $(BLAS_LIBS) and $(LAPACK_LIBS) ... OK
* checking use of PKG_*FLAGS in Makefiles ... OK
* checking compiled code ... NOTE
Note: information on .o files is not available
* checking files in ‘vignettes’ ... OK
* checking examples ... OK
Examples with CPU (user + system) or elapsed time > 5s
                         user system elapsed
BASiCS_MCMC             6.048  0.373   6.422
BASiCS_TestDE           6.202  0.140   6.343
BASiCS_DivideAndConquer 2.908  0.050  16.245
* checking for unstated dependencies in ‘tests’ ... OK
* checking tests ...
  Running ‘testthat.R’
 OK
* checking for unstated dependencies in vignettes ... OK
* checking package vignettes ... OK
* checking re-building of vignette outputs ... OK
* checking PDF version of manual ... OK
* DONE

Status: 3 NOTEs
See
  ‘/home/biocbuild/bbs-3.22-bioc/meat/BASiCS.Rcheck/00check.log’
for details.


Installation output

BASiCS.Rcheck/00install.out

##############################################################################
##############################################################################
###
### Running command:
###
###   /home/biocbuild/bbs-3.22-bioc/R/bin/R CMD INSTALL BASiCS
###
##############################################################################
##############################################################################


* installing to library ‘/home/biocbuild/bbs-3.22-bioc/R/site-library’
* installing *source* package ‘BASiCS’ ...
** this is package ‘BASiCS’ version ‘2.21.0’
** using staged installation
** libs
using C++ compiler: ‘g++ (Ubuntu 13.3.0-6ubuntu2~24.04) 13.3.0’
using C++11
g++ -std=gnu++11 -I"/home/biocbuild/bbs-3.22-bioc/R/include" -DNDEBUG  -I'/home/biocbuild/bbs-3.22-bioc/R/site-library/Rcpp/include' -I'/home/biocbuild/bbs-3.22-bioc/R/site-library/RcppArmadillo/include' -I/usr/local/include   -fopenmp -fpic  -g -O2  -Wall -Werror=format-security  -c BASiCS.cpp -o BASiCS.o
In file included from /home/biocbuild/bbs-3.22-bioc/R/include/R.h:73,
                 from libraries.h:6,
                 from utils.h:4,
                 from updates.h:4,
                 from BASiCS.cpp:1:
/home/biocbuild/bbs-3.22-bioc/R/site-library/Rcpp/include/Rcpp/exceptions.h: In function ‘void Rcpp::Rf_warning(const char*, Args&& ...) [with Args = {const char*}]’:
/home/biocbuild/bbs-3.22-bioc/R/include/R_ext/Error.h:85:17: warning: infinite recursion detected [-Winfinite-recursion]
   85 | #define warning Rf_warning
      |                 ^~~~~~~~~~
/home/biocbuild/bbs-3.22-bioc/R/site-library/Rcpp/include/Rcpp/exceptions.h:190:17: note: in expansion of macro ‘warning’
  190 |     inline void warning(const char* fmt, Args&&... args ) {
      |                 ^~~~~~~
In file included from /home/biocbuild/bbs-3.22-bioc/R/site-library/Rcpp/include/RcppCommon.h:133,
                 from /home/biocbuild/bbs-3.22-bioc/R/site-library/RcppArmadillo/include/RcppArmadillo/interface/RcppArmadilloForward.h:25,
                 from /home/biocbuild/bbs-3.22-bioc/R/site-library/RcppArmadillo/include/RcppArmadillo.h:29,
                 from libraries.h:11:
/home/biocbuild/bbs-3.22-bioc/R/site-library/Rcpp/include/Rcpp/exceptions.h:191:19: note: recursive call
  191 |         Rf_warning("%s", tfm::format(fmt, std::forward<Args>(args)... ).c_str());
      |         ~~~~~~~~~~^~~~~~~~~~~~~~~~~~~~~~~~~~~~~~~~~~~~~~~~~~~~~~~~~~~~~~~~~~~~~~
g++ -std=gnu++11 -I"/home/biocbuild/bbs-3.22-bioc/R/include" -DNDEBUG  -I'/home/biocbuild/bbs-3.22-bioc/R/site-library/Rcpp/include' -I'/home/biocbuild/bbs-3.22-bioc/R/site-library/RcppArmadillo/include' -I/usr/local/include   -fopenmp -fpic  -g -O2  -Wall -Werror=format-security  -c RcppExports.cpp -o RcppExports.o
g++ -std=gnu++11 -shared -L/home/biocbuild/bbs-3.22-bioc/R/lib -L/usr/local/lib -o BASiCS.so BASiCS.o RcppExports.o -llapack -L/home/biocbuild/bbs-3.22-bioc/R/lib -lRblas -lgfortran -lm -lquadmath -fopenmp -L/home/biocbuild/bbs-3.22-bioc/R/lib -lR
installing to /home/biocbuild/bbs-3.22-bioc/R/site-library/00LOCK-BASiCS/00new/BASiCS/libs
** R
** data
** inst
** byte-compile and prepare package for lazy loading
** help
*** installing help indices
** building package indices
** installing vignettes
** testing if installed package can be loaded from temporary location
** checking absolute paths in shared objects and dynamic libraries
** testing if installed package can be loaded from final location
** testing if installed package keeps a record of temporary installation path
* DONE (BASiCS)

Tests output

BASiCS.Rcheck/tests/testthat.Rout


R version 4.5.1 (2025-06-13) -- "Great Square Root"
Copyright (C) 2025 The R Foundation for Statistical Computing
Platform: x86_64-pc-linux-gnu

R is free software and comes with ABSOLUTELY NO WARRANTY.
You are welcome to redistribute it under certain conditions.
Type 'license()' or 'licence()' for distribution details.

R is a collaborative project with many contributors.
Type 'contributors()' for more information and
'citation()' on how to cite R or R packages in publications.

Type 'demo()' for some demos, 'help()' for on-line help, or
'help.start()' for an HTML browser interface to help.
Type 'q()' to quit R.

> library(testthat)
> library(BASiCS)
Loading required package: SingleCellExperiment
Loading required package: SummarizedExperiment
Loading required package: MatrixGenerics
Loading required package: matrixStats

Attaching package: 'MatrixGenerics'

The following objects are masked from 'package:matrixStats':

    colAlls, colAnyNAs, colAnys, colAvgsPerRowSet, colCollapse,
    colCounts, colCummaxs, colCummins, colCumprods, colCumsums,
    colDiffs, colIQRDiffs, colIQRs, colLogSumExps, colMadDiffs,
    colMads, colMaxs, colMeans2, colMedians, colMins, colOrderStats,
    colProds, colQuantiles, colRanges, colRanks, colSdDiffs, colSds,
    colSums2, colTabulates, colVarDiffs, colVars, colWeightedMads,
    colWeightedMeans, colWeightedMedians, colWeightedSds,
    colWeightedVars, rowAlls, rowAnyNAs, rowAnys, rowAvgsPerColSet,
    rowCollapse, rowCounts, rowCummaxs, rowCummins, rowCumprods,
    rowCumsums, rowDiffs, rowIQRDiffs, rowIQRs, rowLogSumExps,
    rowMadDiffs, rowMads, rowMaxs, rowMeans2, rowMedians, rowMins,
    rowOrderStats, rowProds, rowQuantiles, rowRanges, rowRanks,
    rowSdDiffs, rowSds, rowSums2, rowTabulates, rowVarDiffs, rowVars,
    rowWeightedMads, rowWeightedMeans, rowWeightedMedians,
    rowWeightedSds, rowWeightedVars

Loading required package: GenomicRanges
Loading required package: stats4
Loading required package: BiocGenerics
Loading required package: generics

Attaching package: 'generics'

The following objects are masked from 'package:base':

    as.difftime, as.factor, as.ordered, intersect, is.element, setdiff,
    setequal, union


Attaching package: 'BiocGenerics'

The following objects are masked from 'package:stats':

    IQR, mad, sd, var, xtabs

The following objects are masked from 'package:base':

    Filter, Find, Map, Position, Reduce, anyDuplicated, aperm, append,
    as.data.frame, basename, cbind, colnames, dirname, do.call,
    duplicated, eval, evalq, get, grep, grepl, is.unsorted, lapply,
    mapply, match, mget, order, paste, pmax, pmax.int, pmin, pmin.int,
    rank, rbind, rownames, sapply, saveRDS, table, tapply, unique,
    unsplit, which.max, which.min

Loading required package: S4Vectors

Attaching package: 'S4Vectors'

The following object is masked from 'package:utils':

    findMatches

The following objects are masked from 'package:base':

    I, expand.grid, unname

Loading required package: IRanges
Loading required package: Seqinfo
Loading required package: Biobase
Welcome to Bioconductor

    Vignettes contain introductory material; view with
    'browseVignettes()'. To cite Bioconductor, see
    'citation("Biobase")', and for packages 'citation("pkgname")'.


Attaching package: 'Biobase'

The following object is masked from 'package:MatrixGenerics':

    rowMedians

The following objects are masked from 'package:matrixStats':

    anyMissing, rowMedians

    Welcome to 'BASiCS'. If you used 'BASiCS' before its release in
    Bioconductor, please visit:
    https://github.com/catavallejos/BASiCS/wiki.
> 
> test_check("BASiCS")
-------------------------------------------------------------
Log-fold change thresholds are now set in a log2 scale. 
Original BASiCS release used a natural logarithm scale.
-------------------------------------------------------------
Offset estimate: 0.6714
(ratio SC vs P&S).
-------------------------------------------------------------

-------------------------------------------------------------
Log-fold change thresholds are now set in a log2 scale. 
Original BASiCS release used a natural logarithm scale.
-------------------------------------------------------------
Offset estimate: 0.6714
(ratio SC vs P&S).
To visualise its effect, please use 'PlotOffset = TRUE'.
-------------------------------------------------------------

-------------------------------------------------------------
Log-fold change thresholds are now set in a log2 scale. 
Original BASiCS release used a natural logarithm scale.
-------------------------------------------------------------
Offset estimate: 0.6714
(ratio Group1 vs Group2).
To visualise its effect, please use 'PlotOffset = TRUE'.
-------------------------------------------------------------

For Differential mean task:
the posterior probability threshold chosen via EFDR calibration is too low.
Probability threshold automatically set equal to 'ProbThresholdM'.
EFDR calibration failed for Differential dispersion task. 
Probability threshold automatically set equal to 'ProbThresholdD'.
-------------------------------------------------------------
Log-fold change thresholds are now set in a log2 scale. 
Original BASiCS release used a natural logarithm scale.
-------------------------------------------------------------
Offset estimate: 0.6714
(ratio SC vs P&S).
To visualise its effect, please use 'PlotOffset = TRUE'.
-------------------------------------------------------------

-------------------------------------------------------------
Log-fold change thresholds are now set in a log2 scale. 
Original BASiCS release used a natural logarithm scale.
-------------------------------------------------------------
Offset estimate: 0.6714
(ratio Group1 vs Group2).
-------------------------------------------------------------

For Differential mean task:
the posterior probability threshold chosen via EFDR calibration is too low.
Probability threshold automatically set equal to 'ProbThresholdM'.
EFDR calibration failed for Differential dispersion task. 
Probability threshold automatically set equal to 'ProbThresholdD'.
-------------------------------------------------------------
Log-fold change thresholds are now set in a log2 scale. 
Original BASiCS release used a natural logarithm scale.
-------------------------------------------------------------
Offset estimate: 0.6714
(ratio SC vs P&S).
To visualise its effect, please use 'PlotOffset = TRUE'.
-------------------------------------------------------------

-------------------------------------------------------------
Log-fold change thresholds are now set in a log2 scale. 
Original BASiCS release used a natural logarithm scale.
-------------------------------------------------------------
Offset estimate: 0.6714
(ratio SC vs P&S).
To visualise its effect, please use 'PlotOffset = TRUE'.
-------------------------------------------------------------

-------------------------------------------------------------
Log-fold change thresholds are now set in a log2 scale. 
Original BASiCS release used a natural logarithm scale.
-------------------------------------------------------------
Offset estimate: 0.6787
(ratio SC vs P&S).
To visualise its effect, please use 'PlotOffset = TRUE'.
-------------------------------------------------------------

-------------------------------------------------------------
Log-fold change thresholds are now set in a log2 scale. 
Original BASiCS release used a natural logarithm scale.
-------------------------------------------------------------
Log-fold change thresholds are now set in a log2 scale. 
Original BASiCS release used a natural logarithm scale.
-------------------------------------------------------------
Offset estimate: 0.6787
(ratio Group1 vs Group2).
To visualise its effect, please use 'PlotOffset = TRUE'.
-------------------------------------------------------------

-------------------------------------------------------------
Log-fold change thresholds are now set in a log2 scale. 
Original BASiCS release used a natural logarithm scale.
-------------------------------------------------------------
Offset estimate: 0.6787
(ratio Group1 vs Group2).
To visualise its effect, please use 'PlotOffset = TRUE'.
-------------------------------------------------------------

EFDR calibration failed for Differential mean task. 
Probability threshold automatically set equal to 'ProbThresholdM'.
EFDR calibration failed for Differential dispersion task. 
Probability threshold automatically set equal to 'ProbThresholdD'.
For Differential residual dispersion task:
the posterior probability threshold chosen via EFDR calibration is too low.
Probability threshold automatically set equal to 'ProbThresholdR'.
-------------------------------------------------------------
Log-fold change thresholds are now set in a log2 scale. 
Original BASiCS release used a natural logarithm scale.
-------------------------------------------------------------
Offset estimate: 0.6787
(ratio SC vs P&S).
To visualise its effect, please use 'PlotOffset = TRUE'.
-------------------------------------------------------------

-------------------------------------------------------------
Log-fold change thresholds are now set in a log2 scale. 
Original BASiCS release used a natural logarithm scale.
-------------------------------------------------------------
Offset estimate: 0.6787
(ratio Group1 vs Group2).
To visualise its effect, please use 'PlotOffset = TRUE'.
-------------------------------------------------------------

EFDR calibration failed for Differential mean task. 
Probability threshold automatically set equal to 'ProbThresholdM'.
EFDR calibration failed for Differential dispersion task. 
Probability threshold automatically set equal to 'ProbThresholdD'.
For Differential residual dispersion task:
the posterior probability threshold chosen via EFDR calibration is too low.
Probability threshold automatically set equal to 'ProbThresholdR'.
altExp 'spike-ins' is assumed to contain spike-in genes.
see help(altExp) for details. 

Running with spikes BASiCS sampler (regression case) ... 

-------------------------------------------------------------
MCMC running time 
-------------------------------------------------------------
user: 0.009
system: 0
elapsed: 0.009

-------------------------------------------------------------
Output 
-------------------------------------------------------------

-------------------------------------------------------------
BASiCS version 2.21.0 : 
vertical integration (spikes case) 
-------------------------------------------------------------

altExp 'spike-ins' is assumed to contain spike-in genes.
see help(altExp) for details. 

Running with spikes BASiCS sampler (regression case) ... 

-------------------------------------------------------------
MCMC running time 
-------------------------------------------------------------
user: 0.011
system: 0
elapsed: 0.01

-------------------------------------------------------------
Output 
-------------------------------------------------------------

-------------------------------------------------------------
BASiCS version 2.21.0 : 
vertical integration (spikes case) 
-------------------------------------------------------------

altExp 'spike-ins' is assumed to contain spike-in genes.
see help(altExp) for details. 

altExp 'spike-ins' is assumed to contain spike-in genes.
see help(altExp) for details. 

Running with spikes BASiCS sampler (regression case) ... 

-------------------------------------------------------------
MCMC running time 
-------------------------------------------------------------
user: 0.008
system: 0
elapsed: 0.008

-------------------------------------------------------------
Output 
-------------------------------------------------------------

-------------------------------------------------------------
BASiCS version 2.21.0 : 
vertical integration (spikes case) 
-------------------------------------------------------------

altExp 'spike-ins' is assumed to contain spike-in genes.
see help(altExp) for details. 

Running with spikes BASiCS sampler (regression case) ... 

-------------------------------------------------------------
MCMC running time 
-------------------------------------------------------------
user: 0.012
system: 0
elapsed: 0.011

-------------------------------------------------------------
Output 
-------------------------------------------------------------

-------------------------------------------------------------
BASiCS version 2.21.0 : 
vertical integration (spikes case) 
-------------------------------------------------------------

Combining batch posteriors for mu
Combining batch posteriors for delta
Combining batch posteriors for phi
Combining batch posteriors for s
Combining batch posteriors for nu
Combining batch posteriors for theta
Combining batch posteriors for beta
Combining batch posteriors for sigma2
Combining batch posteriors for epsilon
Combining batch posteriors for RBFLocations
altExp 'spike-ins' is assumed to contain spike-in genes.
see help(altExp) for details. 

altExp 'spike-ins' is assumed to contain spike-in genes.
see help(altExp) for details. 

-------------------------------------------------------------
NOTE: default choice PriorDelta = 'log-normal'  (recommended value). 
Vallejos et al (2015) used a 'gamma' prior instead.
-------------------------------------------------------------

Running with spikes BASiCS sampler (no regression) ... 

-------------------------------------------------------------
MCMC running time 
-------------------------------------------------------------
user: 0.009
system: 0
elapsed: 0.008

-------------------------------------------------------------
Output 
-------------------------------------------------------------

-------------------------------------------------------------
BASiCS version 2.21.0 : 
vertical integration (spikes case) 
-------------------------------------------------------------

altExp 'spike-ins' is assumed to contain spike-in genes.
see help(altExp) for details. 

-------------------------------------------------------------
NOTE: default choice PriorDelta = 'log-normal'  (recommended value). 
Vallejos et al (2015) used a 'gamma' prior instead.
-------------------------------------------------------------

Running with spikes BASiCS sampler (no regression) ... 

-------------------------------------------------------------
MCMC running time 
-------------------------------------------------------------
user: 0.009
system: 0
elapsed: 0.009

-------------------------------------------------------------
Output 
-------------------------------------------------------------

-------------------------------------------------------------
BASiCS version 2.21.0 : 
vertical integration (spikes case) 
-------------------------------------------------------------

Combining batch posteriors for mu
Combining batch posteriors for delta
Combining batch posteriors for phi
Combining batch posteriors for s
Combining batch posteriors for nu
Combining batch posteriors for theta
Running no spikes BASiCS sampler (regression case) ... 

-------------------------------------------------------------
MCMC running time 
-------------------------------------------------------------
user: 0.008
system: 0
elapsed: 0.008

-------------------------------------------------------------
Output 
-------------------------------------------------------------

Running no spikes BASiCS sampler (regression case) ... 

-------------------------------------------------------------
MCMC running time 
-------------------------------------------------------------
user: 0.009
system: 0
elapsed: 0.009

-------------------------------------------------------------
Output 
-------------------------------------------------------------

Combining batch posteriors for mu
Combining batch posteriors for delta
Combining batch posteriors for s
Combining batch posteriors for nu
Combining batch posteriors for theta
Combining batch posteriors for beta
Combining batch posteriors for sigma2
Combining batch posteriors for epsilon
Combining batch posteriors for RBFLocations
-------------------------------------------------------------
NOTE: default choice PriorDelta = 'log-normal'  (recommended value). 
Vallejos et al (2015) used a 'gamma' prior instead.
-------------------------------------------------------------

Running no spikes BASiCS sampler (no regression) ... 

-------------------------------------------------------------
MCMC running time 
-------------------------------------------------------------
user: 0.006
system: 0
elapsed: 0.006

-------------------------------------------------------------
Output 
-------------------------------------------------------------

-------------------------------------------------------------
NOTE: default choice PriorDelta = 'log-normal'  (recommended value). 
Vallejos et al (2015) used a 'gamma' prior instead.
-------------------------------------------------------------

Running no spikes BASiCS sampler (no regression) ... 

-------------------------------------------------------------
MCMC running time 
-------------------------------------------------------------
user: 0.009
system: 0
elapsed: 0.008

-------------------------------------------------------------
Output 
-------------------------------------------------------------

Combining batch posteriors for mu
Combining batch posteriors for delta
Combining batch posteriors for s
Combining batch posteriors for nu
Combining batch posteriors for theta
altExp 'spike-ins' is assumed to contain spike-in genes.
see help(altExp) for details. 

altExp 'spike-ins' is assumed to contain spike-in genes.
see help(altExp) for details. 

Running with spikes BASiCS sampler (regression case) ... 

-------------------------------------------------------------
MCMC running time 
-------------------------------------------------------------
user: 0.01
system: 0
elapsed: 0.01

-------------------------------------------------------------
Output 
-------------------------------------------------------------

-------------------------------------------------------------
BASiCS version 2.21.0 : 
vertical integration (spikes case) 
-------------------------------------------------------------

altExp 'spike-ins' is assumed to contain spike-in genes.
see help(altExp) for details. 

Running with spikes BASiCS sampler (regression case) ... 

-------------------------------------------------------------
MCMC running time 
-------------------------------------------------------------
user: 0.011
system: 0
elapsed: 0.01

-------------------------------------------------------------
Output 
-------------------------------------------------------------

-------------------------------------------------------------
BASiCS version 2.21.0 : 
vertical integration (spikes case) 
-------------------------------------------------------------

Combining batch posteriors for mu
Combining batch posteriors for delta
Combining batch posteriors for phi
Combining batch posteriors for s
Combining batch posteriors for nu
Combining batch posteriors for theta
Combining batch posteriors for beta
Combining batch posteriors for sigma2
Combining batch posteriors for epsilon
Combining batch posteriors for RBFLocations
altExp 'spike-ins' is assumed to contain spike-in genes.
see help(altExp) for details. 

altExp 'spike-ins' is assumed to contain spike-in genes.
see help(altExp) for details. 

-------------------------------------------------------------
NOTE: default choice PriorDelta = 'log-normal'  (recommended value). 
Vallejos et al (2015) used a 'gamma' prior instead.
-------------------------------------------------------------

Running with spikes BASiCS sampler (no regression) ... 

-------------------------------------------------------------
MCMC running time 
-------------------------------------------------------------
user: 0.008
system: 0
elapsed: 0.008

-------------------------------------------------------------
Output 
-------------------------------------------------------------

-------------------------------------------------------------
BASiCS version 2.21.0 : 
vertical integration (spikes case) 
-------------------------------------------------------------

altExp 'spike-ins' is assumed to contain spike-in genes.
see help(altExp) for details. 

-------------------------------------------------------------
NOTE: default choice PriorDelta = 'log-normal'  (recommended value). 
Vallejos et al (2015) used a 'gamma' prior instead.
-------------------------------------------------------------

Running with spikes BASiCS sampler (no regression) ... 

-------------------------------------------------------------
MCMC running time 
-------------------------------------------------------------
user: 0.009
system: 0
elapsed: 0.009

-------------------------------------------------------------
Output 
-------------------------------------------------------------

-------------------------------------------------------------
BASiCS version 2.21.0 : 
vertical integration (spikes case) 
-------------------------------------------------------------

Combining batch posteriors for mu
Combining batch posteriors for delta
Combining batch posteriors for phi
Combining batch posteriors for s
Combining batch posteriors for nu
Combining batch posteriors for theta
Running no spikes BASiCS sampler (regression case) ... 

-------------------------------------------------------------
MCMC running time 
-------------------------------------------------------------
user: 0.009
system: 0
elapsed: 0.009

-------------------------------------------------------------
Output 
-------------------------------------------------------------

Running no spikes BASiCS sampler (regression case) ... 

-------------------------------------------------------------
MCMC running time 
-------------------------------------------------------------
user: 0.008
system: 0
elapsed: 0.009

-------------------------------------------------------------
Output 
-------------------------------------------------------------

Combining batch posteriors for mu
Combining batch posteriors for delta
Combining batch posteriors for s
Combining batch posteriors for nu
Combining batch posteriors for theta
Combining batch posteriors for beta
Combining batch posteriors for sigma2
Combining batch posteriors for epsilon
Combining batch posteriors for RBFLocations
-------------------------------------------------------------
NOTE: default choice PriorDelta = 'log-normal'  (recommended value). 
Vallejos et al (2015) used a 'gamma' prior instead.
-------------------------------------------------------------

Running no spikes BASiCS sampler (no regression) ... 

-------------------------------------------------------------
MCMC running time 
-------------------------------------------------------------
user: 0.006
system: 0
elapsed: 0.006

-------------------------------------------------------------
Output 
-------------------------------------------------------------

-------------------------------------------------------------
NOTE: default choice PriorDelta = 'log-normal'  (recommended value). 
Vallejos et al (2015) used a 'gamma' prior instead.
-------------------------------------------------------------

Running no spikes BASiCS sampler (no regression) ... 

-------------------------------------------------------------
MCMC running time 
-------------------------------------------------------------
user: 0.008
system: 0
elapsed: 0.008

-------------------------------------------------------------
Output 
-------------------------------------------------------------

Combining batch posteriors for mu
Combining batch posteriors for delta
Combining batch posteriors for s
Combining batch posteriors for nu
Combining batch posteriors for theta
-------------------------------------------------------------
NOTE: default choice PriorDelta = 'log-normal'  (recommended value). 
Vallejos et al (2015) used a 'gamma' prior instead.
-------------------------------------------------------------

Running no spikes BASiCS sampler (no regression) ... 

-------------------------------------------------------------
MCMC running time 
-------------------------------------------------------------
user: 0.011
system: 0
elapsed: 0.012

-------------------------------------------------------------
Output 
-------------------------------------------------------------

altExp 'spike-ins' is assumed to contain spike-in genes.
see help(altExp) for details. 

Running with spikes BASiCS sampler (regression case) ... 

-------------------------------------------------------------
MCMC running time 
-------------------------------------------------------------
user: 0.051
system: 0
elapsed: 0.05

-------------------------------------------------------------
Output 
-------------------------------------------------------------

-------------------------------------------------------------
BASiCS version 2.21.0 : 
vertical integration (spikes case) 
-------------------------------------------------------------

altExp 'spike-ins' is assumed to contain spike-in genes.
see help(altExp) for details. 

Running with spikes BASiCS sampler (regression case) ... 

-------------------------------------------------------------
MCMC running time 
-------------------------------------------------------------
user: 0.053
system: 0
elapsed: 0.052

-------------------------------------------------------------
Output 
-------------------------------------------------------------

-------------------------------------------------------------
BASiCS version 2.21.0 : 
vertical integration (spikes case) 
-------------------------------------------------------------

Combining batch posteriors for mu
Combining batch posteriors for delta
Combining batch posteriors for phi
Combining batch posteriors for s
Combining batch posteriors for nu
Combining batch posteriors for theta
Combining batch posteriors for beta
Combining batch posteriors for sigma2
Combining batch posteriors for epsilon
Combining batch posteriors for RBFLocations
Combining batch posteriors for mu
Combining batch posteriors for delta
Combining batch posteriors for phi
Combining batch posteriors for s
Combining batch posteriors for nu
Combining batch posteriors for theta
Combining batch posteriors for beta
Combining batch posteriors for sigma2
Combining batch posteriors for epsilon
Combining batch posteriors for RBFLocations
Combining batch posteriors for mu
Combining batch posteriors for mu
Combining batch posteriors for delta
Combining batch posteriors for phi
Combining batch posteriors for s
Combining batch posteriors for nu
Combining batch posteriors for theta
Cannot find a balanced split with 9 quantiles, trying again with 8
altExp 'spike-ins' is assumed to contain spike-in genes.
see help(altExp) for details. 

Running with spikes BASiCS sampler (regression case) ... 

-------------------------------------------------------------
MCMC running time 
-------------------------------------------------------------
user: 0.053
system: 0
elapsed: 0.053

-------------------------------------------------------------
Output 
-------------------------------------------------------------

-------------------------------------------------------------
BASiCS version 2.21.0 : 
vertical integration (spikes case) 
-------------------------------------------------------------

altExp 'spike-ins' is assumed to contain spike-in genes.
see help(altExp) for details. 

Running with spikes BASiCS sampler (regression case) ... 

-------------------------------------------------------------
MCMC running time 
-------------------------------------------------------------
user: 0.046
system: 0
elapsed: 0.046

-------------------------------------------------------------
Output 
-------------------------------------------------------------

-------------------------------------------------------------
BASiCS version 2.21.0 : 
vertical integration (spikes case) 
-------------------------------------------------------------

Generating partitions...
Starting MCMC...
-------------------------------------------------------------
NOTE: default choice PriorDelta = 'log-normal'  (recommended value). 
Vallejos et al (2015) used a 'gamma' prior instead.
-------------------------------------------------------------

Running no spikes BASiCS sampler (no regression) ... 

-----------------------------------------------------
MCMC sampler has been started: 200 iterations to go.
-----------------------------------------------------
RefGene: 13
RefGene: 44
RefGene: 31
RefGene: 31
RefGene: 15
RefGene: 43
RefGene: 44
RefGene: 15
RefGene: 11
RefGene: 0
RefGene: 0
RefGene: 11
RefGene: 15
RefGene: 11
RefGene: 13
RefGene: 39
RefGene: 11
RefGene: 31
RefGene: 0
RefGene: 0
RefGene: 15
RefGene: 43
RefGene: 17
RefGene: 11
RefGene: 11
RefGene: 17
RefGene: 0
RefGene: 11
RefGene: 11
RefGene: 44
RefGene: 15
RefGene: 44
RefGene: 15
RefGene: 43
RefGene: 43
RefGene: 17
RefGene: 43
RefGene: 44
RefGene: 43
RefGene: 31
RefGene: 11
RefGene: 13
RefGene: 44
RefGene: 15
RefGene: 16
RefGene: 15
RefGene: 43
RefGene: 39
RefGene: 43
RefGene: 15
RefGene: 44
RefGene: 15
RefGene: 13
RefGene: 0
RefGene: 16
RefGene: 43
RefGene: 16
RefGene: 13
RefGene: 0
RefGene: 31
RefGene: 0
RefGene: 43
RefGene: 13
RefGene: 13
RefGene: 39
RefGene: 44
RefGene: 0
RefGene: 0
RefGene: 0
RefGene: 43
RefGene: 44
RefGene: 44
RefGene: 17
RefGene: 39
RefGene: 11
RefGene: 16
RefGene: 44
RefGene: 43
RefGene: 17
RefGene: 15
RefGene: 39
RefGene: 11
RefGene: 39
RefGene: 13
RefGene: 11
RefGene: 0
RefGene: 43
RefGene: 44
RefGene: 44
RefGene: 31
RefGene: 17
RefGene: 17
RefGene: 11
RefGene: 16
RefGene: 39
RefGene: 0
RefGene: 43
RefGene: 17
RefGene: 15
RefGene: 13
-----------------------------------------------------
End of Burn-in period.
-----------------------------------------------------
RefGene: 13
RefGene: 43
RefGene: 39
RefGene: 0
RefGene: 0
RefGene: 16
RefGene: 17
RefGene: 13
RefGene: 43
RefGene: 39
RefGene: 39
RefGene: 15
RefGene: 17
RefGene: 11
RefGene: 11
RefGene: 43
RefGene: 31
RefGene: 43
RefGene: 43
RefGene: 13
RefGene: 43
RefGene: 15
RefGene: 43
RefGene: 43
RefGene: 11
RefGene: 15
RefGene: 17
RefGene: 15
RefGene: 0
RefGene: 16
RefGene: 11
RefGene: 44
RefGene: 0
RefGene: 0
RefGene: 16
RefGene: 39
RefGene: 17
RefGene: 44
RefGene: 11
RefGene: 0
RefGene: 16
RefGene: 0
RefGene: 13
RefGene: 16
RefGene: 13
RefGene: 31
RefGene: 16
RefGene: 15
RefGene: 15
RefGene: 15
RefGene: 15
RefGene: 39
RefGene: 0
RefGene: 11
RefGene: 39
RefGene: 16
RefGene: 39
RefGene: 17
RefGene: 39
RefGene: 16
RefGene: 11
RefGene: 15
RefGene: 13
RefGene: 0
RefGene: 11
RefGene: 0
RefGene: 15
RefGene: 17
RefGene: 43
RefGene: 0
RefGene: 15
RefGene: 15
RefGene: 0
RefGene: 11
RefGene: 13
RefGene: 0
RefGene: 44
RefGene: 0
RefGene: 31
RefGene: 39
RefGene: 11
RefGene: 13
RefGene: 43
RefGene: 39
RefGene: 0
RefGene: 44
RefGene: 0
RefGene: 31
RefGene: 44
RefGene: 43
RefGene: 16
RefGene: 11
RefGene: 15
RefGene: 15
RefGene: 31
RefGene: 17
RefGene: 17
RefGene: 17
RefGene: 43
RefGene: 13
 
-----------------------------------------------------
-----------------------------------------------------
All 200 MCMC iterations have been completed.
-----------------------------------------------------
-----------------------------------------------------
 
-----------------------------------------------------
Please see below a summary of the overall acceptance rates.
-----------------------------------------------------
 
Minimum acceptance rate among mu[i]'s: 0.2
Average acceptance rate among mu[i]'s: 0.4892
Maximum acceptance rate among mu[i]'s: 0.79
 
 
Minimum acceptance rate among delta[i]'s: 0.49
Average acceptance rate among delta[i]'s: 0.669
Maximum acceptance rate among delta[i]'s: 0.8
 
 
Minimum acceptance rate among nu[jk]'s: 0.8
Average acceptance rate among nu[jk]'s: 0.9521
Maximum acceptance rate among nu[jk]'s: 1
 
 
Minimum acceptance rate among theta[k]'s: 0.75
Average acceptance rate among theta[k]'s: 0.84
Maximum acceptance rate among theta[k]'s: 0.93
 
-----------------------------------------------------
 
-------------------------------------------------------------
MCMC running time 
-------------------------------------------------------------
user: 0.159
system: 0
elapsed: 0.159

-------------------------------------------------------------
Output 
-------------------------------------------------------------


-------------------------------------------------------------
NOTE: default choice PriorDelta = 'log-normal'  (recommended value). 
Vallejos et al (2015) used a 'gamma' prior instead.
-------------------------------------------------------------

Running no spikes BASiCS sampler (no regression) ... 

-----------------------------------------------------
MCMC sampler has been started: 200 iterations to go.
-----------------------------------------------------
RefGene: 36
RefGene: 36
RefGene: 49
RefGene: 10
RefGene: 22
RefGene: 14
RefGene: 9
RefGene: 23
RefGene: 10
RefGene: 11
RefGene: 19
RefGene: 49
RefGene: 36
RefGene: 19
RefGene: 49
RefGene: 9
RefGene: 9
RefGene: 19
RefGene: 47
RefGene: 10
RefGene: 14
RefGene: 47
RefGene: 19
RefGene: 47
RefGene: 10
RefGene: 47
RefGene: 22
RefGene: 11
RefGene: 10
RefGene: 23
RefGene: 22
RefGene: 14
RefGene: 19
RefGene: 36
RefGene: 9
RefGene: 9
RefGene: 47
RefGene: 19
RefGene: 23
RefGene: 49
RefGene: 9
RefGene: 23
RefGene: 9
RefGene: 19
RefGene: 47
RefGene: 14
RefGene: 10
RefGene: 14
RefGene: 47
RefGene: 11
RefGene: 14
RefGene: 47
RefGene: 47
RefGene: 9
RefGene: 11
RefGene: 11
RefGene: 22
RefGene: 11
RefGene: 47
RefGene: 36
RefGene: 14
RefGene: 49
RefGene: 49
RefGene: 36
RefGene: 19
RefGene: 22
RefGene: 47
RefGene: 10
RefGene: 14
RefGene: 22
RefGene: 49
RefGene: 36
RefGene: 22
RefGene: 22
RefGene: 47
RefGene: 22
RefGene: 14
RefGene: 10
RefGene: 19
RefGene: 22
RefGene: 22
RefGene: 47
RefGene: 22
RefGene: 22
RefGene: 49
RefGene: 49
RefGene: 36
RefGene: 19
RefGene: 9
RefGene: 49
RefGene: 9
RefGene: 10
RefGene: 49
RefGene: 22
RefGene: 14
RefGene: 22
RefGene: 22
RefGene: 49
RefGene: 47
RefGene: 10
-----------------------------------------------------
End of Burn-in period.
-----------------------------------------------------
RefGene: 11
RefGene: 36
RefGene: 19
RefGene: 11
RefGene: 47
RefGene: 49
RefGene: 10
RefGene: 23
RefGene: 36
RefGene: 47
RefGene: 47
RefGene: 36
RefGene: 47
RefGene: 23
RefGene: 22
RefGene: 47
RefGene: 14
RefGene: 22
RefGene: 47
RefGene: 36
RefGene: 19
RefGene: 11
RefGene: 14
RefGene: 14
RefGene: 19
RefGene: 22
RefGene: 47
RefGene: 22
RefGene: 9
RefGene: 22
RefGene: 22
RefGene: 14
RefGene: 47
RefGene: 36
RefGene: 47
RefGene: 9
RefGene: 11
RefGene: 22
RefGene: 49
RefGene: 23
RefGene: 9
RefGene: 10
RefGene: 11
RefGene: 49
RefGene: 49
RefGene: 19
RefGene: 11
RefGene: 49
RefGene: 23
RefGene: 22
RefGene: 23
RefGene: 23
RefGene: 11
RefGene: 14
RefGene: 19
RefGene: 49
RefGene: 47
RefGene: 49
RefGene: 36
RefGene: 22
RefGene: 22
RefGene: 22
RefGene: 9
RefGene: 11
RefGene: 22
RefGene: 19
RefGene: 9
RefGene: 36
RefGene: 10
RefGene: 47
RefGene: 19
RefGene: 47
RefGene: 9
RefGene: 11
RefGene: 36
RefGene: 36
RefGene: 36
RefGene: 9
RefGene: 14
RefGene: 23
RefGene: 9
RefGene: 47
RefGene: 10
RefGene: 36
RefGene: 22
RefGene: 14
RefGene: 22
RefGene: 36
RefGene: 19
RefGene: 36
RefGene: 9
RefGene: 10
RefGene: 10
RefGene: 36
RefGene: 19
RefGene: 47
RefGene: 11
RefGene: 11
RefGene: 47
RefGene: 10
 
-----------------------------------------------------
-----------------------------------------------------
All 200 MCMC iterations have been completed.
-----------------------------------------------------
-----------------------------------------------------
 
-----------------------------------------------------
Please see below a summary of the overall acceptance rates.
-----------------------------------------------------
 
Minimum acceptance rate among mu[i]'s: 0.16
Average acceptance rate among mu[i]'s: 0.5088
Maximum acceptance rate among mu[i]'s: 0.7
 
 
Minimum acceptance rate among delta[i]'s: 0.55
Average acceptance rate among delta[i]'s: 0.6816
Maximum acceptance rate among delta[i]'s: 0.82
 
 
Minimum acceptance rate among nu[jk]'s: 0.88
Average acceptance rate among nu[jk]'s: 0.9608
Maximum acceptance rate among nu[jk]'s: 1
 
 
Minimum acceptance rate among theta[k]'s: 0
Average acceptance rate among theta[k]'s: 0.31
Maximum acceptance rate among theta[k]'s: 0.62
 
-----------------------------------------------------
 
-------------------------------------------------------------
MCMC running time 
-------------------------------------------------------------
user: 0.162
system: 0
elapsed: 0.163

-------------------------------------------------------------
Output 
-------------------------------------------------------------


Combining batch posteriors for nu
Combining batch posteriors for theta

Combining batch posteriors for mu
Combining batch posteriors for delta
Combining batch posteriors for s

sumAux (line 117): 146.424
sumAux (line 117): 136.459
For LVG detection task:
the posterior probability threshold chosen via EFDR calibration is too low.
Probability threshold automatically set equal to 'ProbThreshold'.
For LVG detection task:
the posterior probability threshold chosen via EFDR calibration is too low.
Probability threshold automatically set equal to 'ProbThreshold'.
For LVG detection task:
the posterior probability threshold chosen via EFDR calibration is too low.
Probability threshold automatically set equal to 'ProbThreshold'.
Evaluating variance contribution threshold = 25 % ... 

Evaluating variance contribution threshold = 50 % ... 

Evaluating variance contribution threshold = 75 % ... 

Evaluating variance contribution threshold = 25 % ... 

Evaluating variance contribution threshold = 50 % ... 

Evaluating variance contribution threshold = 75 % ... 

For LVG detection task:
the posterior probability threshold chosen via EFDR calibration is too low.
Probability threshold automatically set equal to 'ProbThreshold'.
altExp 'spike-ins' is assumed to contain spike-in genes.
see help(altExp) for details. 

altExp 'spike-ins' is assumed to contain spike-in genes.
see help(altExp) for details. 

altExp 'spike-ins' is assumed to contain spike-in genes.
see help(altExp) for details. 

altExp 'spike-ins' is assumed to contain spike-in genes.
see help(altExp) for details. 

altExp 'spike-ins' is assumed to contain spike-in genes.
see help(altExp) for details. 

Running with spikes BASiCS sampler (regression case) ... 

-------------------------------------------------------------
MCMC running time 
-------------------------------------------------------------
user: 0.005
system: 0
elapsed: 0.005

-------------------------------------------------------------
Output 
-------------------------------------------------------------

-------------------------------------------------------------
BASiCS version 2.21.0 : 
vertical integration (spikes case) 
-------------------------------------------------------------

altExp 'spike-ins' is assumed to contain spike-in genes.
see help(altExp) for details. 

Running with spikes BASiCS sampler (regression case) ... 

-------------------------------------------------------------
MCMC running time 
-------------------------------------------------------------
user: 0.006
system: 0
elapsed: 0.006

-------------------------------------------------------------
Output 
-------------------------------------------------------------

-------------------------------------------------------------
BASiCS version 2.21.0 : 
vertical integration (spikes case) 
-------------------------------------------------------------

altExp 'spike-ins' is assumed to contain spike-in genes.
see help(altExp) for details. 

Running with spikes BASiCS sampler (regression case) ... 

-------------------------------------------------------------
MCMC running time 
-------------------------------------------------------------
user: 0.009
system: 0
elapsed: 0.01

-------------------------------------------------------------
Output 
-------------------------------------------------------------

-------------------------------------------------------------
BASiCS version 2.21.0 : 
vertical integration (spikes case) 
-------------------------------------------------------------

altExp 'spike-ins' is assumed to contain spike-in genes.
see help(altExp) for details. 

-------------------------------------------------------------
NOTE: default choice PriorDelta = 'log-normal'  (recommended value). 
Vallejos et al (2015) used a 'gamma' prior instead.
-------------------------------------------------------------

Running with spikes BASiCS sampler (no regression) ... 

-------------------------------------------------------------
MCMC running time 
-------------------------------------------------------------
user: 0.005
system: 0
elapsed: 0.005

-------------------------------------------------------------
Output 
-------------------------------------------------------------

-------------------------------------------------------------
BASiCS version 2.21.0 : 
vertical integration (spikes case) 
-------------------------------------------------------------

altExp 'spike-ins' is assumed to contain spike-in genes.
see help(altExp) for details. 

-------------------------------------------------------------
NOTE: default choice PriorDelta = 'log-normal'  (recommended value). 
Vallejos et al (2015) used a 'gamma' prior instead.
-------------------------------------------------------------

Running with spikes BASiCS sampler (no regression) ... 

-------------------------------------------------------------
MCMC running time 
-------------------------------------------------------------
user: 0.004
system: 0
elapsed: 0.004

-------------------------------------------------------------
Output 
-------------------------------------------------------------

-------------------------------------------------------------
BASiCS version 2.21.0 : 
vertical integration (spikes case) 
-------------------------------------------------------------

altExp 'spike-ins' is assumed to contain spike-in genes.
see help(altExp) for details. 

-------------------------------------------------------------
NOTE: default choice PriorDelta = 'log-normal'  (recommended value). 
Vallejos et al (2015) used a 'gamma' prior instead.
-------------------------------------------------------------

Running no spikes BASiCS sampler (no regression) ... 

-------------------------------------------------------------
MCMC running time 
-------------------------------------------------------------
user: 0.007
system: 0
elapsed: 0.007

-------------------------------------------------------------
Output 
-------------------------------------------------------------

-------------------------------------------------------------
NOTE: default choice PriorDelta = 'log-normal'  (recommended value). 
Vallejos et al (2015) used a 'gamma' prior instead.
-------------------------------------------------------------

Running no spikes BASiCS sampler (no regression) ... 

-------------------------------------------------------------
MCMC running time 
-------------------------------------------------------------
user: 0.006
system: 0
elapsed: 0.007

-------------------------------------------------------------
Output 
-------------------------------------------------------------

-------------------------------------------------------------
NOTE: default choice PriorDelta = 'log-normal'  (recommended value). 
Vallejos et al (2015) used a 'gamma' prior instead.
-------------------------------------------------------------

Running no spikes BASiCS sampler (no regression) ... 

-------------------------------------------------------------
MCMC running time 
-------------------------------------------------------------
user: 0.004
system: 0
elapsed: 0.003

-------------------------------------------------------------
Output 
-------------------------------------------------------------

-------------------------------------------------------------
NOTE: default choice PriorDelta = 'log-normal'  (recommended value). 
Vallejos et al (2015) used a 'gamma' prior instead.
-------------------------------------------------------------

Running no spikes BASiCS sampler (no regression) ... 

-------------------------------------------------------------
MCMC running time 
-------------------------------------------------------------
user: 0.003
system: 0
elapsed: 0.003

-------------------------------------------------------------
Output 
-------------------------------------------------------------

-------------------------------------------------------------
NOTE: default choice PriorDelta = 'log-normal'  (recommended value). 
Vallejos et al (2015) used a 'gamma' prior instead.
-------------------------------------------------------------

Running no spikes BASiCS sampler (no regression) ... 

-------------------------------------------------------------
MCMC running time 
-------------------------------------------------------------
user: 0.003
system: 0
elapsed: 0.003

-------------------------------------------------------------
Output 
-------------------------------------------------------------

altExp 'spike-ins' is assumed to contain spike-in genes.
see help(altExp) for details. 

altExp 'spike-ins' is assumed to contain spike-in genes.
see help(altExp) for details. 

Running no spikes BASiCS sampler (regression case) ... 

-------------------------------------------------------------
MCMC running time 
-------------------------------------------------------------
user: 0.005
system: 0
elapsed: 0.005

-------------------------------------------------------------
Output 
-------------------------------------------------------------

Running no spikes BASiCS sampler (regression case) ... 

-------------------------------------------------------------
MCMC running time 
-------------------------------------------------------------
user: 0.007
system: 0
elapsed: 0.006

-------------------------------------------------------------
Output 
-------------------------------------------------------------

Running no spikes BASiCS sampler (regression case) ... 

-------------------------------------------------------------
MCMC running time 
-------------------------------------------------------------
user: 0.004
system: 0.002
elapsed: 0.006

-------------------------------------------------------------
Output 
-------------------------------------------------------------

Running no spikes BASiCS sampler (regression case) ... 

-------------------------------------------------------------
MCMC running time 
-------------------------------------------------------------
user: 0.005
system: 0
elapsed: 0.004

-------------------------------------------------------------
Output 
-------------------------------------------------------------

Running no spikes BASiCS sampler (regression case) ... 

-------------------------------------------------------------
MCMC running time 
-------------------------------------------------------------
user: 0.005
system: 0
elapsed: 0.004

-------------------------------------------------------------
Output 
-------------------------------------------------------------

Running no spikes BASiCS sampler (regression case) ... 

-------------------------------------------------------------
MCMC running time 
-------------------------------------------------------------
user: 0.005
system: 0
elapsed: 0.005

-------------------------------------------------------------
Output 
-------------------------------------------------------------

-------------------------------------------------------------
NOTE: default choice PriorDelta = 'log-normal'  (recommended value). 
Vallejos et al (2015) used a 'gamma' prior instead.
-------------------------------------------------------------

Running no spikes BASiCS sampler (no regression) ... 

-------------------------------------------------------------
MCMC running time 
-------------------------------------------------------------
user: 0.006
system: 0
elapsed: 0.006

-------------------------------------------------------------
Output 
-------------------------------------------------------------

-------------------------------------------------------------
NOTE: default choice PriorDelta = 'log-normal'  (recommended value). 
Vallejos et al (2015) used a 'gamma' prior instead.
-------------------------------------------------------------

Running no spikes BASiCS sampler (no regression) ... 

-------------------------------------------------------------
MCMC running time 
-------------------------------------------------------------
user: 0.007
system: 0
elapsed: 0.007

-------------------------------------------------------------
Output 
-------------------------------------------------------------

-------------------------------------------------------------
NOTE: default choice PriorDelta = 'log-normal'  (recommended value). 
Vallejos et al (2015) used a 'gamma' prior instead.
-------------------------------------------------------------

Running no spikes BASiCS sampler (no regression) ... 

-------------------------------------------------------------
MCMC running time 
-------------------------------------------------------------
user: 0.006
system: 0
elapsed: 0.006

-------------------------------------------------------------
Output 
-------------------------------------------------------------

altExp 'spike-ins' is assumed to contain spike-in genes.
see help(altExp) for details. 

altExp 'spike-ins' is assumed to contain spike-in genes.
see help(altExp) for details. 

altExp 'spike-ins' is assumed to contain spike-in genes.
see help(altExp) for details. 

-------------------------------------------------------------
NOTE: default choice PriorDelta = 'log-normal'  (recommended value). 
Vallejos et al (2015) used a 'gamma' prior instead.
-------------------------------------------------------------

Running with spikes BASiCS sampler (no regression) ... 

-------------------------------------------------------------
MCMC running time 
-------------------------------------------------------------
user: 0.004
system: 0
elapsed: 0.005

-------------------------------------------------------------
Output 
-------------------------------------------------------------

-------------------------------------------------------------
BASiCS version 2.21.0 : 
vertical integration (spikes case) 
-------------------------------------------------------------

altExp 'spike-ins' is assumed to contain spike-in genes.
see help(altExp) for details. 

Running with spikes BASiCS sampler (regression case) ... 

-------------------------------------------------------------
MCMC running time 
-------------------------------------------------------------
user: 0.005
system: 0
elapsed: 0.006

-------------------------------------------------------------
Output 
-------------------------------------------------------------

-------------------------------------------------------------
BASiCS version 2.21.0 : 
vertical integration (spikes case) 
-------------------------------------------------------------

altExp 'spike-ins' is assumed to contain spike-in genes.
see help(altExp) for details. 

Running with spikes BASiCS sampler (regression case) ... 

-------------------------------------------------------------
MCMC running time 
-------------------------------------------------------------
user: 0.005
system: 0.001
elapsed: 0.006

-------------------------------------------------------------
Output 
-------------------------------------------------------------

-------------------------------------------------------------
BASiCS version 2.21.0 : 
vertical integration (spikes case) 
-------------------------------------------------------------

altExp 'spike-ins' is assumed to contain spike-in genes.
see help(altExp) for details. 

altExp 'spike-ins' is assumed to contain spike-in genes.
see help(altExp) for details. 

-------------------------------------------------------------
NOTE: default choice PriorDelta = 'log-normal'  (recommended value). 
Vallejos et al (2015) used a 'gamma' prior instead.
-------------------------------------------------------------

Running with spikes BASiCS sampler (no regression) ... 

-------------------------------------------------------------
MCMC running time 
-------------------------------------------------------------
user: 0.007
system: 0
elapsed: 0.007

-------------------------------------------------------------
Output 
-------------------------------------------------------------

-------------------------------------------------------------
BASiCS_Chain object stored as chain_.Rds file in
'/home/biocbuild/bbs-3.22-bioc/meat/BASiCS.Rcheck/tests/testthat' directory ... 
-------------------------------------------------------------

-------------------------------------------------------------
Storing trajectories of adaptive proposal variances (log-scale) aschain_ls_.Rds file in 
'/home/biocbuild/bbs-3.22-bioc/meat/BASiCS.Rcheck/tests/testthat' directory ... 
-------------------------------------------------------------

-------------------------------------------------------------
BASiCS version 2.21.0 : 
vertical integration (spikes case) 
-------------------------------------------------------------

altExp 'spike-ins' is assumed to contain spike-in genes.
see help(altExp) for details. 

Running with spikes BASiCS sampler (regression case) ... 

-------------------------------------------------------------
MCMC running time 
-------------------------------------------------------------
user: 0.01
system: 0
elapsed: 0.01

-------------------------------------------------------------
Output 
-------------------------------------------------------------

-------------------------------------------------------------
BASiCS_Chain object stored as chain_.Rds file in
'/home/biocbuild/bbs-3.22-bioc/meat/BASiCS.Rcheck/tests/testthat' directory ... 
-------------------------------------------------------------

-------------------------------------------------------------
Storing trajectories of adaptive proposal variances (log-scale) aschain_ls_.Rds file in 
'/home/biocbuild/bbs-3.22-bioc/meat/BASiCS.Rcheck/tests/testthat' directory ... 
-------------------------------------------------------------

-------------------------------------------------------------
BASiCS version 2.21.0 : 
vertical integration (spikes case) 
-------------------------------------------------------------

-------------------------------------------------------------
NOTE: default choice PriorDelta = 'log-normal'  (recommended value). 
Vallejos et al (2015) used a 'gamma' prior instead.
-------------------------------------------------------------

Running no spikes BASiCS sampler (no regression) ... 

-------------------------------------------------------------
MCMC running time 
-------------------------------------------------------------
user: 0.006
system: 0
elapsed: 0.006

-------------------------------------------------------------
Output 
-------------------------------------------------------------

-------------------------------------------------------------
BASiCS_Chain object stored as chain_.Rds file in
'/home/biocbuild/bbs-3.22-bioc/meat/BASiCS.Rcheck/tests/testthat' directory ... 
-------------------------------------------------------------

-------------------------------------------------------------
Storing trajectories of adaptive proposal variances (log-scale) aschain_ls_.Rds file in 
'/home/biocbuild/bbs-3.22-bioc/meat/BASiCS.Rcheck/tests/testthat' directory ... 
-------------------------------------------------------------

-------------------------------------------------------------
BASiCS version 2.21.0 : horizontal integration (no-spikes case)
-------------------------------------------------------------

Randomly, 1 out of 10
genes was left as reference at each iteration 
List of reference genes and frequencies stored as a .txt file in
'/home/biocbuild/bbs-3.22-bioc/meat/BASiCS.Rcheck/tests/testthat' directory ... 
-------------------------------------------------------------

Running no spikes BASiCS sampler (regression case) ... 

-------------------------------------------------------------
MCMC running time 
-------------------------------------------------------------
user: 0.008
system: 0
elapsed: 0.008

-------------------------------------------------------------
Output 
-------------------------------------------------------------

-------------------------------------------------------------
BASiCS_Chain object stored as chain_.Rds file in
'/home/biocbuild/bbs-3.22-bioc/meat/BASiCS.Rcheck/tests/testthat' directory ... 
-------------------------------------------------------------

-------------------------------------------------------------
Storing trajectories of adaptive proposal variances (log-scale) aschain_ls_.Rds file in 
'/home/biocbuild/bbs-3.22-bioc/meat/BASiCS.Rcheck/tests/testthat' directory ... 
-------------------------------------------------------------

-------------------------------------------------------------
BASiCS version 2.21.0 : horizontal integration (no-spikes case)
-------------------------------------------------------------

Randomly, 1 out of 10
genes was left as reference at each iteration 
List of reference genes and frequencies stored as a .txt file in
'/home/biocbuild/bbs-3.22-bioc/meat/BASiCS.Rcheck/tests/testthat' directory ... 
-------------------------------------------------------------

altExp 'spike-ins' is assumed to contain spike-in genes.
see help(altExp) for details. 

-------------------------------------------------------------
NOTE: default choice PriorDelta = 'log-normal'  (recommended value). 
Vallejos et al (2015) used a 'gamma' prior instead.
-------------------------------------------------------------

Running with spikes BASiCS sampler (no regression) ... 

-------------------------------------------------------------
MCMC running time 
-------------------------------------------------------------
user: 0.007
system: 0
elapsed: 0.007

-------------------------------------------------------------
Output 
-------------------------------------------------------------

-------------------------------------------------------------
BASiCS version 2.21.0 : 
vertical integration (spikes case) 
-------------------------------------------------------------

`BASiCS_Chain` class definition was outdated. 
Object updated to be compatible with BASiCS version 2.21.0.
Set 'StoreUpdatedChain' = TRUE to save updated object.

altExp 'spike-ins' is assumed to contain spike-in genes.
see help(altExp) for details. 

-------------------------------------------------------------
NOTE: default choice PriorDelta = 'log-normal'  (recommended value). 
Vallejos et al (2015) used a 'gamma' prior instead.
-------------------------------------------------------------

Running with spikes BASiCS sampler (no regression) ... 

-------------------------------------------------------------
MCMC running time 
-------------------------------------------------------------
user: 0.008
system: 0
elapsed: 0.008

-------------------------------------------------------------
Output 
-------------------------------------------------------------

-------------------------------------------------------------
BASiCS version 2.21.0 : 
vertical integration (spikes case) 
-------------------------------------------------------------

`BASiCS_Chain` class definition was outdated. 
Object updated to be compatible with BASiCS version 2.21.0.
Set 'StoreUpdatedChain' = TRUE to save updated object.
(this overwrites original input file).

-------------------------------------------------------------
Log-fold change thresholds are now set in a log2 scale. 
Original BASiCS release used a natural logarithm scale.
-------------------------------------------------------------
Offset estimate: 1
(ratio Group1 vs Group2).
-------------------------------------------------------------

EFDR calibration failed for Differential mean task. 
Probability threshold automatically set equal to 'ProbThresholdM'.
EFDR calibration failed for Differential dispersion task. 
Probability threshold automatically set equal to 'ProbThresholdD'.
EFDR calibration failed for Differential residual dispersion task. 
Probability threshold automatically set equal to 'ProbThresholdR'.
Running no spikes BASiCS sampler (regression case) ... 

-------------------------------------------------------------
MCMC running time 
-------------------------------------------------------------
user: 0.021
system: 0
elapsed: 0.021

-------------------------------------------------------------
Output 
-------------------------------------------------------------

-------------------------------------------------------------
Log-fold change thresholds are now set in a log2 scale. 
Original BASiCS release used a natural logarithm scale.
-------------------------------------------------------------
Offset estimate: 1
(ratio Group1 vs Group2).
-------------------------------------------------------------

EFDR calibration failed for Differential mean task. 
Probability threshold automatically set equal to 'ProbThresholdM'.
EFDR calibration failed for Differential dispersion task. 
Probability threshold automatically set equal to 'ProbThresholdD'.
EFDR calibration failed for Differential residual dispersion task. 
Probability threshold automatically set equal to 'ProbThresholdR'.
altExp 'spike-ins' is assumed to contain spike-in genes.
see help(altExp) for details. 

-------------------------------------------------------------
NOTE: default choice PriorDelta = 'log-normal'  (recommended value). 
Vallejos et al (2015) used a 'gamma' prior instead.
-------------------------------------------------------------

Running with spikes BASiCS sampler (no regression) ... 

-------------------------------------------------------------
MCMC running time 
-------------------------------------------------------------
user: 0.295
system: 0.001
elapsed: 0.297

-------------------------------------------------------------
Output 
-------------------------------------------------------------

-------------------------------------------------------------
BASiCS version 2.21.0 : 
vertical integration (spikes case) 
-------------------------------------------------------------

altExp 'spike-ins' is assumed to contain spike-in genes.
see help(altExp) for details. 

-------------------------------------------------------------
NOTE: default choice PriorDelta = 'log-normal'  (recommended value). 
Vallejos et al (2015) used a 'gamma' prior instead.
-------------------------------------------------------------

Running with spikes BASiCS sampler (no regression) ... 

-------------------------------------------------------------
MCMC running time 
-------------------------------------------------------------
user: 0.004
system: 0
elapsed: 0.004

-------------------------------------------------------------
Output 
-------------------------------------------------------------

-------------------------------------------------------------
Storing trajectories of adaptive proposal variances (log-scale) aschain_ls_.Rds file in 
'/home/biocbuild/bbs-3.22-bioc/meat/BASiCS.Rcheck/tests/testthat' directory ... 
-------------------------------------------------------------

-------------------------------------------------------------
BASiCS version 2.21.0 : 
vertical integration (spikes case) 
-------------------------------------------------------------

altExp 'spike-ins' is assumed to contain spike-in genes.
see help(altExp) for details. 

-------------------------------------------------------------
NOTE: default choice PriorDelta = 'log-normal'  (recommended value). 
Vallejos et al (2015) used a 'gamma' prior instead.
-------------------------------------------------------------

Running with spikes BASiCS sampler (no regression) ... 

-------------------------------------------------------------
MCMC running time 
-------------------------------------------------------------
user: 0.312
system: 0.011
elapsed: 0.323

-------------------------------------------------------------
Output 
-------------------------------------------------------------

-------------------------------------------------------------
BASiCS version 2.21.0 : 
vertical integration (spikes case) 
-------------------------------------------------------------

-------------------------------------------------------------
NOTE: default choice PriorDelta = 'log-normal'  (recommended value). 
Vallejos et al (2015) used a 'gamma' prior instead.
-------------------------------------------------------------

Running no spikes BASiCS sampler (no regression) ... 

-------------------------------------------------------------
MCMC running time 
-------------------------------------------------------------
user: 0.254
system: 0
elapsed: 0.254

-------------------------------------------------------------
Output 
-------------------------------------------------------------

-------------------------------------------------------------
NOTE: default choice PriorDelta = 'log-normal'  (recommended value). 
Vallejos et al (2015) used a 'gamma' prior instead.
-------------------------------------------------------------

Running no spikes BASiCS sampler (no regression) ... 

-------------------------------------------------------------
MCMC running time 
-------------------------------------------------------------
user: 0.254
system: 0
elapsed: 0.253

-------------------------------------------------------------
Output 
-------------------------------------------------------------

-------------------------------------------------------------
NOTE: default choice PriorDelta = 'log-normal'  (recommended value). 
Vallejos et al (2015) used a 'gamma' prior instead.
-------------------------------------------------------------

Running no spikes BASiCS sampler (no regression) ... 

-------------------------------------------------------------
MCMC running time 
-------------------------------------------------------------
user: 0.004
system: 0
elapsed: 0.005

-------------------------------------------------------------
Output 
-------------------------------------------------------------

-------------------------------------------------------------
Storing trajectories of adaptive proposal variances (log-scale) aschain_ls_.Rds file in 
'/home/biocbuild/bbs-3.22-bioc/meat/BASiCS.Rcheck/tests/testthat' directory ... 
-------------------------------------------------------------

-------------------------------------------------------------
NOTE: default choice PriorDelta = 'log-normal'  (recommended value). 
Vallejos et al (2015) used a 'gamma' prior instead.
-------------------------------------------------------------

Running no spikes BASiCS sampler (no regression) ... 

-------------------------------------------------------------
MCMC running time 
-------------------------------------------------------------
user: 0.261
system: 0.001
elapsed: 0.263

-------------------------------------------------------------
Output 
-------------------------------------------------------------

-------------------------------------------------------------
NOTE: default choice PriorDelta = 'log-normal'  (recommended value). 
Vallejos et al (2015) used a 'gamma' prior instead.
-------------------------------------------------------------

Running no spikes BASiCS sampler (no regression) ... 

-------------------------------------------------------------
MCMC running time 
-------------------------------------------------------------
user: 0.265
system: 0
elapsed: 0.264

-------------------------------------------------------------
Output 
-------------------------------------------------------------

Running no spikes BASiCS sampler (regression case) ... 

-------------------------------------------------------------
MCMC running time 
-------------------------------------------------------------
user: 0.459
system: 0.017
elapsed: 0.476

-------------------------------------------------------------
Output 
-------------------------------------------------------------

Running no spikes BASiCS sampler (regression case) ... 

-------------------------------------------------------------
MCMC running time 
-------------------------------------------------------------
user: 0.451
system: 0.014
elapsed: 0.464

-------------------------------------------------------------
Output 
-------------------------------------------------------------

Running no spikes BASiCS sampler (regression case) ... 

-------------------------------------------------------------
MCMC running time 
-------------------------------------------------------------
user: 0.02
system: 0
elapsed: 0.02

-------------------------------------------------------------
Output 
-------------------------------------------------------------

-------------------------------------------------------------
Storing trajectories of adaptive proposal variances (log-scale) aschain_ls_.Rds file in 
'/home/biocbuild/bbs-3.22-bioc/meat/BASiCS.Rcheck/tests/testthat' directory ... 
-------------------------------------------------------------

altExp 'spike-ins' is assumed to contain spike-in genes.
see help(altExp) for details. 

Running with spikes BASiCS sampler (regression case) ... 

-------------------------------------------------------------
MCMC running time 
-------------------------------------------------------------
user: 0.402
system: 0.002
elapsed: 0.404

-------------------------------------------------------------
Output 
-------------------------------------------------------------

-------------------------------------------------------------
BASiCS version 2.21.0 : 
vertical integration (spikes case) 
-------------------------------------------------------------

altExp 'spike-ins' is assumed to contain spike-in genes.
see help(altExp) for details. 

Running with spikes BASiCS sampler (regression case) ... 

-------------------------------------------------------------
MCMC running time 
-------------------------------------------------------------
user: 0.006
system: 0
elapsed: 0.005

-------------------------------------------------------------
Output 
-------------------------------------------------------------

-------------------------------------------------------------
Storing trajectories of adaptive proposal variances (log-scale) aschain_ls_.Rds file in 
'/home/biocbuild/bbs-3.22-bioc/meat/BASiCS.Rcheck/tests/testthat' directory ... 
-------------------------------------------------------------

-------------------------------------------------------------
BASiCS version 2.21.0 : 
vertical integration (spikes case) 
-------------------------------------------------------------

-------------------------------------------------------------
Log-fold change thresholds are now set in a log2 scale. 
Original BASiCS release used a natural logarithm scale.
-------------------------------------------------------------
Offset estimate: 0.6714
(ratio Group1 vs Group2).
To visualise its effect, please use 'PlotOffset = TRUE'.
-------------------------------------------------------------

For Differential mean task:
the posterior probability threshold chosen via EFDR calibration is too low.
Probability threshold automatically set equal to 'ProbThresholdM'.
EFDR calibration failed for Differential dispersion task. 
Probability threshold automatically set equal to 'ProbThresholdD'.
-------------------------------------------------------------
Log-fold change thresholds are now set in a log2 scale. 
Original BASiCS release used a natural logarithm scale.
-------------------------------------------------------------
Offset estimate: 0.6787
(ratio Group1 vs Group2).
To visualise its effect, please use 'PlotOffset = TRUE'.
-------------------------------------------------------------

EFDR calibration failed for Differential mean task. 
Probability threshold automatically set equal to 'ProbThresholdM'.
EFDR calibration failed for Differential dispersion task. 
Probability threshold automatically set equal to 'ProbThresholdD'.
For Differential residual dispersion task:
the posterior probability threshold chosen via EFDR calibration is too low.
Probability threshold automatically set equal to 'ProbThresholdR'.
altExp 'spike-ins' is assumed to contain spike-in genes.
see help(altExp) for details. 

Running with spikes BASiCS sampler (regression case) ... 

-------------------------------------------------------------
MCMC running time 
-------------------------------------------------------------
user: 0.007
system: 0
elapsed: 0.007

-------------------------------------------------------------
Output 
-------------------------------------------------------------

-------------------------------------------------------------
BASiCS version 2.21.0 : 
vertical integration (spikes case) 
-------------------------------------------------------------

altExp 'spike-ins' is assumed to contain spike-in genes.
see help(altExp) for details. 

Running with spikes BASiCS sampler (regression case) ... 

-------------------------------------------------------------
MCMC running time 
-------------------------------------------------------------
user: 0.009
system: 0
elapsed: 0.008

-------------------------------------------------------------
Output 
-------------------------------------------------------------

-------------------------------------------------------------
BASiCS version 2.21.0 : 
vertical integration (spikes case) 
-------------------------------------------------------------

altExp 'spike-ins' is assumed to contain spike-in genes.
see help(altExp) for details. 

Running with spikes BASiCS sampler (regression case) ... 

-------------------------------------------------------------
MCMC running time 
-------------------------------------------------------------
user: 0.005
system: 0
elapsed: 0.005

-------------------------------------------------------------
Output 
-------------------------------------------------------------

-------------------------------------------------------------
BASiCS version 2.21.0 : 
vertical integration (spikes case) 
-------------------------------------------------------------

altExp 'spike-ins' is assumed to contain spike-in genes.
see help(altExp) for details. 

Running with spikes BASiCS sampler (regression case) ... 

-------------------------------------------------------------
MCMC running time 
-------------------------------------------------------------
user: 0.005
system: 0
elapsed: 0.005

-------------------------------------------------------------
Output 
-------------------------------------------------------------

-------------------------------------------------------------
BASiCS version 2.21.0 : 
vertical integration (spikes case) 
-------------------------------------------------------------

altExp 'spike-ins' is assumed to contain spike-in genes.
see help(altExp) for details. 

'BatchInfo' was treated as a factor with 2 levels: 
1  2  
'BatchInfo' was treated as a factor with 2 levels: 
1  2  
-------------------------------------------------------------
NOTE: default choice PriorDelta = 'log-normal'  (recommended value). 
Vallejos et al (2015) used a 'gamma' prior instead.
-------------------------------------------------------------

Running no spikes BASiCS sampler (no regression) ... 

-------------------------------------------------------------
MCMC running time 
-------------------------------------------------------------
user: 0.004
system: 0
elapsed: 0.004

-------------------------------------------------------------
Output 
-------------------------------------------------------------

'BatchInfo' was treated as a factor with 2 levels: 
1  2  
altExp 'spike-ins' is assumed to contain spike-in genes.
see help(altExp) for details. 

-------------------------------------------------------------
NOTE: default choice PriorDelta = 'log-normal'  (recommended value). 
Vallejos et al (2015) used a 'gamma' prior instead.
-------------------------------------------------------------

Running with spikes BASiCS sampler (no regression) ... 

-------------------------------------------------------------
MCMC running time 
-------------------------------------------------------------
user: 0.008
system: 0
elapsed: 0.007

-------------------------------------------------------------
Output 
-------------------------------------------------------------

-------------------------------------------------------------
BASiCS version 2.21.0 : 
vertical integration (spikes case) 
-------------------------------------------------------------

[ FAIL 0 | WARN 0 | SKIP 0 | PASS 459 ]
> 
> proc.time()
   user  system elapsed 
200.731   5.841 230.010 

Example timings

BASiCS.Rcheck/BASiCS-Ex.timings

nameusersystemelapsed
BASiCS_Chain-methods2.2970.0202.317
BASiCS_Chain2.7740.0842.858
BASiCS_CorrectOffset0.0150.0000.016
BASiCS_DenoisedCounts1.7490.0031.752
BASiCS_DenoisedRates1.7100.0711.781
BASiCS_DetectVG0.6870.0230.710
BASiCS_DiagHist0.9740.0351.009
BASiCS_DiagPlot1.8900.0291.919
BASiCS_DivideAndConquer 2.908 0.05016.245
BASiCS_Draw0.2230.0050.228
BASiCS_EffectiveSize0.2040.0120.217
BASiCS_Filter0.0010.0000.002
BASiCS_LoadChain1.4840.1571.641
BASiCS_MCMC6.0480.3736.422
BASiCS_MockSCE0.1850.0020.187
BASiCS_PlotDE3.1440.1073.252
BASiCS_PlotOffset0.9130.0200.934
BASiCS_PlotVG0.3320.0160.349
BASiCS_PriorParam0.1400.0050.145
BASiCS_ShowFit0.2200.0090.229
BASiCS_Sim0.4170.0420.460
BASiCS_Summary-methods0.0040.0010.005
BASiCS_Summary1.5630.1021.664
BASiCS_TestDE6.2020.1406.343
BASiCS_VarThresholdSearchHVG_LVG1.6010.0351.635
BASiCS_VarianceDecomp0.1890.0010.190
Summary-BASiCS_Chain-method0.1680.0000.168
dim-BASiCS_Chain-method0.0060.0000.005
dimnames-BASiCS_Chain-method0.0050.0010.006
displayChainBASiCS-BASiCS_Chain-method0.1150.0090.128
displaySummaryBASiCS-BASiCS_Summary-method0.1070.0080.115
makeExampleBASiCS_Data0.1380.0060.144
newBASiCS_Chain3.1130.1073.220
plot-BASiCS_Chain-method0.1150.0070.122
plot-BASiCS_Summary-method0.1070.0090.116
show-BASiCS_ResultDE-method0.1110.0050.115
show-BASiCS_ResultVG-method0.1060.0120.118
show-BASiCS_ResultsDE-method0.1080.0100.117
subset-BASiCS_Chain-method0.8490.0050.854