Back to Multiple platform build/check report for BioC 3.22:   simplified   long
A[B]CDEFGHIJKLMNOPQRSTUVWXYZ

This page was generated on 2025-07-22 12:05 -0400 (Tue, 22 Jul 2025).

HostnameOSArch (*)R versionInstalled pkgs
nebbiolo2Linux (Ubuntu 24.04.2 LTS)x86_644.5.1 (2025-06-13) -- "Great Square Root" 4791
palomino8Windows Server 2022 Datacenterx644.5.1 (2025-06-13 ucrt) -- "Great Square Root" 4527
lconwaymacOS 12.7.1 Montereyx86_644.5.1 (2025-06-13) -- "Great Square Root" 4572
kjohnson3macOS 13.7.1 Venturaarm644.5.1 Patched (2025-06-14 r88325) -- "Great Square Root" 4513
taishanLinux (openEuler 24.03 LTS)aarch644.5.0 (2025-04-11) -- "How About a Twenty-Six" 4510
Click on any hostname to see more info about the system (e.g. compilers)      (*) as reported by 'uname -p', except on Windows and Mac OS X

Package 136/2311HostnameOS / ArchINSTALLBUILDCHECKBUILD BIN
BASiCS 2.21.0  (landing page)
Catalina Vallejos
Snapshot Date: 2025-07-21 13:25 -0400 (Mon, 21 Jul 2025)
git_url: https://git.bioconductor.org/packages/BASiCS
git_branch: devel
git_last_commit: de11c8b
git_last_commit_date: 2025-04-15 11:14:38 -0400 (Tue, 15 Apr 2025)
nebbiolo2Linux (Ubuntu 24.04.2 LTS) / x86_64  OK    OK    OK  UNNEEDED, same version is already published
palomino8Windows Server 2022 Datacenter / x64  OK    OK    OK    OK  NO, package depends on 'scran' which is only available as a source package that needs compilation
lconwaymacOS 12.7.1 Monterey / x86_64  OK    OK    OK    OK  UNNEEDED, same version is already published
kjohnson3macOS 13.7.1 Ventura / arm64  OK    OK    WARNINGS    OK  UNNEEDED, same version is already published
taishanLinux (openEuler 24.03 LTS) / aarch64  OK    OK    OK  


INSTALL results for BASiCS on nebbiolo2

To the developers/maintainers of the BASiCS package:
- Allow up to 24 hours (and sometimes 48 hours) for your latest push to git@git.bioconductor.org:packages/BASiCS.git to reflect on this report. See Troubleshooting Build Report for more information.
- Use the following Renviron settings to reproduce errors and warnings.
- If 'R CMD check' started to fail recently on the Linux builder(s) over a missing dependency, add the missing dependency to 'Suggests:' in your DESCRIPTION file. See Renviron.bioc for more information.

raw results


Summary

Package: BASiCS
Version: 2.21.0
Command: /home/biocbuild/bbs-3.22-bioc/R/bin/R CMD INSTALL BASiCS
StartedAt: 2025-07-21 16:00:10 -0400 (Mon, 21 Jul 2025)
EndedAt: 2025-07-21 16:01:22 -0400 (Mon, 21 Jul 2025)
EllapsedTime: 71.8 seconds
RetCode: 0
Status:   OK  

Command output

##############################################################################
##############################################################################
###
### Running command:
###
###   /home/biocbuild/bbs-3.22-bioc/R/bin/R CMD INSTALL BASiCS
###
##############################################################################
##############################################################################


* installing to library ‘/home/biocbuild/bbs-3.22-bioc/R/site-library’
* installing *source* package ‘BASiCS’ ...
** this is package ‘BASiCS’ version ‘2.21.0’
** using staged installation
** libs
using C++ compiler: ‘g++ (Ubuntu 13.3.0-6ubuntu2~24.04) 13.3.0’
using C++11
g++ -std=gnu++11 -I"/home/biocbuild/bbs-3.22-bioc/R/include" -DNDEBUG  -I'/home/biocbuild/bbs-3.22-bioc/R/site-library/Rcpp/include' -I'/home/biocbuild/bbs-3.22-bioc/R/site-library/RcppArmadillo/include' -I/usr/local/include   -fopenmp -fpic  -g -O2  -Wall -Werror=format-security  -c BASiCS.cpp -o BASiCS.o
In file included from /home/biocbuild/bbs-3.22-bioc/R/include/R.h:73,
                 from libraries.h:6,
                 from utils.h:4,
                 from updates.h:4,
                 from BASiCS.cpp:1:
/home/biocbuild/bbs-3.22-bioc/R/site-library/Rcpp/include/Rcpp/exceptions.h: In function ‘void Rcpp::Rf_warning(const char*, Args&& ...) [with Args = {const char*}]’:
/home/biocbuild/bbs-3.22-bioc/R/include/R_ext/Error.h:85:17: warning: infinite recursion detected [-Winfinite-recursion]
   85 | #define warning Rf_warning
      |                 ^~~~~~~~~~
/home/biocbuild/bbs-3.22-bioc/R/site-library/Rcpp/include/Rcpp/exceptions.h:190:17: note: in expansion of macro ‘warning’
  190 |     inline void warning(const char* fmt, Args&&... args ) {
      |                 ^~~~~~~
In file included from /home/biocbuild/bbs-3.22-bioc/R/site-library/Rcpp/include/RcppCommon.h:133,
                 from /home/biocbuild/bbs-3.22-bioc/R/site-library/RcppArmadillo/include/RcppArmadillo/interface/RcppArmadilloForward.h:25,
                 from /home/biocbuild/bbs-3.22-bioc/R/site-library/RcppArmadillo/include/RcppArmadillo.h:29,
                 from libraries.h:11:
/home/biocbuild/bbs-3.22-bioc/R/site-library/Rcpp/include/Rcpp/exceptions.h:191:19: note: recursive call
  191 |         Rf_warning("%s", tfm::format(fmt, std::forward<Args>(args)... ).c_str());
      |         ~~~~~~~~~~^~~~~~~~~~~~~~~~~~~~~~~~~~~~~~~~~~~~~~~~~~~~~~~~~~~~~~~~~~~~~~
g++ -std=gnu++11 -I"/home/biocbuild/bbs-3.22-bioc/R/include" -DNDEBUG  -I'/home/biocbuild/bbs-3.22-bioc/R/site-library/Rcpp/include' -I'/home/biocbuild/bbs-3.22-bioc/R/site-library/RcppArmadillo/include' -I/usr/local/include   -fopenmp -fpic  -g -O2  -Wall -Werror=format-security  -c RcppExports.cpp -o RcppExports.o
g++ -std=gnu++11 -shared -L/home/biocbuild/bbs-3.22-bioc/R/lib -L/usr/local/lib -o BASiCS.so BASiCS.o RcppExports.o -llapack -L/home/biocbuild/bbs-3.22-bioc/R/lib -lRblas -lgfortran -lm -lquadmath -fopenmp -L/home/biocbuild/bbs-3.22-bioc/R/lib -lR
installing to /home/biocbuild/bbs-3.22-bioc/R/site-library/00LOCK-BASiCS/00new/BASiCS/libs
** R
** data
** inst
** byte-compile and prepare package for lazy loading
** help
*** installing help indices
** building package indices
** installing vignettes
** testing if installed package can be loaded from temporary location
** checking absolute paths in shared objects and dynamic libraries
** testing if installed package can be loaded from final location
** testing if installed package keeps a record of temporary installation path
* DONE (BASiCS)