Back to Multiple platform build/check report for BioC 3.23:   simplified   long
A[B]CDEFGHIJKLMNOPQRSTUVWXYZ

This page was generated on 2025-11-22 11:38 -0500 (Sat, 22 Nov 2025).

HostnameOSArch (*)R versionInstalled pkgs
nebbiolo1Linux (Ubuntu 24.04.3 LTS)x86_64R Under development (unstable) (2025-10-20 r88955) -- "Unsuffered Consequences" 4829
lconwaymacOS 12.7.6 Montereyx86_64R Under development (unstable) (2025-10-21 r88958) -- "Unsuffered Consequences" 4603
kjohnson3macOS 13.7.7 Venturaarm64R Under development (unstable) (2025-11-04 r88984) -- "Unsuffered Consequences" 4567
Click on any hostname to see more info about the system (e.g. compilers)      (*) as reported by 'uname -p', except on Windows and Mac OS X

Package 255/2327HostnameOS / ArchINSTALLBUILDCHECKBUILD BIN
BulkSignalR 1.3.1  (landing page)
Jean-Philippe Villemin
Snapshot Date: 2025-11-21 13:40 -0500 (Fri, 21 Nov 2025)
git_url: https://git.bioconductor.org/packages/BulkSignalR
git_branch: devel
git_last_commit: e236c5a
git_last_commit_date: 2025-11-08 17:09:36 -0500 (Sat, 08 Nov 2025)
nebbiolo1Linux (Ubuntu 24.04.3 LTS) / x86_64  OK    OK    OK  UNNEEDED, same version is already published
lconwaymacOS 12.7.6 Monterey / x86_64  OK    OK    OK    OK  UNNEEDED, same version is already published
kjohnson3macOS 13.7.7 Ventura / arm64  OK    OK    OK    OK  UNNEEDED, same version is already published


CHECK results for BulkSignalR on lconway

To the developers/maintainers of the BulkSignalR package:
- Allow up to 24 hours (and sometimes 48 hours) for your latest push to git@git.bioconductor.org:packages/BulkSignalR.git to reflect on this report. See Troubleshooting Build Report for more information.
- Use the following Renviron settings to reproduce errors and warnings.
- If 'R CMD check' started to fail recently on the Linux builder(s) over a missing dependency, add the missing dependency to 'Suggests:' in your DESCRIPTION file. See Renviron.bioc for more information.

raw results


Summary

Package: BulkSignalR
Version: 1.3.1
Command: /Library/Frameworks/R.framework/Resources/bin/R CMD check --install=check:BulkSignalR.install-out.txt --library=/Library/Frameworks/R.framework/Resources/library --no-vignettes --timings BulkSignalR_1.3.1.tar.gz
StartedAt: 2025-11-21 19:52:41 -0500 (Fri, 21 Nov 2025)
EndedAt: 2025-11-21 20:00:45 -0500 (Fri, 21 Nov 2025)
EllapsedTime: 484.9 seconds
RetCode: 0
Status:   OK  
CheckDir: BulkSignalR.Rcheck
Warnings: 0

Command output

##############################################################################
##############################################################################
###
### Running command:
###
###   /Library/Frameworks/R.framework/Resources/bin/R CMD check --install=check:BulkSignalR.install-out.txt --library=/Library/Frameworks/R.framework/Resources/library --no-vignettes --timings BulkSignalR_1.3.1.tar.gz
###
##############################################################################
##############################################################################


* using log directory ‘/Users/biocbuild/bbs-3.23-bioc/meat/BulkSignalR.Rcheck’
* using R Under development (unstable) (2025-10-21 r88958)
* using platform: x86_64-apple-darwin20
* R was compiled by
    Apple clang version 14.0.0 (clang-1400.0.29.202)
    GNU Fortran (GCC) 14.2.0
* running under: macOS Ventura 13.7.8
* using session charset: UTF-8
* using option ‘--no-vignettes’
* checking for file ‘BulkSignalR/DESCRIPTION’ ... OK
* checking extension type ... Package
* this is package ‘BulkSignalR’ version ‘1.3.1’
* package encoding: UTF-8
* checking package namespace information ... OK
* checking package dependencies ... INFO
Imports includes 26 non-default packages.
Importing from so many packages makes the package vulnerable to any of
them becoming unavailable.  Move as many as possible to Suggests and
use conditionally.
* checking if this is a source package ... OK
* checking if there is a namespace ... OK
* checking for hidden files and directories ... OK
* checking for portable file names ... OK
* checking for sufficient/correct file permissions ... OK
* checking whether package ‘BulkSignalR’ can be installed ... OK
* checking installed package size ... OK
* checking package directory ... OK
* checking ‘build’ directory ... OK
* checking DESCRIPTION meta-information ... OK
* checking top-level files ... OK
* checking for left-over files ... OK
* checking index information ... OK
* checking package subdirectories ... OK
* checking code files for non-ASCII characters ... OK
* checking R files for syntax errors ... OK
* checking whether the package can be loaded ... OK
* checking whether the package can be loaded with stated dependencies ... OK
* checking whether the package can be unloaded cleanly ... OK
* checking whether the namespace can be loaded with stated dependencies ... OK
* checking whether the namespace can be unloaded cleanly ... OK
* checking whether startup messages can be suppressed ... OK
* checking dependencies in R code ... OK
* checking S3 generic/method consistency ... OK
* checking replacement functions ... OK
* checking foreign function calls ... OK
* checking R code for possible problems ... OK
* checking Rd files ... OK
* checking Rd metadata ... OK
* checking Rd cross-references ... OK
* checking for missing documentation entries ... OK
* checking for code/documentation mismatches ... OK
* checking Rd \usage sections ... OK
* checking Rd contents ... OK
* checking for unstated dependencies in examples ... OK
* checking contents of ‘data’ directory ... OK
* checking data for non-ASCII characters ... OK
* checking data for ASCII and uncompressed saves ... OK
* checking files in ‘vignettes’ ... OK
* checking examples ... OK
Examples with CPU (user + system) or elapsed time > 5s
                user system elapsed
simpleHeatmap  7.239  0.432   7.756
cacheClear     3.718  0.267   7.326
convertToHuman 0.183  0.011   7.731
* checking for unstated dependencies in ‘tests’ ... OK
* checking tests ...
  Running ‘testthat.R’
 OK
* checking for unstated dependencies in vignettes ... OK
* checking package vignettes ... OK
* checking running R code from vignettes ... SKIPPED
* checking re-building of vignette outputs ... SKIPPED
* checking PDF version of manual ... OK
* DONE

Status: OK


Installation output

BulkSignalR.Rcheck/00install.out

##############################################################################
##############################################################################
###
### Running command:
###
###   /Library/Frameworks/R.framework/Resources/bin/R CMD INSTALL BulkSignalR
###
##############################################################################
##############################################################################


* installing to library ‘/Library/Frameworks/R.framework/Versions/4.6-x86_64/Resources/library’
* installing *source* package ‘BulkSignalR’ ...
** this is package ‘BulkSignalR’ version ‘1.3.1’
** using staged installation
** R
** data
** inst
** byte-compile and prepare package for lazy loading
** help
*** installing help indices
*** copying figures
** building package indices
** installing vignettes
** testing if installed package can be loaded from temporary location
** testing if installed package can be loaded from final location
** testing if installed package keeps a record of temporary installation path
* DONE (BulkSignalR)

Tests output

BulkSignalR.Rcheck/tests/testthat.Rout


R Under development (unstable) (2025-10-21 r88958) -- "Unsuffered Consequences"
Copyright (C) 2025 The R Foundation for Statistical Computing
Platform: x86_64-apple-darwin20

R is free software and comes with ABSOLUTELY NO WARRANTY.
You are welcome to redistribute it under certain conditions.
Type 'license()' or 'licence()' for distribution details.

R is a collaborative project with many contributors.
Type 'contributors()' for more information and
'citation()' on how to cite R or R packages in publications.

Type 'demo()' for some demos, 'help()' for on-line help, or
'help.start()' for an HTML browser interface to help.
Type 'q()' to quit R.

> library(testthat)
> library(BulkSignalR)
Local "resources" are up to date.

> test_check("BulkSignalR")
[ FAIL 0 | WARN 0 | SKIP 0 | PASS 1 ]
> 
> proc.time()
   user  system elapsed 
 16.232   1.038  18.530 

Example timings

BulkSignalR.Rcheck/BulkSignalR-Ex.timings

nameusersystemelapsed
BSRClusterComp-class0.0020.0000.003
BSRClusterComp0.3670.0240.395
BSRDataModel-class0.0500.0060.057
BSRDataModel0.2550.0050.263
BSRDataModelComp-class0.0060.0000.006
BSRDataModelComp0.2760.0070.286
BSRInference-class0.0040.0000.004
BSRInference3.5800.0953.696
BSRInferenceComp-class0.0090.0000.009
BSRInferenceComp1.2900.0911.391
BSRSignature-class0.0020.0000.002
BSRSignature0.0320.0010.034
BSRSignatureComp-class0.0050.0000.005
BSRSignatureComp0.0130.0010.015
LRinter0.0010.0010.001
LRinterScore0.0040.0010.006
LRinterShort0.0040.0010.005
addClusterComp0.3750.0150.392
alluvialPlot0.6680.0390.713
assignCellTypesToInteractions0.7560.0380.799
bubblePlotPathwaysLR0.5650.0100.580
cacheClear3.7180.2677.326
cacheInfo0.1170.0100.128
cacheVersion0.3420.0490.791
cellTypeFrequency0.7260.0350.767
cellularNetwork0.6990.0270.732
cellularNetworkTable0.6830.0110.699
chordDiagramLR1.4590.0291.502
coerce0.0010.0000.001
colClusterA0.0000.0000.001
colClusterB000
comparison000
comparisonName000
convertToHuman0.1830.0117.731
createResources0.3110.0491.030
differentialStats0.0010.0000.001
findOrthoGenes0.1300.0040.396
generateSpatialPlots1.9630.0392.016
getLRIntracellNetwork2.1450.1702.328
getLRNetwork0.0320.0010.033
getPathwayStats0.0140.0010.015
getResource0.3100.0240.337
inferenceParameters000
initialOrganism0.0010.0010.002
initialOrthologs0.0010.0000.002
learnParameters2.8190.0272.861
ligands000
logTransformed0.0020.0000.002
maxLigandSpatialCounts0.0520.0020.056
mu000
ncounts0.0020.0000.002
normalization0.0010.0000.002
parameters0.0020.0010.003
pathways0.0010.0000.000
receptors000
reduceToBestPathway0.1130.0060.119
reduceToLigand0.0410.0030.044
reduceToPathway0.0720.0020.074
reduceToReceptor0.0160.0020.018
relateToGeneSet0.0700.0030.073
removeClusterComp0.3050.0070.315
rescoreInference0.0280.0030.031
resetLRdb0.0310.0010.032
resetNetwork0.0080.0000.008
resetPathways0.3190.0220.343
resetToInitialOrganism0.1480.0050.154
scoreLRGeneSignatures1.3420.0291.378
scoreSignatures0.3450.0070.353
separatedLRPlot1.8600.0481.918
signatureHeatmaps0.0220.0030.025
simpleHeatmap7.2390.4327.756
smoothSpatialCounts0.0590.0100.070
sourceComparisonName000
spatialAssociation0.0580.0190.077
spatialAssociationPlot4.2290.0754.329
spatialDiversityPlot1.0170.0261.049
spatialIndexPlot1.5870.0321.628
spatialPlot1.2580.0241.287
summarizedCellularNetwork0.6640.0180.686
tgCorr0.0010.0000.001
tgExpr000
tgGenes0.0000.0000.001
tgLogFC000
tgPval0.0010.0000.000
updateInference0.0840.0030.088