Back to Multiple platform build/check report for BioC 3.23:   simplified   long
A[B]CDEFGHIJKLMNOPQRSTUVWXYZ

This page was generated on 2025-11-18 11:38 -0500 (Tue, 18 Nov 2025).

HostnameOSArch (*)R versionInstalled pkgs
nebbiolo1Linux (Ubuntu 24.04.3 LTS)x86_64R Under development (unstable) (2025-10-20 r88955) -- "Unsuffered Consequences" 4826
lconwaymacOS 12.7.6 Montereyx86_64R Under development (unstable) (2025-10-21 r88958) -- "Unsuffered Consequences" 4561
kjohnson3macOS 13.7.7 Venturaarm64R Under development (unstable) (2025-11-04 r88984) -- "Unsuffered Consequences" 4562
Click on any hostname to see more info about the system (e.g. compilers)      (*) as reported by 'uname -p', except on Windows and Mac OS X

Package 254/2325HostnameOS / ArchINSTALLBUILDCHECKBUILD BIN
BulkSignalR 1.3.1  (landing page)
Jean-Philippe Villemin
Snapshot Date: 2025-11-17 13:40 -0500 (Mon, 17 Nov 2025)
git_url: https://git.bioconductor.org/packages/BulkSignalR
git_branch: devel
git_last_commit: e236c5a
git_last_commit_date: 2025-11-08 17:09:36 -0500 (Sat, 08 Nov 2025)
nebbiolo1Linux (Ubuntu 24.04.3 LTS) / x86_64  OK    OK    OK  UNNEEDED, same version is already published
lconwaymacOS 12.7.6 Monterey / x86_64  ERROR    OK    ERROR    OK  
kjohnson3macOS 13.7.7 Ventura / arm64  ERROR    OK    ERROR    OK  


INSTALL results for BulkSignalR on lconway

To the developers/maintainers of the BulkSignalR package:
- Allow up to 24 hours (and sometimes 48 hours) for your latest push to git@git.bioconductor.org:packages/BulkSignalR.git to reflect on this report. See Troubleshooting Build Report for more information.
- Use the following Renviron settings to reproduce errors and warnings.
- If 'R CMD check' started to fail recently on the Linux builder(s) over a missing dependency, add the missing dependency to 'Suggests:' in your DESCRIPTION file. See Renviron.bioc for more information.

raw results


Summary

Package: BulkSignalR
Version: 1.3.1
Command: /Library/Frameworks/R.framework/Resources/bin/R CMD INSTALL BulkSignalR
StartedAt: 2025-11-17 15:48:51 -0500 (Mon, 17 Nov 2025)
EndedAt: 2025-11-17 15:53:06 -0500 (Mon, 17 Nov 2025)
EllapsedTime: 254.9 seconds
RetCode: 1
Status:   ERROR  

Command output

##############################################################################
##############################################################################
###
### Running command:
###
###   /Library/Frameworks/R.framework/Resources/bin/R CMD INSTALL BulkSignalR
###
##############################################################################
##############################################################################


* installing to library ‘/Library/Frameworks/R.framework/Versions/4.6-x86_64/Resources/library’
* installing *source* package ‘BulkSignalR’ ...
** this is package ‘BulkSignalR’ version ‘1.3.1’
** using staged installation
** R
** data
** inst
** byte-compile and prepare package for lazy loading
** help
*** installing help indices
*** copying figures
** building package indices
** installing vignettes
** testing if installed package can be loaded from temporary location
ℹ /Users/biocbuild/Library/Caches/org.R-project.R/R/BulkSignalR is corrupted. It will be deleted and downloaded again.
Warning: download failed
  web resource path: ‘https://partage-dev.montp.inserm.fr:9192/CBSB/SignalR/resources/gobp.rds’
  local file path: ‘/Users/biocbuild/Library/Caches/org.R-project.R/R/BulkSignalR/resources/aee83af3d86e_gobp.rds’
  reason: Failed to perform HTTP request.
Caused by error in `curl::curl_fetch_disk()`:
! Transferred a partial file [partage-dev.montp.inserm.fr]:
end of response with 1851926 bytes missing
Warning: bfcadd() failed; resource removed
  rid: BFC1
  fpath: ‘https://partage-dev.montp.inserm.fr:9192/CBSB/SignalR/resources/gobp.rds’
  reason: download failed
Error: package or namespace load failed for ‘BulkSignalR’:
 .onLoad failed in loadNamespace() for 'BulkSignalR', details:
  call: .util_download(x, rid[i], proxy, progress, config, "bfcadd()", 
  error: bfcadd() failed; see warnings()
Error: loading failed
Execution halted
ERROR: loading failed
* removing ‘/Library/Frameworks/R.framework/Versions/4.6-x86_64/Resources/library/BulkSignalR’
* restoring previous ‘/Library/Frameworks/R.framework/Versions/4.6-x86_64/Resources/library/BulkSignalR’