Back to Multiple platform build/check report for BioC 3.23:   simplified   long
ABCDE[F]GHIJKLMNOPQRSTUVWXYZ

This page was generated on 2025-11-20 11:38 -0500 (Thu, 20 Nov 2025).

HostnameOSArch (*)R versionInstalled pkgs
nebbiolo1Linux (Ubuntu 24.04.3 LTS)x86_64R Under development (unstable) (2025-10-20 r88955) -- "Unsuffered Consequences" 4827
lconwaymacOS 12.7.6 Montereyx86_64R Under development (unstable) (2025-10-21 r88958) -- "Unsuffered Consequences" 4600
kjohnson3macOS 13.7.7 Venturaarm64R Under development (unstable) (2025-11-04 r88984) -- "Unsuffered Consequences" 4564
Click on any hostname to see more info about the system (e.g. compilers)      (*) as reported by 'uname -p', except on Windows and Mac OS X

Package 755/2325HostnameOS / ArchINSTALLBUILDCHECKBUILD BIN
FlowSOM 2.19.0  (landing page)
Sofie Van Gassen
Snapshot Date: 2025-11-19 13:40 -0500 (Wed, 19 Nov 2025)
git_url: https://git.bioconductor.org/packages/FlowSOM
git_branch: devel
git_last_commit: 3c00c1d
git_last_commit_date: 2025-10-29 10:23:19 -0500 (Wed, 29 Oct 2025)
nebbiolo1Linux (Ubuntu 24.04.3 LTS) / x86_64  OK    OK    OK  UNNEEDED, same version is already published
lconwaymacOS 12.7.6 Monterey / x86_64  OK    OK    OK    OK  UNNEEDED, same version is already published
kjohnson3macOS 13.7.7 Ventura / arm64  OK    OK    OK    OK  UNNEEDED, same version is already published


CHECK results for FlowSOM on lconway

To the developers/maintainers of the FlowSOM package:
- Allow up to 24 hours (and sometimes 48 hours) for your latest push to git@git.bioconductor.org:packages/FlowSOM.git to reflect on this report. See Troubleshooting Build Report for more information.
- Use the following Renviron settings to reproduce errors and warnings.
- If 'R CMD check' started to fail recently on the Linux builder(s) over a missing dependency, add the missing dependency to 'Suggests:' in your DESCRIPTION file. See Renviron.bioc for more information.

raw results


Summary

Package: FlowSOM
Version: 2.19.0
Command: /Library/Frameworks/R.framework/Resources/bin/R CMD check --install=check:FlowSOM.install-out.txt --library=/Library/Frameworks/R.framework/Resources/library --no-vignettes --timings FlowSOM_2.19.0.tar.gz
StartedAt: 2025-11-19 21:12:52 -0500 (Wed, 19 Nov 2025)
EndedAt: 2025-11-19 21:23:22 -0500 (Wed, 19 Nov 2025)
EllapsedTime: 629.4 seconds
RetCode: 0
Status:   OK  
CheckDir: FlowSOM.Rcheck
Warnings: 0

Command output

##############################################################################
##############################################################################
###
### Running command:
###
###   /Library/Frameworks/R.framework/Resources/bin/R CMD check --install=check:FlowSOM.install-out.txt --library=/Library/Frameworks/R.framework/Resources/library --no-vignettes --timings FlowSOM_2.19.0.tar.gz
###
##############################################################################
##############################################################################


* using log directory ‘/Users/biocbuild/bbs-3.23-bioc/meat/FlowSOM.Rcheck’
* using R Under development (unstable) (2025-10-21 r88958)
* using platform: x86_64-apple-darwin20
* R was compiled by
    Apple clang version 14.0.0 (clang-1400.0.29.202)
    GNU Fortran (GCC) 14.2.0
* running under: macOS Ventura 13.7.8
* using session charset: UTF-8
* using option ‘--no-vignettes’
* checking for file ‘FlowSOM/DESCRIPTION’ ... OK
* this is package ‘FlowSOM’ version ‘2.19.0’
* package encoding: UTF-8
* checking package namespace information ... OK
* checking package dependencies ... OK
* checking if this is a source package ... OK
* checking if there is a namespace ... OK
* checking for hidden files and directories ... OK
* checking for portable file names ... OK
* checking for sufficient/correct file permissions ... OK
* checking whether package ‘FlowSOM’ can be installed ... OK
* used C compiler: ‘Apple clang version 14.0.3 (clang-1403.0.22.14.1)’
* used SDK: ‘MacOSX11.3.1.sdk’
* checking installed package size ... OK
* checking package directory ... OK
* checking ‘build’ directory ... OK
* checking DESCRIPTION meta-information ... OK
* checking top-level files ... OK
* checking for left-over files ... OK
* checking index information ... OK
* checking package subdirectories ... OK
* checking code files for non-ASCII characters ... OK
* checking R files for syntax errors ... OK
* checking whether the package can be loaded ... OK
* checking whether the package can be loaded with stated dependencies ... OK
* checking whether the package can be unloaded cleanly ... OK
* checking whether the namespace can be loaded with stated dependencies ... OK
* checking whether the namespace can be unloaded cleanly ... OK
* checking whether startup messages can be suppressed ... OK
* checking dependencies in R code ... OK
* checking S3 generic/method consistency ... OK
* checking replacement functions ... OK
* checking foreign function calls ... OK
* checking R code for possible problems ... OK
* checking Rd files ... NOTE
checkRd: (-1) PlotDimRed.Rd:55: Lost braces
    55 | of the dimred default = function(dimred){dimred$Y}.}
       |                                         ^
* checking Rd metadata ... OK
* checking Rd cross-references ... NOTE
Non-topic package-anchored link(s) in Rd file 'pipe.Rd':
  ‘[magrittr:pipe]{%>%}’

See section 'Cross-references' in the 'Writing R Extensions' manual.
* checking for missing documentation entries ... OK
* checking for code/documentation mismatches ... OK
* checking Rd \usage sections ... OK
* checking Rd contents ... OK
* checking for unstated dependencies in examples ... OK
* checking line endings in C/C++/Fortran sources/headers ... OK
* checking compiled code ... INFO
Note: information on .o files is not available
* checking sizes of PDF files under ‘inst/doc’ ... OK
* checking files in ‘vignettes’ ... OK
* checking examples ... OK
Examples with CPU (user + system) or elapsed time > 5s
                                    user system elapsed
FlowSOMmary                       52.540  2.290  54.993
PlotDimRed                        38.787  2.282  41.543
PlotOutliers                      36.527  1.070  38.072
PlotMarker                        20.493  1.249  22.039
UpdateMetaclusters                17.878  1.300  19.386
PlotStars                         16.816  1.155  18.250
GroupStats                        13.998  0.839  14.979
FlowSOM                           13.066  1.022  14.206
PlotGroups                        12.219  1.068  13.402
QueryMultiple                     10.985  0.639  11.901
query_multiple                    11.037  0.478  11.760
Plot2DScatters                    10.312  0.618  11.032
AddAnnotation                      9.663  0.657  10.406
PlotManualBars                     9.129  0.844  10.122
GetFlowJoLabels                    7.878  0.670   8.642
PlotVariable                       7.413  1.065   8.806
QueryStarPlot                      7.828  0.382   8.317
PlotNode                           7.429  0.627   8.159
PlotPies                           7.220  0.761   8.099
PlotNumbers                        7.219  0.731   8.061
UpdateNodeSize                     6.706  0.282   7.069
CountGroups                        6.326  0.587   6.983
PlotFlowSOM                        6.143  0.743   6.971
PlotLabels                         5.731  0.693   6.505
SaveClustersToFCS                  5.533  0.766   6.391
MetaclusterMFIs                    5.383  0.798   6.249
GetFeatures                        5.649  0.435   6.143
PlotOverview2D                     5.385  0.584   6.054
TestOutliers                       5.155  0.764   6.000
NClusters                          5.221  0.689   5.969
NMetaclusters                      5.181  0.727   5.991
GetMetaclusterCVs                  4.807  0.722   5.597
GetMetaclusterPercentagesPositive  4.870  0.606   5.538
MetaclusterCVs                     4.786  0.640   5.481
print.FlowSOM                      4.657  0.713   5.447
GetMetaclusterMFIs                 4.757  0.605   5.426
GetMFIs                            4.620  0.682   5.376
GetMetaclusters                    4.644  0.643   5.353
GetCounts                          4.789  0.492   5.337
GetPercentages                     4.649  0.618   5.338
GetClusterMFIs                     4.544  0.514   5.112
NewData                            4.508  0.504   5.077
* checking for unstated dependencies in vignettes ... OK
* checking package vignettes ... OK
* checking running R code from vignettes ... SKIPPED
* checking re-building of vignette outputs ... SKIPPED
* checking PDF version of manual ... OK
* DONE

Status: 2 NOTEs
See
  ‘/Users/biocbuild/bbs-3.23-bioc/meat/FlowSOM.Rcheck/00check.log’
for details.


Installation output

FlowSOM.Rcheck/00install.out

##############################################################################
##############################################################################
###
### Running command:
###
###   /Library/Frameworks/R.framework/Resources/bin/R CMD INSTALL FlowSOM
###
##############################################################################
##############################################################################


* installing to library ‘/Library/Frameworks/R.framework/Versions/4.6-x86_64/Resources/library’
* installing *source* package ‘FlowSOM’ ...
** this is package ‘FlowSOM’ version ‘2.19.0’
** using staged installation
** libs
using C compiler: ‘Apple clang version 14.0.3 (clang-1403.0.22.14.1)’
using SDK: ‘MacOSX11.3.1.sdk’
clang -arch x86_64 -I"/Library/Frameworks/R.framework/Resources/include" -DNDEBUG   -I/opt/R/x86_64/include    -fPIC  -falign-functions=64 -Wall -g -O2  -c som.c -o som.o
clang -arch x86_64 -dynamiclib -Wl,-headerpad_max_install_names -undefined dynamic_lookup -L/Library/Frameworks/R.framework/Resources/lib -L/opt/R/x86_64/lib -o FlowSOM.so som.o -F/Library/Frameworks/R.framework/.. -framework R
installing to /Library/Frameworks/R.framework/Versions/4.6-x86_64/Resources/library/00LOCK-FlowSOM/00new/FlowSOM/libs
** R
** inst
** byte-compile and prepare package for lazy loading
** help
*** installing help indices
** building package indices
** installing vignettes
** testing if installed package can be loaded from temporary location
** checking absolute paths in shared objects and dynamic libraries
** testing if installed package can be loaded from final location
** testing if installed package keeps a record of temporary installation path
* DONE (FlowSOM)

Tests output


Example timings

FlowSOM.Rcheck/FlowSOM-Ex.timings

nameusersystemelapsed
AddAnnotation 9.663 0.65710.406
AggregateFlowFrames0.1020.0080.111
BuildMST1.3570.0781.446
BuildSOM1.3760.0831.476
CountGroups6.3260.5876.983
FMeasure0.0010.0000.001
FlowSOM13.066 1.02214.206
FlowSOMSubset4.5490.3874.975
FlowSOMmary52.540 2.29054.993
GetChannels0.0380.0030.042
GetClusterMFIs4.5440.5145.112
GetClusterPercentagesPositive4.3120.4964.845
GetClusters4.3510.4484.852
GetCounts4.7890.4925.337
GetFeatures5.6490.4356.143
GetFlowJoLabels7.8780.6708.642
GetMFIs4.6200.6825.376
GetMarkers0.0410.0040.045
GetMetaclusterCVs4.8070.7225.597
GetMetaclusterMFIs4.7570.6055.426
GetMetaclusterPercentagesPositive4.8700.6065.538
GetMetaclusters4.6440.6435.353
GetPercentages4.6490.6185.338
GroupStats13.998 0.83914.979
Initialize_KWSP0.0060.0000.006
Initialize_PCA0.0010.0000.001
MetaClustering3.4450.5394.043
MetaclusterCVs4.7860.6405.481
MetaclusterMFIs5.3830.7986.249
NClusters5.2210.6895.969
NMetaclusters5.1810.7275.991
NewData4.5080.5045.077
Plot2DScatters10.312 0.61811.032
PlotCenters1.2510.1191.378
PlotClusters2D1.1210.1281.262
PlotDimRed38.787 2.28241.543
PlotFileScatters1.2850.0321.328
PlotFlowSOM6.1430.7436.971
PlotGroups12.219 1.06813.402
PlotLabels5.7310.6936.505
PlotManualBars 9.129 0.84410.122
PlotMarker20.493 1.24922.039
PlotNode7.4290.6278.159
PlotNumbers7.2190.7318.061
PlotOutliers36.527 1.07038.072
PlotOverview2D5.3850.5846.054
PlotPies7.2200.7618.099
PlotSD2.4380.1572.638
PlotStars16.816 1.15518.250
PlotVariable7.4131.0658.806
Purity0.0010.0000.001
QueryMultiple10.985 0.63911.901
QueryStarPlot7.8280.3828.317
ReadInput3.3540.5363.952
SaveClustersToFCS5.5330.7666.391
TestOutliers5.1550.7646.000
UpdateMetaclusters17.878 1.30019.386
UpdateNodeSize6.7060.2827.069
get_channels0.0450.0020.048
get_markers0.0450.0030.080
metaClustering_consensus2.5820.4033.023
plotStarLegend0.4920.0050.504
print.FlowSOM4.6570.7135.447
query_multiple11.037 0.47811.760