Back to Multiple platform build/check report for BioC 3.22:   simplified   long
ABCDE[F]GHIJKLMNOPQRSTUVWXYZ

This page was generated on 2025-07-12 12:06 -0400 (Sat, 12 Jul 2025).

HostnameOSArch (*)R versionInstalled pkgs
nebbiolo2Linux (Ubuntu 24.04.2 LTS)x86_644.5.1 (2025-06-13) -- "Great Square Root" 4783
palomino8Windows Server 2022 Datacenterx644.5.1 (2025-06-13 ucrt) -- "Great Square Root" 4520
lconwaymacOS 12.7.1 Montereyx86_644.5.1 (2025-06-13) -- "Great Square Root" 4564
kjohnson3macOS 13.7.1 Venturaarm644.5.1 Patched (2025-06-14 r88325) -- "Great Square Root" 4506
taishanLinux (openEuler 24.03 LTS)aarch644.5.0 (2025-04-11) -- "How About a Twenty-Six" 4507
Click on any hostname to see more info about the system (e.g. compilers)      (*) as reported by 'uname -p', except on Windows and Mac OS X

Package 748/2311HostnameOS / ArchINSTALLBUILDCHECKBUILD BIN
FlowSOM 2.17.0  (landing page)
Sofie Van Gassen
Snapshot Date: 2025-07-11 13:25 -0400 (Fri, 11 Jul 2025)
git_url: https://git.bioconductor.org/packages/FlowSOM
git_branch: devel
git_last_commit: d549275
git_last_commit_date: 2025-04-15 10:36:59 -0400 (Tue, 15 Apr 2025)
nebbiolo2Linux (Ubuntu 24.04.2 LTS) / x86_64  OK    OK    OK  UNNEEDED, same version is already published
palomino8Windows Server 2022 Datacenter / x64  OK    OK    OK    OK  UNNEEDED, same version is already published
lconwaymacOS 12.7.1 Monterey / x86_64  OK    ERROR  skippedskipped
kjohnson3macOS 13.7.1 Ventura / arm64  OK    ERROR  skippedskipped
taishanLinux (openEuler 24.03 LTS) / aarch64  OK    OK    OK  


CHECK results for FlowSOM on nebbiolo2

To the developers/maintainers of the FlowSOM package:
- Allow up to 24 hours (and sometimes 48 hours) for your latest push to git@git.bioconductor.org:packages/FlowSOM.git to reflect on this report. See Troubleshooting Build Report for more information.
- Use the following Renviron settings to reproduce errors and warnings.
- If 'R CMD check' started to fail recently on the Linux builder(s) over a missing dependency, add the missing dependency to 'Suggests:' in your DESCRIPTION file. See Renviron.bioc for more information.

raw results


Summary

Package: FlowSOM
Version: 2.17.0
Command: /home/biocbuild/bbs-3.22-bioc/R/bin/R CMD check --install=check:FlowSOM.install-out.txt --library=/home/biocbuild/bbs-3.22-bioc/R/site-library --timings FlowSOM_2.17.0.tar.gz
StartedAt: 2025-07-11 22:20:14 -0400 (Fri, 11 Jul 2025)
EndedAt: 2025-07-11 22:29:38 -0400 (Fri, 11 Jul 2025)
EllapsedTime: 563.6 seconds
RetCode: 0
Status:   OK  
CheckDir: FlowSOM.Rcheck
Warnings: 0

Command output

##############################################################################
##############################################################################
###
### Running command:
###
###   /home/biocbuild/bbs-3.22-bioc/R/bin/R CMD check --install=check:FlowSOM.install-out.txt --library=/home/biocbuild/bbs-3.22-bioc/R/site-library --timings FlowSOM_2.17.0.tar.gz
###
##############################################################################
##############################################################################


* using log directory ‘/home/biocbuild/bbs-3.22-bioc/meat/FlowSOM.Rcheck’
* using R version 4.5.1 (2025-06-13)
* using platform: x86_64-pc-linux-gnu
* R was compiled by
    gcc (Ubuntu 13.3.0-6ubuntu2~24.04) 13.3.0
    GNU Fortran (Ubuntu 13.3.0-6ubuntu2~24.04) 13.3.0
* running under: Ubuntu 24.04.2 LTS
* using session charset: UTF-8
* checking for file ‘FlowSOM/DESCRIPTION’ ... OK
* this is package ‘FlowSOM’ version ‘2.17.0’
* package encoding: UTF-8
* checking package namespace information ... OK
* checking package dependencies ... OK
* checking if this is a source package ... OK
* checking if there is a namespace ... OK
* checking for hidden files and directories ... OK
* checking for portable file names ... OK
* checking for sufficient/correct file permissions ... OK
* checking whether package ‘FlowSOM’ can be installed ... OK
* used C compiler: ‘gcc (Ubuntu 13.3.0-6ubuntu2~24.04) 13.3.0’
* checking installed package size ... OK
* checking package directory ... OK
* checking ‘build’ directory ... OK
* checking DESCRIPTION meta-information ... OK
* checking top-level files ... OK
* checking for left-over files ... OK
* checking index information ... OK
* checking package subdirectories ... OK
* checking code files for non-ASCII characters ... OK
* checking R files for syntax errors ... OK
* checking whether the package can be loaded ... OK
* checking whether the package can be loaded with stated dependencies ... OK
* checking whether the package can be unloaded cleanly ... OK
* checking whether the namespace can be loaded with stated dependencies ... OK
* checking whether the namespace can be unloaded cleanly ... OK
* checking loading without being on the library search path ... OK
* checking whether startup messages can be suppressed ... OK
* checking dependencies in R code ... OK
* checking S3 generic/method consistency ... OK
* checking replacement functions ... OK
* checking foreign function calls ... OK
* checking R code for possible problems ... OK
* checking Rd files ... NOTE
checkRd: (-1) PlotDimRed.Rd:55: Lost braces
    55 | of the dimred default = function(dimred){dimred$Y}.}
       |                                         ^
* checking Rd metadata ... OK
* checking Rd cross-references ... NOTE
Non-topic package-anchored link(s) in Rd file 'pipe.Rd':
  ‘[magrittr:pipe]{%>%}’

See section 'Cross-references' in the 'Writing R Extensions' manual.
* checking for missing documentation entries ... OK
* checking for code/documentation mismatches ... OK
* checking Rd \usage sections ... OK
* checking Rd contents ... OK
* checking for unstated dependencies in examples ... OK
* checking line endings in C/C++/Fortran sources/headers ... OK
* checking compiled code ... NOTE
Note: information on .o files is not available
* checking files in ‘vignettes’ ... OK
* checking examples ... OK
Examples with CPU (user + system) or elapsed time > 5s
                     user system elapsed
FlowSOMmary        47.257  0.443  47.519
PlotDimRed         43.552  0.171  43.676
PlotOutliers       18.048  0.196  18.246
PlotMarker         15.931  0.561  16.493
UpdateMetaclusters 15.285  0.008  15.295
PlotStars          14.792  0.141  14.934
GroupStats         11.734  0.016  11.752
FlowSOM            11.250  0.170  11.421
PlotGroups         10.483  0.025  10.508
QueryMultiple       8.406  0.054   8.460
query_multiple      8.106  0.020   8.127
PlotManualBars      7.452  0.587   8.039
Plot2DScatters      7.996  0.021   8.007
AddAnnotation       7.718  0.148   7.867
GetFlowJoLabels     7.118  0.149   7.269
PlotNode            7.060  0.174   7.234
QueryStarPlot       6.580  0.028   6.609
PlotNumbers         6.386  0.100   6.487
PlotVariable        6.321  0.099   6.421
PlotPies            6.131  0.047   6.178
PlotFlowSOM         5.549  0.073   5.622
CountGroups         5.501  0.021   5.522
SaveClustersToFCS   5.382  0.005   5.390
MetaclusterMFIs     5.246  0.012   5.260
PlotLabels          5.220  0.030   5.251
UpdateNodeSize      5.160  0.004   5.165
NMetaclusters       5.086  0.011   5.098
* checking for unstated dependencies in vignettes ... OK
* checking package vignettes ... OK
* checking re-building of vignette outputs ... OK
* checking PDF version of manual ... OK
* DONE

Status: 3 NOTEs
See
  ‘/home/biocbuild/bbs-3.22-bioc/meat/FlowSOM.Rcheck/00check.log’
for details.


Installation output

FlowSOM.Rcheck/00install.out

##############################################################################
##############################################################################
###
### Running command:
###
###   /home/biocbuild/bbs-3.22-bioc/R/bin/R CMD INSTALL FlowSOM
###
##############################################################################
##############################################################################


* installing to library ‘/home/biocbuild/bbs-3.22-bioc/R/site-library’
* installing *source* package ‘FlowSOM’ ...
** this is package ‘FlowSOM’ version ‘2.17.0’
** using staged installation
** libs
using C compiler: ‘gcc (Ubuntu 13.3.0-6ubuntu2~24.04) 13.3.0’
gcc -std=gnu2x -I"/home/biocbuild/bbs-3.22-bioc/R/include" -DNDEBUG   -I/usr/local/include    -fpic  -g -O2  -Wall -Werror=format-security -c som.c -o som.o
gcc -std=gnu2x -shared -L/home/biocbuild/bbs-3.22-bioc/R/lib -L/usr/local/lib -o FlowSOM.so som.o -L/home/biocbuild/bbs-3.22-bioc/R/lib -lR
installing to /home/biocbuild/bbs-3.22-bioc/R/site-library/00LOCK-FlowSOM/00new/FlowSOM/libs
** R
** inst
** byte-compile and prepare package for lazy loading
** help
*** installing help indices
** building package indices
** installing vignettes
** testing if installed package can be loaded from temporary location
** checking absolute paths in shared objects and dynamic libraries
** testing if installed package can be loaded from final location
** testing if installed package keeps a record of temporary installation path
* DONE (FlowSOM)

Tests output


Example timings

FlowSOM.Rcheck/FlowSOM-Ex.timings

nameusersystemelapsed
AddAnnotation7.7180.1487.867
AggregateFlowFrames0.0690.0050.074
BuildMST1.2450.0701.315
BuildSOM1.0280.0111.040
CountGroups5.5010.0215.522
FMeasure0.0020.0000.002
FlowSOM11.250 0.17011.421
FlowSOMSubset3.7730.0093.783
FlowSOMmary47.257 0.44347.519
GetChannels0.0260.0000.027
GetClusterMFIs3.7350.0663.802
GetClusterPercentagesPositive4.4600.0094.470
GetClusters4.2290.0184.249
GetCounts3.8450.0233.869
GetFeatures4.7820.0084.791
GetFlowJoLabels7.1180.1497.269
GetMFIs4.1440.0444.190
GetMarkers0.0280.0010.028
GetMetaclusterCVs4.0940.0114.105
GetMetaclusterMFIs4.3970.0654.463
GetMetaclusterPercentagesPositive4.3340.0324.367
GetMetaclusters4.0270.0224.049
GetPercentages4.1020.0074.110
GroupStats11.734 0.01611.752
Initialize_KWSP0.0040.0000.004
Initialize_PCA0.0010.0000.001
MetaClustering2.9150.0162.931
MetaclusterCVs4.3430.0104.353
MetaclusterMFIs5.2460.0125.260
NClusters4.8030.0094.813
NMetaclusters5.0860.0115.098
NewData3.7030.0113.714
Plot2DScatters7.9960.0218.007
PlotCenters1.1250.0061.131
PlotClusters2D1.0520.0011.053
PlotDimRed43.552 0.17143.676
PlotFileScatters0.7330.0220.754
PlotFlowSOM5.5490.0735.622
PlotGroups10.483 0.02510.508
PlotLabels5.2200.0305.251
PlotManualBars7.4520.5878.039
PlotMarker15.931 0.56116.493
PlotNode7.0600.1747.234
PlotNumbers6.3860.1006.487
PlotOutliers18.048 0.19618.246
PlotOverview2D4.5600.0734.633
PlotPies6.1310.0476.178
PlotSD2.5530.0772.630
PlotStars14.792 0.14114.934
PlotVariable6.3210.0996.421
Purity0.0010.0000.000
QueryMultiple8.4060.0548.460
QueryStarPlot6.5800.0286.609
ReadInput2.6970.0212.719
SaveClustersToFCS5.3820.0055.390
TestOutliers4.8160.0124.830
UpdateMetaclusters15.285 0.00815.295
UpdateNodeSize5.1600.0045.165
get_channels0.0270.0000.027
get_markers0.0270.0000.027
metaClustering_consensus2.3300.0102.341
plotStarLegend0.3480.0010.350
print.FlowSOM4.0460.0094.055
query_multiple8.1060.0208.127