Back to Multiple platform build/check report for BioC 3.22:   simplified   long
ABCDEF[G]HIJKLMNOPQRSTUVWXYZ

This page was generated on 2025-07-28 12:09 -0400 (Mon, 28 Jul 2025).

HostnameOSArch (*)R versionInstalled pkgs
nebbiolo2Linux (Ubuntu 24.04.2 LTS)x86_644.5.1 (2025-06-13) -- "Great Square Root" 4796
palomino8Windows Server 2022 Datacenterx644.5.1 (2025-06-13 ucrt) -- "Great Square Root" 4536
lconwaymacOS 12.7.1 Montereyx86_644.5.1 (2025-06-13) -- "Great Square Root" 4578
kjohnson3macOS 13.7.1 Venturaarm644.5.1 Patched (2025-06-14 r88325) -- "Great Square Root" 4519
taishanLinux (openEuler 24.03 LTS)aarch644.5.0 (2025-04-11) -- "How About a Twenty-Six" 4512
Click on any hostname to see more info about the system (e.g. compilers)      (*) as reported by 'uname -p', except on Windows and Mac OS X

Package 815/2313HostnameOS / ArchINSTALLBUILDCHECKBUILD BIN
GeneStructureTools 1.29.0  (landing page)
Beth Signal
Snapshot Date: 2025-07-27 13:25 -0400 (Sun, 27 Jul 2025)
git_url: https://git.bioconductor.org/packages/GeneStructureTools
git_branch: devel
git_last_commit: 6d9702f
git_last_commit_date: 2025-04-15 11:19:16 -0400 (Tue, 15 Apr 2025)
nebbiolo2Linux (Ubuntu 24.04.2 LTS) / x86_64  OK    OK    OK  UNNEEDED, same version is already published
palomino8Windows Server 2022 Datacenter / x64  OK    OK    OK    OK  UNNEEDED, same version is already published
lconwaymacOS 12.7.1 Monterey / x86_64  OK    OK    OK    OK  UNNEEDED, same version is already published
kjohnson3macOS 13.7.1 Ventura / arm64  OK    OK    OK    OK  UNNEEDED, same version is already published
taishanLinux (openEuler 24.03 LTS) / aarch64  ERROR    ERROR  skipped


CHECK results for GeneStructureTools on lconway

To the developers/maintainers of the GeneStructureTools package:
- Allow up to 24 hours (and sometimes 48 hours) for your latest push to git@git.bioconductor.org:packages/GeneStructureTools.git to reflect on this report. See Troubleshooting Build Report for more information.
- Use the following Renviron settings to reproduce errors and warnings.
- If 'R CMD check' started to fail recently on the Linux builder(s) over a missing dependency, add the missing dependency to 'Suggests:' in your DESCRIPTION file. See Renviron.bioc for more information.

raw results


Summary

Package: GeneStructureTools
Version: 1.29.0
Command: /Library/Frameworks/R.framework/Resources/bin/R CMD check --install=check:GeneStructureTools.install-out.txt --library=/Library/Frameworks/R.framework/Resources/library --no-vignettes --timings GeneStructureTools_1.29.0.tar.gz
StartedAt: 2025-07-27 20:57:23 -0400 (Sun, 27 Jul 2025)
EndedAt: 2025-07-27 21:04:56 -0400 (Sun, 27 Jul 2025)
EllapsedTime: 453.3 seconds
RetCode: 0
Status:   OK  
CheckDir: GeneStructureTools.Rcheck
Warnings: 0

Command output

##############################################################################
##############################################################################
###
### Running command:
###
###   /Library/Frameworks/R.framework/Resources/bin/R CMD check --install=check:GeneStructureTools.install-out.txt --library=/Library/Frameworks/R.framework/Resources/library --no-vignettes --timings GeneStructureTools_1.29.0.tar.gz
###
##############################################################################
##############################################################################


* using log directory ‘/Users/biocbuild/bbs-3.22-bioc/meat/GeneStructureTools.Rcheck’
* using R version 4.5.1 (2025-06-13)
* using platform: x86_64-apple-darwin20
* R was compiled by
    Apple clang version 14.0.0 (clang-1400.0.29.202)
    GNU Fortran (GCC) 14.2.0
* running under: macOS Monterey 12.7.6
* using session charset: UTF-8
* using option ‘--no-vignettes’
* checking for file ‘GeneStructureTools/DESCRIPTION’ ... OK
* checking extension type ... Package
* this is package ‘GeneStructureTools’ version ‘1.29.0’
* package encoding: UTF-8
* checking package namespace information ... OK
* checking package dependencies ... OK
* checking if this is a source package ... OK
* checking if there is a namespace ... OK
* checking for hidden files and directories ... OK
* checking for portable file names ... OK
* checking for sufficient/correct file permissions ... OK
* checking whether package ‘GeneStructureTools’ can be installed ... OK
* checking installed package size ... OK
* checking package directory ... OK
* checking ‘build’ directory ... OK
* checking DESCRIPTION meta-information ... OK
* checking top-level files ... OK
* checking for left-over files ... OK
* checking index information ... OK
* checking package subdirectories ... OK
* checking code files for non-ASCII characters ... OK
* checking R files for syntax errors ... OK
* checking whether the package can be loaded ... OK
* checking whether the package can be loaded with stated dependencies ... OK
* checking whether the package can be unloaded cleanly ... OK
* checking whether the namespace can be loaded with stated dependencies ... OK
* checking whether the namespace can be unloaded cleanly ... OK
* checking dependencies in R code ... OK
* checking S3 generic/method consistency ... OK
* checking replacement functions ... OK
* checking foreign function calls ... OK
* checking R code for possible problems ... OK
* checking Rd files ... OK
* checking Rd metadata ... OK
* checking Rd cross-references ... OK
* checking for missing documentation entries ... OK
* checking for code/documentation mismatches ... OK
* checking Rd \usage sections ... OK
* checking Rd contents ... OK
* checking for unstated dependencies in examples ... OK
* checking files in ‘vignettes’ ... OK
* checking examples ... OK
Examples with CPU (user + system) or elapsed time > 5s
                                    user system elapsed
leafcutterTranscriptChangeSummary 27.398  1.154  28.763
whippetTranscriptChangeSummary    14.607  0.261  15.053
* checking for unstated dependencies in vignettes ... OK
* checking package vignettes ... OK
* checking running R code from vignettes ... SKIPPED
* checking re-building of vignette outputs ... SKIPPED
* checking PDF version of manual ... OK
* DONE

Status: OK


Installation output

GeneStructureTools.Rcheck/00install.out

##############################################################################
##############################################################################
###
### Running command:
###
###   /Library/Frameworks/R.framework/Resources/bin/R CMD INSTALL GeneStructureTools
###
##############################################################################
##############################################################################


* installing to library ‘/Library/Frameworks/R.framework/Versions/4.5-x86_64/Resources/library’
* installing *source* package ‘GeneStructureTools’ ...
** this is package ‘GeneStructureTools’ version ‘1.29.0’
** using staged installation
** R
** inst
** byte-compile and prepare package for lazy loading
** help
*** installing help indices
** building package indices
** installing vignettes
** testing if installed package can be loaded from temporary location
** testing if installed package can be loaded from final location
** testing if installed package keeps a record of temporary installation path
* DONE (GeneStructureTools)

Tests output


Example timings

GeneStructureTools.Rcheck/GeneStructureTools-Ex.timings

nameusersystemelapsed
DEXSeqIdsToGeneIds0.0020.0010.004
UTR2UTR532.5870.0842.691
addBroadTypes0.1820.0050.187
addIntronInTranscript2.0390.0972.259
alternativeIntronUsage4.7120.0334.767
annotateGeneModel1.0220.0161.045
attrChangeAltSpliced1.3530.0921.552
coordinates-methods0.0720.0770.266
diffSplicingResults-methods0.0740.0720.242
exonsToTranscripts0.3040.0070.312
filterGtfOverlap0.3010.0080.313
filterWhippetEvents0.0940.0870.344
findDEXexonType2.9880.0323.043
findExonContainingTranscripts0.5000.0760.692
findIntronContainingTranscripts0.7250.0820.917
findJunctionPairs1.5170.0811.704
formatWhippetEvents0.0190.0080.040
getOrfs0.8160.0150.835
getUOrfs0.6050.0120.619
junctions-methods0.0790.0690.272
leafcutterTranscriptChangeSummary27.398 1.15428.763
makeGeneModel0.1970.0060.206
maxLocation0.0030.0010.005
orfDiff1.8590.1182.134
orfSimilarity0.0000.0000.001
overlapTypes2.4830.0252.528
readCounts-methods0.0720.0780.295
readWhippetDIFFfiles0.0070.0110.030
readWhippetDataSet0.0730.0720.270
readWhippetJNCfiles0.0370.0350.129
readWhippetPSIfiles0.0200.0330.124
removeDuplicateTranscripts0.2980.0060.304
removeSameExon0.2750.0060.283
removeVersion0.0000.0000.001
reorderExonNumbers0.2130.0080.224
replaceJunction4.5800.1104.838
skipExonInTranscript1.5640.0801.761
summariseExonTypes2.9060.0222.943
transcriptChangeSummary1.8680.1052.099
whippetTranscriptChangeSummary14.607 0.26115.053