Back to Multiple platform build/check report for BioC 3.23:   simplified   long
ABCDEFGH[I]JKLMNOPQRSTUVWXYZ

This page was generated on 2025-11-18 11:40 -0500 (Tue, 18 Nov 2025).

HostnameOSArch (*)R versionInstalled pkgs
nebbiolo1Linux (Ubuntu 24.04.3 LTS)x86_64R Under development (unstable) (2025-10-20 r88955) -- "Unsuffered Consequences" 4826
lconwaymacOS 12.7.6 Montereyx86_64R Under development (unstable) (2025-10-21 r88958) -- "Unsuffered Consequences" 4561
kjohnson3macOS 13.7.7 Venturaarm64R Under development (unstable) (2025-11-04 r88984) -- "Unsuffered Consequences" 4562
Click on any hostname to see more info about the system (e.g. compilers)      (*) as reported by 'uname -p', except on Windows and Mac OS X

Package 1064/2325HostnameOS / ArchINSTALLBUILDCHECKBUILD BIN
ISAnalytics 1.21.0  (landing page)
Francesco Gazzo
Snapshot Date: 2025-11-17 13:40 -0500 (Mon, 17 Nov 2025)
git_url: https://git.bioconductor.org/packages/ISAnalytics
git_branch: devel
git_last_commit: e37fd79
git_last_commit_date: 2025-10-29 11:01:52 -0500 (Wed, 29 Oct 2025)
nebbiolo1Linux (Ubuntu 24.04.3 LTS) / x86_64  OK    OK    OK  UNNEEDED, same version is already published
lconwaymacOS 12.7.6 Monterey / x86_64  OK    OK    OK    OK  UNNEEDED, same version is already published
kjohnson3macOS 13.7.7 Ventura / arm64  OK    OK    OK    OK  UNNEEDED, same version is already published


CHECK results for ISAnalytics on kjohnson3

To the developers/maintainers of the ISAnalytics package:
- Allow up to 24 hours (and sometimes 48 hours) for your latest push to git@git.bioconductor.org:packages/ISAnalytics.git to reflect on this report. See Troubleshooting Build Report for more information.
- Use the following Renviron settings to reproduce errors and warnings.
- If 'R CMD check' started to fail recently on the Linux builder(s) over a missing dependency, add the missing dependency to 'Suggests:' in your DESCRIPTION file. See Renviron.bioc for more information.

raw results


Summary

Package: ISAnalytics
Version: 1.21.0
Command: /Library/Frameworks/R.framework/Resources/bin/R CMD check --install=check:ISAnalytics.install-out.txt --library=/Library/Frameworks/R.framework/Resources/library --no-vignettes --timings ISAnalytics_1.21.0.tar.gz
StartedAt: 2025-11-17 21:30:04 -0500 (Mon, 17 Nov 2025)
EndedAt: 2025-11-17 21:34:12 -0500 (Mon, 17 Nov 2025)
EllapsedTime: 248.1 seconds
RetCode: 0
Status:   OK  
CheckDir: ISAnalytics.Rcheck
Warnings: 0

Command output

##############################################################################
##############################################################################
###
### Running command:
###
###   /Library/Frameworks/R.framework/Resources/bin/R CMD check --install=check:ISAnalytics.install-out.txt --library=/Library/Frameworks/R.framework/Resources/library --no-vignettes --timings ISAnalytics_1.21.0.tar.gz
###
##############################################################################
##############################################################################


* using log directory ‘/Users/biocbuild/bbs-3.23-bioc/meat/ISAnalytics.Rcheck’
* using R Under development (unstable) (2025-11-04 r88984)
* using platform: aarch64-apple-darwin20
* R was compiled by
    Apple clang version 16.0.0 (clang-1600.0.26.6)
    GNU Fortran (GCC) 14.2.0
* running under: macOS Ventura 13.7.8
* using session charset: UTF-8
* using option ‘--no-vignettes’
* checking for file ‘ISAnalytics/DESCRIPTION’ ... OK
* this is package ‘ISAnalytics’ version ‘1.21.0’
* package encoding: UTF-8
* checking package namespace information ... OK
* checking package dependencies ... INFO
Imports includes 22 non-default packages.
Importing from so many packages makes the package vulnerable to any of
them becoming unavailable.  Move as many as possible to Suggests and
use conditionally.
* checking if this is a source package ... OK
* checking if there is a namespace ... OK
* checking for hidden files and directories ... OK
* checking for portable file names ... OK
* checking for sufficient/correct file permissions ... OK
* checking whether package ‘ISAnalytics’ can be installed ... OK
* checking installed package size ... INFO
  installed size is  8.3Mb
  sub-directories of 1Mb or more:
    data   5.8Mb
* checking package directory ... OK
* checking ‘build’ directory ... OK
* checking DESCRIPTION meta-information ... OK
* checking top-level files ... OK
* checking for left-over files ... OK
* checking index information ... OK
* checking package subdirectories ... OK
* checking code files for non-ASCII characters ... OK
* checking R files for syntax errors ... OK
* checking whether the package can be loaded ... OK
* checking whether the package can be loaded with stated dependencies ... OK
* checking whether the package can be unloaded cleanly ... OK
* checking whether the namespace can be loaded with stated dependencies ... OK
* checking whether the namespace can be unloaded cleanly ... OK
* checking whether startup messages can be suppressed ... OK
* checking dependencies in R code ... OK
* checking S3 generic/method consistency ... OK
* checking replacement functions ... OK
* checking foreign function calls ... OK
* checking R code for possible problems ... OK
* checking Rd files ... NOTE
checkRd: (-1) refGenes_hg19.Rd:21: Lost braces; missing escapes or markup?
    21 | \item Download from {http://hgdownload.soe.ucsc.edu/goldenPath/hg19/database/}
       |                     ^
* checking Rd metadata ... OK
* checking Rd cross-references ... OK
* checking for missing documentation entries ... OK
* checking for code/documentation mismatches ... OK
* checking Rd \usage sections ... OK
* checking Rd contents ... OK
* checking for unstated dependencies in examples ... OK
* checking contents of ‘data’ directory ... OK
* checking data for non-ASCII characters ... OK
* checking data for ASCII and uncompressed saves ... OK
* checking files in ‘vignettes’ ... OK
* checking examples ... OK
Examples with CPU (user + system) or elapsed time > 5s
                                user system elapsed
import_parallel_Vispa2Matrices 1.158  0.128   7.224
sharing_venn                   1.085  0.076  12.761
* checking for unstated dependencies in ‘tests’ ... OK
* checking tests ...
  Running ‘testthat.R’
 OK
* checking for unstated dependencies in vignettes ... OK
* checking package vignettes ... OK
* checking running R code from vignettes ... SKIPPED
* checking re-building of vignette outputs ... SKIPPED
* checking PDF version of manual ... OK
* DONE

Status: 1 NOTE
See
  ‘/Users/biocbuild/bbs-3.23-bioc/meat/ISAnalytics.Rcheck/00check.log’
for details.


Installation output

ISAnalytics.Rcheck/00install.out

##############################################################################
##############################################################################
###
### Running command:
###
###   /Library/Frameworks/R.framework/Resources/bin/R CMD INSTALL ISAnalytics
###
##############################################################################
##############################################################################


* installing to library ‘/Library/Frameworks/R.framework/Versions/4.6-arm64/Resources/library’
* installing *source* package ‘ISAnalytics’ ...
** this is package ‘ISAnalytics’ version ‘1.21.0’
** using staged installation
** R
** data
** inst
** byte-compile and prepare package for lazy loading
** help
*** installing help indices
*** copying figures
** building package indices
** installing vignettes
** testing if installed package can be loaded from temporary location
** testing if installed package can be loaded from final location
** testing if installed package keeps a record of temporary installation path
* DONE (ISAnalytics)

Tests output

ISAnalytics.Rcheck/tests/testthat.Rout


R Under development (unstable) (2025-11-04 r88984) -- "Unsuffered Consequences"
Copyright (C) 2025 The R Foundation for Statistical Computing
Platform: aarch64-apple-darwin20

R is free software and comes with ABSOLUTELY NO WARRANTY.
You are welcome to redistribute it under certain conditions.
Type 'license()' or 'licence()' for distribution details.

R is a collaborative project with many contributors.
Type 'contributors()' for more information and
'citation()' on how to cite R or R packages in publications.

Type 'demo()' for some demos, 'help()' for on-line help, or
'help.start()' for an HTML browser interface to help.
Type 'q()' to quit R.

> library(testthat)
> library(ISAnalytics)
> 
> test_check("ISAnalytics")
Loading required namespace: plotly
Loading required namespace: rmarkdown
2025-11-17 21:32:19.356 R[99417:62490834] XType: Using static font registry.
Report correctly saved
i Report saved to: /var/folders/r0/l4fjk6cj5xj0j3brt4bplpl40000gt/T/RtmpaHV7z6/file184592519a1eb/2025-11-17_collision_removal_report.html
Report correctly saved
i Report saved to: /var/folders/r0/l4fjk6cj5xj0j3brt4bplpl40000gt/T/RtmpaHV7z6/file1845959e648db/2025-11-17_outlier_test_pool_fragments_report.html
[ FAIL 0 | WARN 0 | SKIP 0 | PASS 834 ]
> 
> proc.time()
   user  system elapsed 
 36.361   2.268 137.194 

Example timings

ISAnalytics.Rcheck/ISAnalytics-Ex.timings

nameusersystemelapsed
CIS_grubbs0.3410.0110.356
CIS_grubbs_overtime0.7710.0853.310
CIS_volcano_plot0.5390.0110.586
HSC_population_plot0.4920.0162.960
HSC_population_size_estimate0.3670.0112.721
NGSdataExplorer000
aggregate_metadata0.0390.0000.040
aggregate_values_by_key0.0250.0010.026
annotation_issues0.0100.0010.010
as_sparse_matrix0.0170.0020.018
available_outlier_tests000
available_tags0.0080.0000.008
blood_lineages_default0.0110.0000.011
circos_genomic_density000
clinical_relevant_suspicious_genes0.0040.0000.004
comparison_matrix0.0090.0000.011
compute_abundance0.0130.0010.014
compute_near_integrations0.4150.0204.488
cumulative_count_union000
cumulative_is0.0530.0010.063
date_formats000
default_af_transform0.0000.0000.001
default_iss_file_prefixes000
default_meta_agg0.0060.0010.006
default_rec_agg_lambdas000
default_report_path0.0030.0010.004
default_stats0.4790.0130.505
enable_progress_bars0.0060.0010.006
export_ISA_settings0.0220.0020.025
fisher_scatterplot0.3900.0140.414
gene_frequency_fisher0.3010.0040.333
generate_Vispa2_launch_AF0.0940.0140.113
generate_blank_association_file0.0050.0000.006
generate_default_folder_structure0.1310.0730.167
import_ISA_settings0.0200.0020.023
import_Vispa2_stats0.6840.0963.561
import_association_file0.2070.0810.261
import_parallel_Vispa2Matrices1.1580.1287.224
import_single_Vispa2Matrix0.370.070.41
inspect_tags0.0050.0000.005
integration_alluvial_plot1.2820.0464.367
is_sharing0.6430.0264.058
iss_source0.6000.0164.374
known_clinical_oncogenes0.0040.0010.004
mandatory_IS_vars0.0270.0030.029
matching_options000
outlier_filter0.0480.0040.059
outliers_by_pool_fragments0.0470.0060.055
pcr_id_column0.0060.0000.006
purity_filter0.1050.0020.118
quantification_types0.0000.0000.001
realign_after_collisions0.5710.0213.237
reduced_AF_columns0.0130.0000.014
refGene_table_cols0.0000.0000.001
remove_collisions0.5140.0113.202
reset_mandatory_IS_vars0.0010.0000.001
sample_statistics0.1020.0180.131
separate_quant_matrices0.0060.0000.007
set_mandatory_IS_vars0.0270.0030.030
set_matrix_file_suffixes0.0060.0010.006
sharing_heatmap0.8070.0334.550
sharing_venn 1.085 0.07612.761
threshold_filter0.0000.0010.001
top_abund_tableGrob0.2050.0020.232
top_cis_overtime_heatmap0.7980.0434.434
top_integrations0.0090.0010.015
top_targeted_genes0.1300.0150.162
transform_columns0.0060.0010.007