| Back to Build/check report for BioC 3.23: simplified long |
|
This page was generated on 2025-11-10 11:32 -0500 (Mon, 10 Nov 2025).
| Hostname | OS | Arch (*) | R version | Installed pkgs |
|---|---|---|---|---|
| nebbiolo1 | Linux (Ubuntu 24.04.3 LTS) | x86_64 | R Under development (unstable) (2025-10-20 r88955) -- "Unsuffered Consequences" | 4821 |
| Click on any hostname to see more info about the system (e.g. compilers) (*) as reported by 'uname -p', except on Windows and Mac OS X | ||||
| Package 1064/2323 | Hostname | OS / Arch | INSTALL | BUILD | CHECK | BUILD BIN | ||||||||
| ISAnalytics 1.21.0 (landing page) Francesco Gazzo
| nebbiolo1 | Linux (Ubuntu 24.04.3 LTS) / x86_64 | OK | OK | OK | |||||||||
|
To the developers/maintainers of the ISAnalytics package: - Allow up to 24 hours (and sometimes 48 hours) for your latest push to git@git.bioconductor.org:packages/ISAnalytics.git to reflect on this report. See Troubleshooting Build Report for more information. - Use the following Renviron settings to reproduce errors and warnings. - If 'R CMD check' started to fail recently on the Linux builder(s) over a missing dependency, add the missing dependency to 'Suggests:' in your DESCRIPTION file. See Renviron.bioc for more information. |
| Package: ISAnalytics |
| Version: 1.21.0 |
| Command: /home/biocbuild/bbs-3.23-bioc/R/bin/R CMD check --install=check:ISAnalytics.install-out.txt --library=/home/biocbuild/bbs-3.23-bioc/R/site-library --timings ISAnalytics_1.21.0.tar.gz |
| StartedAt: 2025-11-10 00:32:39 -0500 (Mon, 10 Nov 2025) |
| EndedAt: 2025-11-10 00:42:55 -0500 (Mon, 10 Nov 2025) |
| EllapsedTime: 615.9 seconds |
| RetCode: 0 |
| Status: OK |
| CheckDir: ISAnalytics.Rcheck |
| Warnings: 0 |
##############################################################################
##############################################################################
###
### Running command:
###
### /home/biocbuild/bbs-3.23-bioc/R/bin/R CMD check --install=check:ISAnalytics.install-out.txt --library=/home/biocbuild/bbs-3.23-bioc/R/site-library --timings ISAnalytics_1.21.0.tar.gz
###
##############################################################################
##############################################################################
* using log directory ‘/home/biocbuild/bbs-3.23-bioc/meat/ISAnalytics.Rcheck’
* using R Under development (unstable) (2025-10-20 r88955)
* using platform: x86_64-pc-linux-gnu
* R was compiled by
gcc (Ubuntu 13.3.0-6ubuntu2~24.04) 13.3.0
GNU Fortran (Ubuntu 13.3.0-6ubuntu2~24.04) 13.3.0
* running under: Ubuntu 24.04.3 LTS
* using session charset: UTF-8
* checking for file ‘ISAnalytics/DESCRIPTION’ ... OK
* this is package ‘ISAnalytics’ version ‘1.21.0’
* package encoding: UTF-8
* checking package namespace information ... OK
* checking package dependencies ... INFO
Imports includes 22 non-default packages.
Importing from so many packages makes the package vulnerable to any of
them becoming unavailable. Move as many as possible to Suggests and
use conditionally.
* checking if this is a source package ... OK
* checking if there is a namespace ... OK
* checking for hidden files and directories ... OK
* checking for portable file names ... OK
* checking for sufficient/correct file permissions ... OK
* checking whether package ‘ISAnalytics’ can be installed ... OK
* checking installed package size ... INFO
installed size is 8.3Mb
sub-directories of 1Mb or more:
data 5.9Mb
* checking package directory ... OK
* checking ‘build’ directory ... OK
* checking DESCRIPTION meta-information ... OK
* checking top-level files ... OK
* checking for left-over files ... OK
* checking index information ... OK
* checking package subdirectories ... OK
* checking code files for non-ASCII characters ... OK
* checking R files for syntax errors ... OK
* checking whether the package can be loaded ... OK
* checking whether the package can be loaded with stated dependencies ... OK
* checking whether the package can be unloaded cleanly ... OK
* checking whether the namespace can be loaded with stated dependencies ... OK
* checking whether the namespace can be unloaded cleanly ... OK
* checking loading without being on the library search path ... OK
* checking whether startup messages can be suppressed ... OK
* checking dependencies in R code ... OK
* checking S3 generic/method consistency ... OK
* checking replacement functions ... OK
* checking foreign function calls ... OK
* checking R code for possible problems ... OK
* checking Rd files ... NOTE
checkRd: (-1) refGenes_hg19.Rd:21: Lost braces; missing escapes or markup?
21 | \item Download from {http://hgdownload.soe.ucsc.edu/goldenPath/hg19/database/}
| ^
* checking Rd metadata ... OK
* checking Rd cross-references ... OK
* checking for missing documentation entries ... OK
* checking for code/documentation mismatches ... OK
* checking Rd \usage sections ... OK
* checking Rd contents ... OK
* checking for unstated dependencies in examples ... OK
* checking contents of ‘data’ directory ... OK
* checking data for non-ASCII characters ... OK
* checking data for ASCII and uncompressed saves ... OK
* checking files in ‘vignettes’ ... OK
* checking examples ... OK
Examples with CPU (user + system) or elapsed time > 5s
user system elapsed
sharing_venn 4.132 0.511 31.258
integration_alluvial_plot 3.584 0.425 10.932
import_parallel_Vispa2Matrices 2.917 0.475 16.945
sharing_heatmap 2.139 0.219 10.671
top_cis_overtime_heatmap 1.866 0.141 8.395
CIS_grubbs_overtime 1.892 0.110 7.347
import_Vispa2_stats 1.712 0.166 7.471
iss_source 1.553 0.087 8.316
HSC_population_plot 1.373 0.161 6.486
is_sharing 1.388 0.126 9.072
realign_after_collisions 1.243 0.087 6.930
remove_collisions 1.113 0.048 7.042
compute_near_integrations 0.945 0.080 6.348
HSC_population_size_estimate 0.890 0.073 6.136
* checking for unstated dependencies in ‘tests’ ... OK
* checking tests ...
Running ‘testthat.R’
OK
* checking for unstated dependencies in vignettes ... OK
* checking package vignettes ... OK
* checking re-building of vignette outputs ... OK
* checking PDF version of manual ... OK
* DONE
Status: 1 NOTE
See
‘/home/biocbuild/bbs-3.23-bioc/meat/ISAnalytics.Rcheck/00check.log’
for details.
ISAnalytics.Rcheck/00install.out
############################################################################## ############################################################################## ### ### Running command: ### ### /home/biocbuild/bbs-3.23-bioc/R/bin/R CMD INSTALL ISAnalytics ### ############################################################################## ############################################################################## * installing to library ‘/home/biocbuild/bbs-3.23-bioc/R/site-library’ * installing *source* package ‘ISAnalytics’ ... ** this is package ‘ISAnalytics’ version ‘1.21.0’ ** using staged installation ** R ** data ** inst ** byte-compile and prepare package for lazy loading ** help *** installing help indices *** copying figures ** building package indices ** installing vignettes ** testing if installed package can be loaded from temporary location ** testing if installed package can be loaded from final location ** testing if installed package keeps a record of temporary installation path * DONE (ISAnalytics)
ISAnalytics.Rcheck/tests/testthat.Rout
R Under development (unstable) (2025-10-20 r88955) -- "Unsuffered Consequences"
Copyright (C) 2025 The R Foundation for Statistical Computing
Platform: x86_64-pc-linux-gnu
R is free software and comes with ABSOLUTELY NO WARRANTY.
You are welcome to redistribute it under certain conditions.
Type 'license()' or 'licence()' for distribution details.
R is a collaborative project with many contributors.
Type 'contributors()' for more information and
'citation()' on how to cite R or R packages in publications.
Type 'demo()' for some demos, 'help()' for on-line help, or
'help.start()' for an HTML browser interface to help.
Type 'q()' to quit R.
> library(testthat)
> library(ISAnalytics)
>
> test_check("ISAnalytics")
Loading required namespace: plotly
Loading required namespace: rmarkdown
Report correctly saved
i Report saved to: /tmp/RtmpIlc7QA/file1064233ac3eda7/2025-11-10_collision_removal_report.html
Report correctly saved
i Report saved to: /tmp/RtmpIlc7QA/file10642312c6073/2025-11-10_outlier_test_pool_fragments_report.html
[ FAIL 0 | WARN 0 | SKIP 0 | PASS 834 ]
>
> proc.time()
user system elapsed
103.599 6.875 291.030
ISAnalytics.Rcheck/ISAnalytics-Ex.timings
| name | user | system | elapsed | |
| CIS_grubbs | 0.786 | 0.025 | 0.812 | |
| CIS_grubbs_overtime | 1.892 | 0.110 | 7.347 | |
| CIS_volcano_plot | 1.524 | 0.173 | 1.697 | |
| HSC_population_plot | 1.373 | 0.161 | 6.486 | |
| HSC_population_size_estimate | 0.890 | 0.073 | 6.136 | |
| NGSdataExplorer | 0 | 0 | 0 | |
| aggregate_metadata | 0.106 | 0.001 | 0.106 | |
| aggregate_values_by_key | 0.066 | 0.001 | 0.066 | |
| annotation_issues | 0.029 | 0.000 | 0.029 | |
| as_sparse_matrix | 0.054 | 0.001 | 0.055 | |
| available_outlier_tests | 0 | 0 | 0 | |
| available_tags | 0.023 | 0.000 | 0.024 | |
| blood_lineages_default | 0.03 | 0.00 | 0.03 | |
| circos_genomic_density | 0 | 0 | 0 | |
| clinical_relevant_suspicious_genes | 0.011 | 0.001 | 0.012 | |
| comparison_matrix | 0.027 | 0.000 | 0.027 | |
| compute_abundance | 0.035 | 0.001 | 0.036 | |
| compute_near_integrations | 0.945 | 0.080 | 6.348 | |
| cumulative_count_union | 0 | 0 | 0 | |
| cumulative_is | 0.149 | 0.000 | 0.148 | |
| date_formats | 0.001 | 0.000 | 0.000 | |
| default_af_transform | 0 | 0 | 0 | |
| default_iss_file_prefixes | 0 | 0 | 0 | |
| default_meta_agg | 0.016 | 0.000 | 0.016 | |
| default_rec_agg_lambdas | 0.001 | 0.000 | 0.000 | |
| default_report_path | 0.007 | 0.001 | 0.007 | |
| default_stats | 1.086 | 0.015 | 1.103 | |
| enable_progress_bars | 0.015 | 0.000 | 0.014 | |
| export_ISA_settings | 0.061 | 0.009 | 0.070 | |
| fisher_scatterplot | 1.063 | 0.069 | 1.132 | |
| gene_frequency_fisher | 0.861 | 0.026 | 0.888 | |
| generate_Vispa2_launch_AF | 0.179 | 0.037 | 0.216 | |
| generate_blank_association_file | 0.012 | 0.000 | 0.013 | |
| generate_default_folder_structure | 0.368 | 0.072 | 0.413 | |
| import_ISA_settings | 0.057 | 0.001 | 0.058 | |
| import_Vispa2_stats | 1.712 | 0.166 | 7.471 | |
| import_association_file | 0.539 | 0.133 | 0.634 | |
| import_parallel_Vispa2Matrices | 2.917 | 0.475 | 16.945 | |
| import_single_Vispa2Matrix | 1.012 | 0.126 | 1.105 | |
| inspect_tags | 0.013 | 0.001 | 0.014 | |
| integration_alluvial_plot | 3.584 | 0.425 | 10.932 | |
| is_sharing | 1.388 | 0.126 | 9.072 | |
| iss_source | 1.553 | 0.087 | 8.316 | |
| known_clinical_oncogenes | 0.011 | 0.000 | 0.011 | |
| mandatory_IS_vars | 0.087 | 0.003 | 0.090 | |
| matching_options | 0.001 | 0.000 | 0.001 | |
| outlier_filter | 0.137 | 0.014 | 0.151 | |
| outliers_by_pool_fragments | 0.151 | 0.013 | 0.163 | |
| pcr_id_column | 0.020 | 0.000 | 0.019 | |
| purity_filter | 0.312 | 0.028 | 0.340 | |
| quantification_types | 0 | 0 | 0 | |
| realign_after_collisions | 1.243 | 0.087 | 6.930 | |
| reduced_AF_columns | 0.039 | 0.001 | 0.040 | |
| refGene_table_cols | 0.001 | 0.000 | 0.001 | |
| remove_collisions | 1.113 | 0.048 | 7.042 | |
| reset_mandatory_IS_vars | 0.004 | 0.001 | 0.005 | |
| sample_statistics | 0.281 | 0.049 | 0.330 | |
| separate_quant_matrices | 0.015 | 0.001 | 0.016 | |
| set_mandatory_IS_vars | 0.082 | 0.007 | 0.089 | |
| set_matrix_file_suffixes | 0.019 | 0.001 | 0.019 | |
| sharing_heatmap | 2.139 | 0.219 | 10.671 | |
| sharing_venn | 4.132 | 0.511 | 31.258 | |
| threshold_filter | 0.001 | 0.000 | 0.001 | |
| top_abund_tableGrob | 0.554 | 0.004 | 0.558 | |
| top_cis_overtime_heatmap | 1.866 | 0.141 | 8.395 | |
| top_integrations | 0.027 | 0.001 | 0.029 | |
| top_targeted_genes | 0.445 | 0.024 | 0.471 | |
| transform_columns | 0.020 | 0.000 | 0.021 | |