Back to Multiple platform build/check report for BioC 3.22:   simplified   long
ABCDEFGHIJKL[M]NOPQRSTUVWXYZ

This page was generated on 2025-10-11 12:02 -0400 (Sat, 11 Oct 2025).

HostnameOSArch (*)R versionInstalled pkgs
nebbiolo2Linux (Ubuntu 24.04.3 LTS)x86_644.5.1 Patched (2025-08-23 r88802) -- "Great Square Root" 4864
lconwaymacOS 12.7.1 Montereyx86_644.5.1 Patched (2025-09-10 r88807) -- "Great Square Root" 4652
kjohnson3macOS 13.7.7 Venturaarm644.5.1 Patched (2025-09-10 r88807) -- "Great Square Root" 4597
taishanLinux (openEuler 24.03 LTS)aarch644.5.0 (2025-04-11) -- "How About a Twenty-Six" 4586
Click on any hostname to see more info about the system (e.g. compilers)      (*) as reported by 'uname -p', except on Windows and Mac OS X

All results for package MatrixGenerics


To the developers/maintainers of the MatrixGenerics package:
- Allow up to 24 hours (and sometimes 48 hours) for your latest push to git@git.bioconductor.org:packages/MatrixGenerics.git to reflect on this report. See Troubleshooting Build Report for more information.
- Use the following Renviron settings to reproduce errors and warnings.
- If 'R CMD check' started to fail recently on the Linux builder(s) over a missing dependency, add the missing dependency to 'Suggests:' in your DESCRIPTION file. See Renviron.bioc for more information.

raw results

Package 1194/2346HostnameOS / ArchINSTALLBUILDCHECKBUILD BIN
MatrixGenerics 1.21.0  (landing page)
Peter Hickey
Snapshot Date: 2025-10-10 13:45 -0400 (Fri, 10 Oct 2025)
git_url: https://git.bioconductor.org/packages/MatrixGenerics
git_branch: devel
git_last_commit: 2a70895
git_last_commit_date: 2025-04-15 11:56:42 -0400 (Tue, 15 Apr 2025)
nebbiolo2Linux (Ubuntu 24.04.3 LTS) / x86_64  OK    OK    OK  UNNEEDED, same version is already published
lconwaymacOS 12.7.1 Monterey / x86_64  OK    OK    OK    OK  UNNEEDED, same version is already published
kjohnson3macOS 13.7.7 Ventura / arm64  OK    OK    OK    OK  UNNEEDED, same version is already published
taishanLinux (openEuler 24.03 LTS) / aarch64  OK    OK    OK  



Results for Bioconductor software packages that depend directly on package MatrixGenerics

QUICK STATSOS / ArchINSTALLBUILDCHECKBUILD BIN
nebbiolo2Linux (Ubuntu 24.04.3 LTS) / x86_64
0055
0055
110935
lconwaymacOS 12.7.1 Monterey / x86_64
0055
0253
141038
0053
kjohnson3macOS 13.7.7 Ventura / arm64
0055
0352
071035
0052
taishanLinux (openEuler 24.03 LTS) / aarch64
0352
1648
361029
Package 1/55HostnameOS / ArchINSTALLBUILDCHECKBUILD BIN
atena 1.15.2  (landing page)
Robert Castelo
git_last_commit: 840a7ff
git_last_commit_date: 2025-07-31 17:36:14 -0400
nebbiolo2Linux (Ubuntu 24.04.3 LTS) / x86_64  OK    OK    OK  UNNEEDED, same version is already published
lconwaymacOS 12.7.1 Monterey / x86_64  OK    OK    OK    OK  UNNEEDED, same version is already published
kjohnson3macOS 13.7.7 Ventura / arm64  OK    OK    OK    OK  UNNEEDED, same version is already published
taishanLinux (openEuler 24.03 LTS) / aarch64  OK    OK    OK  
Package 2/55HostnameOS / ArchINSTALLBUILDCHECKBUILD BIN
Banksy 1.5.8  (landing page)
Joseph Lee
git_last_commit: 098ad3f
git_last_commit_date: 2025-07-24 11:48:52 -0400
nebbiolo2Linux (Ubuntu 24.04.3 LTS) / x86_64  OK    OK    ERROR  
lconwaymacOS 12.7.1 Monterey / x86_64  OK    OK    OK    OK  UNNEEDED, same version is already published
kjohnson3macOS 13.7.7 Ventura / arm64  OK    OK    OK    OK  UNNEEDED, same version is already published
taishanLinux (openEuler 24.03 LTS) / aarch64  OK    OK    ERROR  
Package 3/55HostnameOS / ArchINSTALLBUILDCHECKBUILD BIN
blase 0.99.3  (landing page)
Andrew McCluskey
git_last_commit: 59f88c1
git_last_commit_date: 2025-10-01 12:07:26 -0400
nebbiolo2Linux (Ubuntu 24.04.3 LTS) / x86_64  OK    OK    ERROR  
lconwaymacOS 12.7.1 Monterey / x86_64  OK    OK    OK    OK  UNNEEDED, same version is already published
kjohnson3macOS 13.7.7 Ventura / arm64  OK    OK    OK    OK  UNNEEDED, same version is already published
taishanLinux (openEuler 24.03 LTS) / aarch64  OK    OK    OK  
Package 4/55HostnameOS / ArchINSTALLBUILDCHECKBUILD BIN
CoreGx 2.13.0  (landing page)
Benjamin Haibe-Kains
git_last_commit: 805cab4
git_last_commit_date: 2025-04-15 11:58:31 -0400
nebbiolo2Linux (Ubuntu 24.04.3 LTS) / x86_64  OK    OK    OK  UNNEEDED, same version is already published
lconwaymacOS 12.7.1 Monterey / x86_64  OK    OK    OK    OK  UNNEEDED, same version is already published
kjohnson3macOS 13.7.7 Ventura / arm64  OK    OK    OK    OK  UNNEEDED, same version is already published
taishanLinux (openEuler 24.03 LTS) / aarch64  OK    OK    OK  
Package 5/55HostnameOS / ArchINSTALLBUILDCHECKBUILD BIN
crisprDesign 1.11.1  (landing page)
Jean-Philippe Fortin
git_last_commit: eb7b7de
git_last_commit_date: 2025-07-17 20:07:40 -0400
nebbiolo2Linux (Ubuntu 24.04.3 LTS) / x86_64  OK    OK    OK  UNNEEDED, same version is already published
lconwaymacOS 12.7.1 Monterey / x86_64  OK    OK    OK    OK  UNNEEDED, same version is already published
kjohnson3macOS 13.7.7 Ventura / arm64  OK    OK    OK    OK  UNNEEDED, same version is already published
taishanLinux (openEuler 24.03 LTS) / aarch64  OK    OK    ERROR  
Package 6/55HostnameOS / ArchINSTALLBUILDCHECKBUILD BIN
CTexploreR 1.5.0  (landing page)
Axelle Loriot
git_last_commit: f680c7a
git_last_commit_date: 2025-04-15 13:25:33 -0400
nebbiolo2Linux (Ubuntu 24.04.3 LTS) / x86_64  OK    OK    TIMEOUT  
lconwaymacOS 12.7.1 Monterey / x86_64  OK    OK    OK    OK  UNNEEDED, same version is already published
kjohnson3macOS 13.7.7 Ventura / arm64  OK    OK    OK    OK  UNNEEDED, same version is already published
taishanLinux (openEuler 24.03 LTS) / aarch64  OK    OK    TIMEOUT  
Package 7/55HostnameOS / ArchINSTALLBUILDCHECKBUILD BIN
DeconvoBuddies 1.1.5  (landing page)
Louise Huuki-Myers
git_last_commit: d128d49
git_last_commit_date: 2025-07-28 15:17:06 -0400
nebbiolo2Linux (Ubuntu 24.04.3 LTS) / x86_64  OK    OK    OK  UNNEEDED, same version is already published
lconwaymacOS 12.7.1 Monterey / x86_64  OK    OK    OK    OK  UNNEEDED, same version is already published
kjohnson3macOS 13.7.7 Ventura / arm64  OK    OK    OK    OK  UNNEEDED, same version is already published
taishanLinux (openEuler 24.03 LTS) / aarch64  OK    OK    TIMEOUT  
Package 8/55HostnameOS / ArchINSTALLBUILDCHECKBUILD BIN
DelayedArray 0.35.3  (landing page)
Hervé Pagès
git_last_commit: e036835
git_last_commit_date: 2025-09-13 01:00:33 -0400
nebbiolo2Linux (Ubuntu 24.04.3 LTS) / x86_64  OK    OK    WARNINGS  UNNEEDED, same version is already published
lconwaymacOS 12.7.1 Monterey / x86_64  OK    OK    WARNINGS    OK  UNNEEDED, same version is already published
kjohnson3macOS 13.7.7 Ventura / arm64  OK    OK    WARNINGS    OK  UNNEEDED, same version is already published
taishanLinux (openEuler 24.03 LTS) / aarch64  OK    OK    WARNINGS  
Package 9/55HostnameOS / ArchINSTALLBUILDCHECKBUILD BIN
DelayedMatrixStats 1.31.0  (landing page)
Peter Hickey
git_last_commit: 70bb294
git_last_commit_date: 2025-04-15 11:15:25 -0400
nebbiolo2Linux (Ubuntu 24.04.3 LTS) / x86_64  OK    OK    OK  UNNEEDED, same version is already published
lconwaymacOS 12.7.1 Monterey / x86_64  OK    OK    OK    OK  UNNEEDED, same version is already published
kjohnson3macOS 13.7.7 Ventura / arm64  OK    OK    OK    OK  UNNEEDED, same version is already published
taishanLinux (openEuler 24.03 LTS) / aarch64  OK    OK    OK  
Package 10/55HostnameOS / ArchINSTALLBUILDCHECKBUILD BIN
demuxSNP 1.7.1  (landing page)
Michael Lynch
git_last_commit: f1693e2
git_last_commit_date: 2025-07-24 19:19:11 -0400
nebbiolo2Linux (Ubuntu 24.04.3 LTS) / x86_64  OK    OK    OK  UNNEEDED, same version is already published
lconwaymacOS 12.7.1 Monterey / x86_64  OK    OK    OK    OK  UNNEEDED, same version is already published
kjohnson3macOS 13.7.7 Ventura / arm64  OK    OK    OK    OK  UNNEEDED, same version is already published
taishanLinux (openEuler 24.03 LTS) / aarch64  OK    OK    OK  
Package 11/55HostnameOS / ArchINSTALLBUILDCHECKBUILD BIN
DESeq2 1.49.5  (landing page)
Michael Love
git_last_commit: 6fdaf4b
git_last_commit_date: 2025-10-10 08:11:54 -0400
nebbiolo2Linux (Ubuntu 24.04.3 LTS) / x86_64  OK    OK    OK  YES
lconwaymacOS 12.7.1 Monterey / x86_64  OK    OK    OK    OK  YES
kjohnson3macOS 13.7.7 Ventura / arm64  OK    OK    OK    OK  YES
taishanLinux (openEuler 24.03 LTS) / aarch64  OK    OK    WARNINGS  
Package 12/55HostnameOS / ArchINSTALLBUILDCHECKBUILD BIN
dreamlet 1.7.1  (landing page)
Gabriel Hoffman
git_last_commit: 2af7734
git_last_commit_date: 2025-04-24 15:29:25 -0400
nebbiolo2Linux (Ubuntu 24.04.3 LTS) / x86_64  OK    OK    OK  UNNEEDED, same version is already published
lconwaymacOS 12.7.1 Monterey / x86_64  OK    OK    OK    OK  UNNEEDED, same version is already published
kjohnson3macOS 13.7.7 Ventura / arm64  OK    OK    OK    OK  UNNEEDED, same version is already published
taishanLinux (openEuler 24.03 LTS) / aarch64  OK    OK    OK  
Package 13/55HostnameOS / ArchINSTALLBUILDCHECKBUILD BIN
escape 2.5.5  (landing page)
Nick Borcherding
git_last_commit: 59e0b12
git_last_commit_date: 2025-07-25 13:48:23 -0400
nebbiolo2Linux (Ubuntu 24.04.3 LTS) / x86_64  OK    OK    OK  UNNEEDED, same version is already published
lconwaymacOS 12.7.1 Monterey / x86_64  OK    OK    OK    OK  UNNEEDED, same version is already published
kjohnson3macOS 13.7.7 Ventura / arm64  OK    OK    OK    OK  UNNEEDED, same version is already published
taishanLinux (openEuler 24.03 LTS) / aarch64  OK    OK    OK  
Package 14/55HostnameOS / ArchINSTALLBUILDCHECKBUILD BIN
FLAMES 2.3.5  (landing page)
Changqing Wang
git_last_commit: 5771592
git_last_commit_date: 2025-09-12 02:43:50 -0400
nebbiolo2Linux (Ubuntu 24.04.3 LTS) / x86_64  OK    OK    OK  UNNEEDED, same version is already published
lconwaymacOS 12.7.1 Monterey / x86_64  OK    OK    OK    OK  UNNEEDED, same version is already published
kjohnson3macOS 13.7.7 Ventura / arm64  OK    OK    OK    OK  UNNEEDED, same version is already published
taishanLinux (openEuler 24.03 LTS) / aarch64  ERROR    ERROR  skipped
Package 15/55HostnameOS / ArchINSTALLBUILDCHECKBUILD BIN
genefilter 1.91.0  (landing page)
Bioconductor Package Maintainer
git_last_commit: 02d9859
git_last_commit_date: 2025-04-15 09:15:25 -0400
nebbiolo2Linux (Ubuntu 24.04.3 LTS) / x86_64  OK    OK    WARNINGS  UNNEEDED, same version is already published
lconwaymacOS 12.7.1 Monterey / x86_64  OK    OK    WARNINGS    OK  UNNEEDED, same version is already published
kjohnson3macOS 13.7.7 Ventura / arm64  OK    OK    WARNINGS    OK  UNNEEDED, same version is already published
taishanLinux (openEuler 24.03 LTS) / aarch64  OK    OK    WARNINGS  
Package 16/55HostnameOS / ArchINSTALLBUILDCHECKBUILD BIN
GenomicFiles 1.45.2  (landing page)
Bioconductor Package Maintainer
git_last_commit: 53f71f2
git_last_commit_date: 2025-07-21 11:45:02 -0400
nebbiolo2Linux (Ubuntu 24.04.3 LTS) / x86_64  OK    OK    OK  UNNEEDED, same version is already published
lconwaymacOS 12.7.1 Monterey / x86_64  OK    OK    OK    OK  UNNEEDED, same version is already published
kjohnson3macOS 13.7.7 Ventura / arm64  OK    OK    OK    OK  UNNEEDED, same version is already published
taishanLinux (openEuler 24.03 LTS) / aarch64  OK    OK    OK  
Package 17/55HostnameOS / ArchINSTALLBUILDCHECKBUILD BIN
glmGamPoi 1.21.0  (landing page)
Constantin Ahlmann-Eltze
git_last_commit: 2e494d0
git_last_commit_date: 2025-04-15 11:56:50 -0400
nebbiolo2Linux (Ubuntu 24.04.3 LTS) / x86_64  OK    OK    WARNINGS  UNNEEDED, same version is already published
lconwaymacOS 12.7.1 Monterey / x86_64  OK    OK    WARNINGS    OK  UNNEEDED, same version is already published
kjohnson3macOS 13.7.7 Ventura / arm64  OK    OK    WARNINGS    OK  UNNEEDED, same version is already published
taishanLinux (openEuler 24.03 LTS) / aarch64  OK    OK    WARNINGS  
Package 18/55HostnameOS / ArchINSTALLBUILDCHECKBUILD BIN
imcRtools 1.15.3  (landing page)
Daniel Schulz
git_last_commit: 0c0cdbc
git_last_commit_date: 2025-09-29 04:48:22 -0400
nebbiolo2Linux (Ubuntu 24.04.3 LTS) / x86_64  OK    OK    ERROR  
lconwaymacOS 12.7.1 Monterey / x86_64  OK    OK    OK    OK  UNNEEDED, same version is already published
kjohnson3macOS 13.7.7 Ventura / arm64  OK    OK    ERROR    OK  
taishanLinux (openEuler 24.03 LTS) / aarch64  OK    OK    ERROR  
Package 19/55HostnameOS / ArchINSTALLBUILDCHECKBUILD BIN
lemur 1.7.0  (landing page)
Constantin Ahlmann-Eltze
git_last_commit: a472576
git_last_commit_date: 2025-04-15 13:24:02 -0400
nebbiolo2Linux (Ubuntu 24.04.3 LTS) / x86_64  OK    OK    ERROR  
lconwaymacOS 12.7.1 Monterey / x86_64  OK    OK    WARNINGS    OK  UNNEEDED, same version is already published
kjohnson3macOS 13.7.7 Ventura / arm64  OK    OK    WARNINGS    OK  UNNEEDED, same version is already published
taishanLinux (openEuler 24.03 LTS) / aarch64  OK    OK    WARNINGS  
Package 20/55HostnameOS / ArchINSTALLBUILDCHECKBUILD BIN
lineagespot 1.13.0  (landing page)
Nikolaos Pechlivanis
git_last_commit: 148f2e9
git_last_commit_date: 2025-04-15 12:45:38 -0400
nebbiolo2Linux (Ubuntu 24.04.3 LTS) / x86_64  OK    OK    OK  UNNEEDED, same version is already published
lconwaymacOS 12.7.1 Monterey / x86_64  OK    OK    OK    OK  UNNEEDED, same version is already published
kjohnson3macOS 13.7.7 Ventura / arm64  OK    OK    OK    OK  UNNEEDED, same version is already published
taishanLinux (openEuler 24.03 LTS) / aarch64  OK    OK    OK  
Package 21/55HostnameOS / ArchINSTALLBUILDCHECKBUILD BIN
methodical 1.5.0  (landing page)
Richard Heery
git_last_commit: 071c5e5
git_last_commit_date: 2025-04-15 13:26:47 -0400
nebbiolo2Linux (Ubuntu 24.04.3 LTS) / x86_64  OK    OK    ERROR  
lconwaymacOS 12.7.1 Monterey / x86_64  OK    OK    ERROR    OK  
kjohnson3macOS 13.7.7 Ventura / arm64  OK    OK    ERROR    OK  
taishanLinux (openEuler 24.03 LTS) / aarch64  OK    ERROR  skipped
Package 22/55HostnameOS / ArchINSTALLBUILDCHECKBUILD BIN
mia 1.17.9  (landing page)
Tuomas Borman
git_last_commit: 48e3197
git_last_commit_date: 2025-09-10 04:07:54 -0400
nebbiolo2Linux (Ubuntu 24.04.3 LTS) / x86_64  OK    OK    ERROR  
lconwaymacOS 12.7.1 Monterey / x86_64  OK    OK    TIMEOUT    OK  
kjohnson3macOS 13.7.7 Ventura / arm64  OK    OK    ERROR    OK  
taishanLinux (openEuler 24.03 LTS) / aarch64  OK    OK    TIMEOUT  
Package 23/55HostnameOS / ArchINSTALLBUILDCHECKBUILD BIN
miaSim 1.15.1  (landing page)
Yagmur Simsek
git_last_commit: 481aa59
git_last_commit_date: 2025-07-20 12:21:12 -0400
nebbiolo2Linux (Ubuntu 24.04.3 LTS) / x86_64  OK    OK    OK  UNNEEDED, same version is already published
lconwaymacOS 12.7.1 Monterey / x86_64  OK    OK    OK    OK  UNNEEDED, same version is already published
kjohnson3macOS 13.7.7 Ventura / arm64  OK    OK    OK    OK  UNNEEDED, same version is already published
taishanLinux (openEuler 24.03 LTS) / aarch64  OK    OK    OK  
Package 24/55HostnameOS / ArchINSTALLBUILDCHECKBUILD BIN
miloR 2.5.2  (landing page)
Mike Morgan
git_last_commit: be20c8b
git_last_commit_date: 2025-08-29 09:57:51 -0400
nebbiolo2Linux (Ubuntu 24.04.3 LTS) / x86_64  OK    OK    OK  UNNEEDED, same version is already published
lconwaymacOS 12.7.1 Monterey / x86_64  OK    OK    OK    OK  UNNEEDED, same version is already published
kjohnson3macOS 13.7.7 Ventura / arm64  OK    ERROR  skippedskipped
taishanLinux (openEuler 24.03 LTS) / aarch64  OK    OK    WARNINGS  
Package 25/55HostnameOS / ArchINSTALLBUILDCHECKBUILD BIN
MinimumDistance 1.53.1  (landing page)
Robert Scharpf
git_last_commit: 1585ce6
git_last_commit_date: 2025-07-24 19:02:19 -0400
nebbiolo2Linux (Ubuntu 24.04.3 LTS) / x86_64  OK    OK    WARNINGS  UNNEEDED, same version is already published
lconwaymacOS 12.7.1 Monterey / x86_64  OK    OK    WARNINGS    OK  UNNEEDED, same version is already published
kjohnson3macOS 13.7.7 Ventura / arm64  OK    OK    WARNINGS    OK  UNNEEDED, same version is already published
taishanLinux (openEuler 24.03 LTS) / aarch64  ERROR    ERROR  skipped
Package 26/55HostnameOS / ArchINSTALLBUILDCHECKBUILD BIN
MultiAssayExperiment 1.35.9  (landing page)
Marcel Ramos
git_last_commit: 3713158
git_last_commit_date: 2025-08-18 16:35:17 -0400
nebbiolo2Linux (Ubuntu 24.04.3 LTS) / x86_64  OK    OK    OK  UNNEEDED, same version is already published
lconwaymacOS 12.7.1 Monterey / x86_64  OK    OK    OK    OK  UNNEEDED, same version is already published
kjohnson3macOS 13.7.7 Ventura / arm64  OK    OK    OK    OK  UNNEEDED, same version is already published
taishanLinux (openEuler 24.03 LTS) / aarch64  OK    OK    OK  
Package 27/55HostnameOS / ArchINSTALLBUILDCHECKBUILD BIN
PDATK 1.17.0  (landing page)
Benjamin Haibe-Kains
git_last_commit: c091f7b
git_last_commit_date: 2025-04-15 12:20:55 -0400
nebbiolo2Linux (Ubuntu 24.04.3 LTS) / x86_64  OK    OK    WARNINGS  UNNEEDED, same version is already published
lconwaymacOS 12.7.1 Monterey / x86_64  OK    OK    WARNINGS    OK  UNNEEDED, same version is already published
kjohnson3macOS 13.7.7 Ventura / arm64  OK    OK    WARNINGS    OK  UNNEEDED, same version is already published
taishanLinux (openEuler 24.03 LTS) / aarch64  OK    TIMEOUT  skipped
Package 28/55HostnameOS / ArchINSTALLBUILDCHECKBUILD BIN
RaggedExperiment 1.33.7  (landing page)
Marcel Ramos
git_last_commit: 4cb9ce7
git_last_commit_date: 2025-07-10 14:19:28 -0400
nebbiolo2Linux (Ubuntu 24.04.3 LTS) / x86_64  OK    OK    OK  UNNEEDED, same version is already published
lconwaymacOS 12.7.1 Monterey / x86_64  OK    OK    OK    OK  UNNEEDED, same version is already published
kjohnson3macOS 13.7.7 Ventura / arm64  OK    OK    OK    OK  UNNEEDED, same version is already published
taishanLinux (openEuler 24.03 LTS) / aarch64  OK    OK    OK  
Package 29/55HostnameOS / ArchINSTALLBUILDCHECKBUILD BIN
RAIDS 1.7.3  (landing page)
Pascal Belleau
git_last_commit: 3a182eb
git_last_commit_date: 2025-10-07 16:32:58 -0400
nebbiolo2Linux (Ubuntu 24.04.3 LTS) / x86_64  OK    OK    OK  UNNEEDED, same version is already published
lconwaymacOS 12.7.1 Monterey / x86_64  OK    OK    OK    OK  UNNEEDED, same version is already published
kjohnson3macOS 13.7.7 Ventura / arm64  OK    OK    OK    OK  UNNEEDED, same version is already published
taishanLinux (openEuler 24.03 LTS) / aarch64  OK    OK    OK  
Package 30/55HostnameOS / ArchINSTALLBUILDCHECKBUILD BIN
RCSL 1.17.0  (landing page)
Qinglin Mei
git_last_commit: d6ee94a
git_last_commit_date: 2025-04-15 12:33:13 -0400
nebbiolo2Linux (Ubuntu 24.04.3 LTS) / x86_64  OK    OK    OK  UNNEEDED, same version is already published
lconwaymacOS 12.7.1 Monterey / x86_64  OK    OK    OK    OK  UNNEEDED, same version is already published
kjohnson3macOS 13.7.7 Ventura / arm64  OK    OK    OK    OK  UNNEEDED, same version is already published
taishanLinux (openEuler 24.03 LTS) / aarch64  OK    OK    OK  
Package 31/55HostnameOS / ArchINSTALLBUILDCHECKBUILD BIN
SanityR 0.99.3  (landing page)
Teo Sakel
git_last_commit: 30898e5
git_last_commit_date: 2025-07-24 11:57:50 -0400
nebbiolo2Linux (Ubuntu 24.04.3 LTS) / x86_64  OK    OK    OK  UNNEEDED, same version is already published
lconwaymacOS 12.7.1 Monterey / x86_64  OK    OK    OK    OK  UNNEEDED, same version is already published
kjohnson3macOS 13.7.7 Ventura / arm64  OK    OK    OK    OK  UNNEEDED, same version is already published
taishanLinux (openEuler 24.03 LTS) / aarch64  OK    OK    OK  
Package 32/55HostnameOS / ArchINSTALLBUILDCHECKBUILD BIN
saseR 1.5.1  (landing page)
Alexandre Segers
git_last_commit: 8e6b31a
git_last_commit_date: 2025-06-26 07:03:57 -0400
nebbiolo2Linux (Ubuntu 24.04.3 LTS) / x86_64  OK    OK    WARNINGS  UNNEEDED, same version is already published
lconwaymacOS 12.7.1 Monterey / x86_64  OK    OK    WARNINGS    OK  UNNEEDED, same version is already published
kjohnson3macOS 13.7.7 Ventura / arm64  OK    OK    WARNINGS    OK  UNNEEDED, same version is already published
taishanLinux (openEuler 24.03 LTS) / aarch64  OK    OK    WARNINGS  
Package 33/55HostnameOS / ArchINSTALLBUILDCHECKBUILD BIN
scater 1.37.0  (landing page)
Alan O'Callaghan
git_last_commit: aaaa4b0
git_last_commit_date: 2025-04-15 10:58:25 -0400
nebbiolo2Linux (Ubuntu 24.04.3 LTS) / x86_64  OK    OK    OK  UNNEEDED, same version is already published
lconwaymacOS 12.7.1 Monterey / x86_64  OK    OK    OK    OK  UNNEEDED, same version is already published
kjohnson3macOS 13.7.7 Ventura / arm64  OK    OK    ERROR    OK  
taishanLinux (openEuler 24.03 LTS) / aarch64  OK    OK    OK  
Package 34/55HostnameOS / ArchINSTALLBUILDCHECKBUILD BIN
scFeatures 1.9.0  (landing page)
Yue Cao
git_last_commit: 0d8daf3
git_last_commit_date: 2025-04-15 13:02:06 -0400
nebbiolo2Linux (Ubuntu 24.04.3 LTS) / x86_64  OK    OK    ERROR  
lconwaymacOS 12.7.1 Monterey / x86_64  OK    OK    ERROR    OK  
kjohnson3macOS 13.7.7 Ventura / arm64  OK    OK    ERROR    OK  
taishanLinux (openEuler 24.03 LTS) / aarch64  OK    OK    ERROR  
Package 35/55HostnameOS / ArchINSTALLBUILDCHECKBUILD BIN
scone 1.33.0  (landing page)
Davide Risso
git_last_commit: c549469
git_last_commit_date: 2025-04-15 11:07:45 -0400
nebbiolo2Linux (Ubuntu 24.04.3 LTS) / x86_64  OK    OK    OK  UNNEEDED, same version is already published
lconwaymacOS 12.7.1 Monterey / x86_64  OK    OK    OK    OK  UNNEEDED, same version is already published
kjohnson3macOS 13.7.7 Ventura / arm64  OK    OK    OK    OK  UNNEEDED, same version is already published
taishanLinux (openEuler 24.03 LTS) / aarch64  OK    OK    OK  
Package 36/55HostnameOS / ArchINSTALLBUILDCHECKBUILD BIN
scPCA 1.23.0  (landing page)
Philippe Boileau
git_last_commit: 18cc13d
git_last_commit_date: 2025-04-15 11:52:09 -0400
nebbiolo2Linux (Ubuntu 24.04.3 LTS) / x86_64  OK    OK    OK  UNNEEDED, same version is already published
lconwaymacOS 12.7.1 Monterey / x86_64  OK    OK    OK    OK  UNNEEDED, same version is already published
kjohnson3macOS 13.7.7 Ventura / arm64  OK    OK    OK    OK  UNNEEDED, same version is already published
taishanLinux (openEuler 24.03 LTS) / aarch64  OK    OK    OK  
Package 37/55HostnameOS / ArchINSTALLBUILDCHECKBUILD BIN
scran 1.37.0  (landing page)
Aaron Lun
git_last_commit: 5aa5fc4
git_last_commit_date: 2025-04-15 11:00:55 -0400
nebbiolo2Linux (Ubuntu 24.04.3 LTS) / x86_64  OK    OK    WARNINGS  UNNEEDED, same version is already published
lconwaymacOS 12.7.1 Monterey / x86_64  OK    OK    WARNINGS    OK  UNNEEDED, same version is already published
kjohnson3macOS 13.7.7 Ventura / arm64  OK    OK    WARNINGS    OK  UNNEEDED, same version is already published
taishanLinux (openEuler 24.03 LTS) / aarch64  OK    OK    WARNINGS  
Package 38/55HostnameOS / ArchINSTALLBUILDCHECKBUILD BIN
scuttle 1.19.0  (landing page)
Aaron Lun
git_last_commit: bdcc1f8
git_last_commit_date: 2025-04-15 11:59:18 -0400
nebbiolo2Linux (Ubuntu 24.04.3 LTS) / x86_64  OK    OK    OK  UNNEEDED, same version is already published
lconwaymacOS 12.7.1 Monterey / x86_64  OK    OK    OK    OK  UNNEEDED, same version is already published
kjohnson3macOS 13.7.7 Ventura / arm64  OK    OK    OK    OK  UNNEEDED, same version is already published
taishanLinux (openEuler 24.03 LTS) / aarch64  OK    OK    OK  
Package 39/55HostnameOS / ArchINSTALLBUILDCHECKBUILD BIN
scviR 1.9.11  (landing page)
Vincent Carey
git_last_commit: 5dd474c
git_last_commit_date: 2025-05-12 05:55:48 -0400
nebbiolo2Linux (Ubuntu 24.04.3 LTS) / x86_64  OK    OK    ERROR  
lconwaymacOS 12.7.1 Monterey / x86_64  OK    ERROR  skippedskipped
kjohnson3macOS 13.7.7 Ventura / arm64  OK    ERROR  skippedskipped
taishanLinux (openEuler 24.03 LTS) / aarch64  OK    ERROR  skipped
Package 40/55HostnameOS / ArchINSTALLBUILDCHECKBUILD BIN
shinyMethyl 1.45.0  (landing page)
Jean-Philippe Fortin
git_last_commit: 47b80b9
git_last_commit_date: 2025-04-15 10:32:29 -0400
nebbiolo2Linux (Ubuntu 24.04.3 LTS) / x86_64  OK    OK    OK  UNNEEDED, same version is already published
lconwaymacOS 12.7.1 Monterey / x86_64  OK    OK    OK    OK  UNNEEDED, same version is already published
kjohnson3macOS 13.7.7 Ventura / arm64  OK    OK    OK    OK  UNNEEDED, same version is already published
taishanLinux (openEuler 24.03 LTS) / aarch64  OK    OK    OK  
Package 41/55HostnameOS / ArchINSTALLBUILDCHECKBUILD BIN
SparseArray 1.9.1  (landing page)
Hervé Pagès
git_last_commit: 2dd1bf9
git_last_commit_date: 2025-08-28 22:55:59 -0400
nebbiolo2Linux (Ubuntu 24.04.3 LTS) / x86_64  OK    OK    OK  UNNEEDED, same version is already published
lconwaymacOS 12.7.1 Monterey / x86_64  OK    OK    OK    OK  UNNEEDED, same version is already published
kjohnson3macOS 13.7.7 Ventura / arm64  OK    OK    OK    OK  UNNEEDED, same version is already published
taishanLinux (openEuler 24.03 LTS) / aarch64  OK    ERROR  skipped
Package 42/55HostnameOS / ArchINSTALLBUILDCHECKBUILD BIN
sparseMatrixStats 1.21.0  (landing page)
Constantin Ahlmann-Eltze
git_last_commit: 3933eee
git_last_commit_date: 2025-04-15 11:56:38 -0400
nebbiolo2Linux (Ubuntu 24.04.3 LTS) / x86_64  OK    OK    OK  UNNEEDED, same version is already published
lconwaymacOS 12.7.1 Monterey / x86_64  OK    OK    OK    OK  UNNEEDED, same version is already published
kjohnson3macOS 13.7.7 Ventura / arm64  OK    OK    OK    OK  UNNEEDED, same version is already published
taishanLinux (openEuler 24.03 LTS) / aarch64  OK    OK    OK  
Package 43/55HostnameOS / ArchINSTALLBUILDCHECKBUILD BIN
spatzie 1.15.1  (landing page)
Jennifer Hammelman
git_last_commit: 319405d
git_last_commit_date: 2025-07-23 18:03:34 -0400
nebbiolo2Linux (Ubuntu 24.04.3 LTS) / x86_64  OK    OK    ERROR  
lconwaymacOS 12.7.1 Monterey / x86_64  OK    OK    ERROR    OK  
kjohnson3macOS 13.7.7 Ventura / arm64  OK    OK    ERROR    OK  
taishanLinux (openEuler 24.03 LTS) / aarch64  OK    OK    ERROR  
Package 44/55HostnameOS / ArchINSTALLBUILDCHECKBUILD BIN
StabMap 1.3.0  (landing page)
Shila Ghazanfar
git_last_commit: cb995b0
git_last_commit_date: 2025-04-15 13:38:34 -0400
nebbiolo2Linux (Ubuntu 24.04.3 LTS) / x86_64  OK    OK    OK  UNNEEDED, same version is already published
lconwaymacOS 12.7.1 Monterey / x86_64  OK    OK    OK    OK  UNNEEDED, same version is already published
kjohnson3macOS 13.7.7 Ventura / arm64  OK    OK    OK    OK  UNNEEDED, same version is already published
taishanLinux (openEuler 24.03 LTS) / aarch64  OK    OK    OK  
Package 45/55HostnameOS / ArchINSTALLBUILDCHECKBUILD BIN
SummarizedExperiment 1.39.2  (landing page)
Hervé Pagès
git_last_commit: 9533690
git_last_commit_date: 2025-09-15 13:27:14 -0400
nebbiolo2Linux (Ubuntu 24.04.3 LTS) / x86_64  OK    OK    OK  UNNEEDED, same version is already published
lconwaymacOS 12.7.1 Monterey / x86_64  OK    OK    OK    OK  UNNEEDED, same version is already published
kjohnson3macOS 13.7.7 Ventura / arm64  OK    OK    OK    OK  UNNEEDED, same version is already published
taishanLinux (openEuler 24.03 LTS) / aarch64  OK    OK    OK  
Package 46/55HostnameOS / ArchINSTALLBUILDCHECKBUILD BIN
tadar 1.7.1  (landing page)
Lachlan Baer
git_last_commit: 94180a4
git_last_commit_date: 2025-07-23 18:12:37 -0400
nebbiolo2Linux (Ubuntu 24.04.3 LTS) / x86_64  OK    OK    OK  UNNEEDED, same version is already published
lconwaymacOS 12.7.1 Monterey / x86_64  OK    OK    OK    OK  UNNEEDED, same version is already published
kjohnson3macOS 13.7.7 Ventura / arm64  OK    OK    OK    OK  UNNEEDED, same version is already published
taishanLinux (openEuler 24.03 LTS) / aarch64  OK    OK    OK  
Package 47/55HostnameOS / ArchINSTALLBUILDCHECKBUILD BIN
TENxIO 1.11.5  (landing page)
Marcel Ramos
git_last_commit: f7f2c88
git_last_commit_date: 2025-06-21 01:21:24 -0400
nebbiolo2Linux (Ubuntu 24.04.3 LTS) / x86_64  OK    OK    OK  UNNEEDED, same version is already published
lconwaymacOS 12.7.1 Monterey / x86_64  OK    ERROR  skippedskipped
kjohnson3macOS 13.7.7 Ventura / arm64  OK    ERROR  skippedskipped
taishanLinux (openEuler 24.03 LTS) / aarch64  OK    OK    OK  
Package 48/55HostnameOS / ArchINSTALLBUILDCHECKBUILD BIN
tLOH 1.17.0  (landing page)
Michelle Webb
git_last_commit: 79f1f5c
git_last_commit_date: 2025-04-15 12:28:29 -0400
nebbiolo2Linux (Ubuntu 24.04.3 LTS) / x86_64  OK    OK    OK  UNNEEDED, same version is already published
lconwaymacOS 12.7.1 Monterey / x86_64  OK    OK    OK    OK  UNNEEDED, same version is already published
kjohnson3macOS 13.7.7 Ventura / arm64  OK    OK    OK    OK  UNNEEDED, same version is already published
taishanLinux (openEuler 24.03 LTS) / aarch64  OK    OK    OK  
Package 49/55HostnameOS / ArchINSTALLBUILDCHECKBUILD BIN
tpSVG 1.5.0  (landing page)
Boyi Guo
git_last_commit: 98f4d48
git_last_commit_date: 2025-04-15 13:29:49 -0400
nebbiolo2Linux (Ubuntu 24.04.3 LTS) / x86_64  OK    OK    OK  UNNEEDED, same version is already published
lconwaymacOS 12.7.1 Monterey / x86_64  OK    OK    OK    OK  UNNEEDED, same version is already published
kjohnson3macOS 13.7.7 Ventura / arm64  OK    OK    OK    OK  UNNEEDED, same version is already published
taishanLinux (openEuler 24.03 LTS) / aarch64  OK    OK    OK  
Package 50/55HostnameOS / ArchINSTALLBUILDCHECKBUILD BIN
transformGamPoi 1.15.0  (landing page)
Constantin Ahlmann-Eltze
git_last_commit: 7f584c6
git_last_commit_date: 2025-04-15 12:38:24 -0400
nebbiolo2Linux (Ubuntu 24.04.3 LTS) / x86_64  OK    OK    OK  UNNEEDED, same version is already published
lconwaymacOS 12.7.1 Monterey / x86_64  OK    OK    OK    OK  UNNEEDED, same version is already published
kjohnson3macOS 13.7.7 Ventura / arm64  OK    OK    OK    OK  UNNEEDED, same version is already published
taishanLinux (openEuler 24.03 LTS) / aarch64  OK    OK    OK  
Package 51/55HostnameOS / ArchINSTALLBUILDCHECKBUILD BIN
universalmotif 1.27.4  (landing page)
Benjamin Jean-Marie Tremblay
git_last_commit: 26a42b3
git_last_commit_date: 2025-09-29 13:57:00 -0400
nebbiolo2Linux (Ubuntu 24.04.3 LTS) / x86_64  OK    OK    OK  UNNEEDED, same version is already published
lconwaymacOS 12.7.1 Monterey / x86_64  OK    OK    OK    OK  UNNEEDED, same version is already published
kjohnson3macOS 13.7.7 Ventura / arm64  OK    OK    OK    OK  UNNEEDED, same version is already published
taishanLinux (openEuler 24.03 LTS) / aarch64  OK    OK    OK  
Package 52/55HostnameOS / ArchINSTALLBUILDCHECKBUILD BIN
VanillaICE 1.71.0  (landing page)
Robert Scharpf
git_last_commit: de6e70b
git_last_commit_date: 2025-04-15 09:40:57 -0400
nebbiolo2Linux (Ubuntu 24.04.3 LTS) / x86_64  OK    OK    OK  UNNEEDED, same version is already published
lconwaymacOS 12.7.1 Monterey / x86_64  OK    OK    OK    OK  UNNEEDED, same version is already published
kjohnson3macOS 13.7.7 Ventura / arm64  OK    OK    OK    OK  UNNEEDED, same version is already published
taishanLinux (openEuler 24.03 LTS) / aarch64  ERROR    ERROR  skipped
Package 53/55HostnameOS / ArchINSTALLBUILDCHECKBUILD BIN
VariantAnnotation 1.55.1  (landing page)
Bioconductor Package Maintainer
git_last_commit: 5b9c386
git_last_commit_date: 2025-06-20 19:10:12 -0400
nebbiolo2Linux (Ubuntu 24.04.3 LTS) / x86_64  OK    OK    ERROR  
lconwaymacOS 12.7.1 Monterey / x86_64  OK    OK    ERROR    OK  
kjohnson3macOS 13.7.7 Ventura / arm64  OK    OK    ERROR    OK  
taishanLinux (openEuler 24.03 LTS) / aarch64  OK    OK    ERROR  
Package 54/55HostnameOS / ArchINSTALLBUILDCHECKBUILD BIN
Voyager 1.11.0  (landing page)
Lambda Moses
git_last_commit: 7cd5ab1
git_last_commit_date: 2025-09-15 22:18:05 -0400
nebbiolo2Linux (Ubuntu 24.04.3 LTS) / x86_64  OK    OK    WARNINGS  UNNEEDED, same version is already published
lconwaymacOS 12.7.1 Monterey / x86_64  OK    OK    WARNINGS    OK  UNNEEDED, same version is already published
kjohnson3macOS 13.7.7 Ventura / arm64  OK    OK    WARNINGS    OK  UNNEEDED, same version is already published
taishanLinux (openEuler 24.03 LTS) / aarch64  OK    OK    WARNINGS  
Package 55/55HostnameOS / ArchINSTALLBUILDCHECKBUILD BIN
zitools 1.3.0  (landing page)
Carlotta Meyring
git_last_commit: 9d83d53
git_last_commit_date: 2025-04-15 13:36:49 -0400
nebbiolo2Linux (Ubuntu 24.04.3 LTS) / x86_64  OK    OK    WARNINGS  UNNEEDED, same version is already published
lconwaymacOS 12.7.1 Monterey / x86_64  OK    OK    WARNINGS    OK  UNNEEDED, same version is already published
kjohnson3macOS 13.7.7 Ventura / arm64  OK    OK    WARNINGS    OK  UNNEEDED, same version is already published
taishanLinux (openEuler 24.03 LTS) / aarch64  OK    OK    WARNINGS