Back to Multiple platform build/check report for BioC 3.22:   simplified   long
ABCDEFGHIJKL[M]NOPQRSTUVWXYZ

This page was generated on 2025-07-19 12:05 -0400 (Sat, 19 Jul 2025).

HostnameOSArch (*)R versionInstalled pkgs
nebbiolo2Linux (Ubuntu 24.04.2 LTS)x86_644.5.1 (2025-06-13) -- "Great Square Root" 4791
palomino8Windows Server 2022 Datacenterx644.5.1 (2025-06-13 ucrt) -- "Great Square Root" 4529
lconwaymacOS 12.7.1 Montereyx86_644.5.1 (2025-06-13) -- "Great Square Root" 4572
kjohnson3macOS 13.7.1 Venturaarm644.5.1 Patched (2025-06-14 r88325) -- "Great Square Root" 4513
taishanLinux (openEuler 24.03 LTS)aarch644.5.0 (2025-04-11) -- "How About a Twenty-Six" 4510
Click on any hostname to see more info about the system (e.g. compilers)      (*) as reported by 'uname -p', except on Windows and Mac OS X

Package 1349/2311HostnameOS / ArchINSTALLBUILDCHECKBUILD BIN
MsBackendRawFileReader 1.15.1  (landing page)
Christian Panse
Snapshot Date: 2025-07-18 13:25 -0400 (Fri, 18 Jul 2025)
git_url: https://git.bioconductor.org/packages/MsBackendRawFileReader
git_branch: devel
git_last_commit: 1998d81
git_last_commit_date: 2025-06-12 03:00:23 -0400 (Thu, 12 Jun 2025)
nebbiolo2Linux (Ubuntu 24.04.2 LTS) / x86_64  OK    OK    OK  UNNEEDED, same version is already published
palomino8Windows Server 2022 Datacenter / x64  OK    OK    OK    OK  UNNEEDED, same version is already published
lconwaymacOS 12.7.1 Monterey / x86_64  OK    OK    OK    OK  UNNEEDED, same version is already published
kjohnson3macOS 13.7.1 Ventura / arm64  OK    OK    OK    OK  UNNEEDED, same version is already published
taishanLinux (openEuler 24.03 LTS) / aarch64  OK    ERROR  skipped


CHECK results for MsBackendRawFileReader on nebbiolo2

To the developers/maintainers of the MsBackendRawFileReader package:
- Allow up to 24 hours (and sometimes 48 hours) for your latest push to git@git.bioconductor.org:packages/MsBackendRawFileReader.git to reflect on this report. See Troubleshooting Build Report for more information.
- Use the following Renviron settings to reproduce errors and warnings.
- If 'R CMD check' started to fail recently on the Linux builder(s) over a missing dependency, add the missing dependency to 'Suggests:' in your DESCRIPTION file. See Renviron.bioc for more information.

raw results


Summary

Package: MsBackendRawFileReader
Version: 1.15.1
Command: /home/biocbuild/bbs-3.22-bioc/R/bin/R CMD check --install=check:MsBackendRawFileReader.install-out.txt --library=/home/biocbuild/bbs-3.22-bioc/R/site-library --timings MsBackendRawFileReader_1.15.1.tar.gz
StartedAt: 2025-07-19 00:26:45 -0400 (Sat, 19 Jul 2025)
EndedAt: 2025-07-19 00:31:33 -0400 (Sat, 19 Jul 2025)
EllapsedTime: 288.2 seconds
RetCode: 0
Status:   OK  
CheckDir: MsBackendRawFileReader.Rcheck
Warnings: 0

Command output

##############################################################################
##############################################################################
###
### Running command:
###
###   /home/biocbuild/bbs-3.22-bioc/R/bin/R CMD check --install=check:MsBackendRawFileReader.install-out.txt --library=/home/biocbuild/bbs-3.22-bioc/R/site-library --timings MsBackendRawFileReader_1.15.1.tar.gz
###
##############################################################################
##############################################################################


* using log directory ‘/home/biocbuild/bbs-3.22-bioc/meat/MsBackendRawFileReader.Rcheck’
* using R version 4.5.1 (2025-06-13)
* using platform: x86_64-pc-linux-gnu
* R was compiled by
    gcc (Ubuntu 13.3.0-6ubuntu2~24.04) 13.3.0
    GNU Fortran (Ubuntu 13.3.0-6ubuntu2~24.04) 13.3.0
* running under: Ubuntu 24.04.2 LTS
* using session charset: UTF-8
* checking for file ‘MsBackendRawFileReader/DESCRIPTION’ ... OK
* checking extension type ... Package
* this is package ‘MsBackendRawFileReader’ version ‘1.15.1’
* package encoding: UTF-8
* checking package namespace information ... OK
* checking package dependencies ... OK
* checking if this is a source package ... OK
* checking if there is a namespace ... OK
* checking for hidden files and directories ... OK
* checking for portable file names ... OK
* checking for sufficient/correct file permissions ... OK
* checking whether package ‘MsBackendRawFileReader’ can be installed ... OK
* checking installed package size ... OK
* checking package directory ... OK
* checking ‘build’ directory ... OK
* checking DESCRIPTION meta-information ... OK
* checking top-level files ... OK
* checking for left-over files ... OK
* checking index information ... OK
* checking package subdirectories ... OK
* checking code files for non-ASCII characters ... OK
* checking R files for syntax errors ... OK
* checking whether the package can be loaded ... OK
* checking whether the package can be loaded with stated dependencies ... OK
* checking whether the package can be unloaded cleanly ... OK
* checking whether the namespace can be loaded with stated dependencies ... OK
* checking whether the namespace can be unloaded cleanly ... OK
* checking loading without being on the library search path ... OK
* checking whether startup messages can be suppressed ... OK
* checking dependencies in R code ... OK
* checking S3 generic/method consistency ... OK
* checking replacement functions ... OK
* checking foreign function calls ... OK
* checking R code for possible problems ... OK
* checking Rd files ... OK
* checking Rd metadata ... OK
* checking Rd cross-references ... OK
* checking for missing documentation entries ... OK
* checking for code/documentation mismatches ... OK
* checking Rd \usage sections ... OK
* checking Rd contents ... OK
* checking for unstated dependencies in examples ... OK
* checking files in ‘vignettes’ ... OK
* checking examples ... OK
Examples with CPU (user + system) or elapsed time > 5s
                         user system elapsed
ioBenchmark            30.927  6.230  11.661
MsBackendRawFileReader  6.591  2.213   9.344
* checking for unstated dependencies in ‘tests’ ... OK
* checking tests ...
  Running ‘testthat.R’
 OK
* checking for unstated dependencies in vignettes ... OK
* checking package vignettes ... OK
* checking re-building of vignette outputs ... OK
* checking PDF version of manual ... OK
* DONE

Status: OK


Installation output

MsBackendRawFileReader.Rcheck/00install.out

##############################################################################
##############################################################################
###
### Running command:
###
###   /home/biocbuild/bbs-3.22-bioc/R/bin/R CMD INSTALL MsBackendRawFileReader
###
##############################################################################
##############################################################################


* installing to library ‘/home/biocbuild/bbs-3.22-bioc/R/site-library’
* installing *source* package ‘MsBackendRawFileReader’ ...
** this is package ‘MsBackendRawFileReader’ version ‘1.15.1’
** using staged installation
** R
** inst
** byte-compile and prepare package for lazy loading
** help
*** installing help indices
** building package indices
** installing vignettes
** testing if installed package can be loaded from temporary location
** testing if installed package can be loaded from final location
** testing if installed package keeps a record of temporary installation path
* DONE (MsBackendRawFileReader)

Tests output

MsBackendRawFileReader.Rcheck/tests/testthat.Rout


R version 4.5.1 (2025-06-13) -- "Great Square Root"
Copyright (C) 2025 The R Foundation for Statistical Computing
Platform: x86_64-pc-linux-gnu

R is free software and comes with ABSOLUTELY NO WARRANTY.
You are welcome to redistribute it under certain conditions.
Type 'license()' or 'licence()' for distribution details.

R is a collaborative project with many contributors.
Type 'contributors()' for more information and
'citation()' on how to cite R or R packages in publications.

Type 'demo()' for some demos, 'help()' for on-line help, or
'help.start()' for an HTML browser interface to help.
Type 'q()' to quit R.

> library("testthat")
> library("MsBackendRawFileReader")
Loading required package: Spectra
Loading required package: S4Vectors
Loading required package: stats4
Loading required package: BiocGenerics
Loading required package: generics

Attaching package: 'generics'

The following objects are masked from 'package:base':

    as.difftime, as.factor, as.ordered, intersect, is.element, setdiff,
    setequal, union


Attaching package: 'BiocGenerics'

The following objects are masked from 'package:stats':

    IQR, mad, sd, var, xtabs

The following objects are masked from 'package:base':

    Filter, Find, Map, Position, Reduce, anyDuplicated, aperm, append,
    as.data.frame, basename, cbind, colnames, dirname, do.call,
    duplicated, eval, evalq, get, grep, grepl, is.unsorted, lapply,
    mapply, match, mget, order, paste, pmax, pmax.int, pmin, pmin.int,
    rank, rbind, rownames, sapply, saveRDS, table, tapply, unique,
    unsplit, which.max, which.min


Attaching package: 'S4Vectors'

The following object is masked from 'package:utils':

    findMatches

The following objects are masked from 'package:base':

    I, expand.grid, unname

Loading required package: BiocParallel
> library("Spectra")
> 
> 
> sample_raw_file <- file.path(system.file(package = "rawrr"),
+                                 'extdata', 'sample.raw')
> 
> sample_mzXML_file <- file.path(path.package(package = 'MsBackendRawFileReader'),
+                                 'extdata', 'sample.mzXML')
> 
> 
> sample_raw <-  backendInitialize(MsBackendRawFileReader::MsBackendRawFileReader(), files = sample_raw_file)
> 
> 
> #sample_mzr <-  backendInitialize(MsBackendMzR(), files = sample_mzXML_file)
> 
> 
> mgf_file <- file.path(system.file(package = "MsBackendRawFileReader"),
+                              'extdata', '3159619b11ed_4590_9594.mgf')
> 
> 
> rv <- lapply(1:2, function(x){
+   file.copy(from = sample_raw_file, to = tempfile(fileext='.raw'))})
> 
> 
> register(SnowParam(workers = 1, type = "SOCK") , default = TRUE); 
> sample_raw_2 <- backendInitialize(MsBackendRawFileReader(),
+     files = file.path(tempdir(),
+          list.files(path = tempdir(), pattern = 'raw$')))
> 
> 
> test_check("MsBackendRawFileReader")
[ FAIL 0 | WARN 1 | SKIP 2 | PASS 21 ]

══ Skipped tests (2) ═══════════════════════════════════════════════════════════
• isFALSE(file.exists(sample_mzXML_file)) is TRUE (1):
  'test_MsBackendMzR_MsBackendRawFileReader.R:1:1'
• isFALSE(require(MsBackendRawMgf)) is TRUE (1): 'test_top_n_mgf.R:1:1'

[ FAIL 0 | WARN 1 | SKIP 2 | PASS 21 ]
> 
> 
> be <- Spectra::backendInitialize(MsBackendRawFileReader::MsBackendRawFileReader(),
+                                  files = c(sample_raw_file))
> 
> ## Run the MsBackend spectra variable test suite
> 
> test_suite <- system.file("test_backends", "test_MsBackend",
+                           package = "Spectra")
> 
> #res <- test_file(paste0(test_suite, "/test_spectra_variables.R"),
> #                 reporter = check_reporter(), stop_on_failure = TRUE)
> 
> 
> ## Run the whole suite.
> res <- test_dir(test_suite, stop_on_failure = TRUE)
✔ | F W  S  OK | Context

⠏ |          0 | peaks_variables                                                
⠙ |          2 | peaks_variables                                                
⠸ |          4 | peaks_variables                                                
✔ |          4 | peaks_variables [4.0s]

⠏ |          0 | spectra_subsetting                                             
⠋ |          1 | spectra_subsetting                                             
⠴ |         16 | spectra_subsetting                                             
⠧ |         28 | spectra_subsetting                                             
⠹ |         43 | spectra_subsetting                                             
⠧ |         58 | spectra_subsetting                                             
⠋ |         71 | spectra_subsetting                                             
⠼ |         85 | spectra_subsetting                                             
⠏ |        100 | spectra_subsetting                                             
⠙ |        112 | spectra_subsetting                                             
⠦ |        127 | spectra_subsetting                                             
⠏ |        140 | spectra_subsetting                                             
⠸ |        154 | spectra_subsetting                                             
⠇ |        169 | spectra_subsetting                                             
⠋ |        181 | spectra_subsetting                                             
⠴ |        196 | spectra_subsetting                                             
⠇ |        209 | spectra_subsetting                                             
⠏ |        220 | spectra_subsetting                                             
⠼ |        235 | spectra_subsetting                                             
⠧ |        248 | spectra_subsetting                                             
⠇ |        259 | spectra_subsetting                                             
⠸ |        274 | spectra_subsetting                                             
⠇ |        289 | spectra_subsetting                                             
⠸ |        304 | spectra_subsetting                                             
⠇ |        319 | spectra_subsetting                                             
⠋ |        331 | spectra_subsetting                                             
⠴ |        346 | spectra_subsetting                                             
⠋ |        361 | spectra_subsetting                                             
⠴ |        376 | spectra_subsetting                                             
⠋ |        391 | spectra_subsetting                                             
⠼ |        405 | spectra_subsetting                                             
⠧ |        418 | spectra_subsetting                                             
⠹ |        433 | spectra_subsetting                                             
⠴ |        446 | spectra_subsetting                                             
⠏ |        460 | spectra_subsetting                                             
⠹ |        473 | spectra_subsetting                                             
⠦ |        487 | spectra_subsetting                                             
⠙ |        502 | spectra_subsetting                                             
⠼ |        515 | spectra_subsetting                                             
⠇ |        529 | spectra_subsetting                                             
⠸ |        544 | spectra_subsetting                                             
⠇ |        559 | spectra_subsetting                                             
⠙ |        572 | spectra_subsetting                                             
⠴ |        586 | spectra_subsetting                                             
⠋ |        601 | spectra_subsetting                                             
⠴ |        616 | spectra_subsetting                                             
⠋ |        631 | spectra_subsetting                                             
⠴ |        646 | spectra_subsetting                                             
⠇ |        659 | spectra_subsetting                                             
⠹ |        673 | spectra_subsetting                                             
⠧ |        688 | spectra_subsetting                                             
⠋ |        701 | spectra_subsetting                                             
⠼ |        715 | spectra_subsetting                                             
⠏ |        730 | spectra_subsetting                                             
⠼ |        745 | spectra_subsetting                                             
⠏ |        760 | spectra_subsetting                                             
⠹ |        773 | spectra_subsetting                                             
⠦ |        787 | spectra_subsetting                                             
⠇ |        799 | spectra_subsetting                                             
⠙ |        812 | spectra_subsetting                                             
⠸ |        824 | spectra_subsetting                                             
⠼ |        835 | spectra_subsetting                                             
⠧ |        848 | spectra_subsetting                                             
⠙ |        862 | spectra_subsetting                                             
⠼ |        875 | spectra_subsetting                                             
⠇ |        889 | spectra_subsetting                                             
⠸ |        904 | spectra_subsetting                                             
⠴ |        916 | spectra_subsetting                                             
⠋ |        931 | spectra_subsetting                                             
⠴ |        946 | spectra_subsetting                                             
⠋ |        961 | spectra_subsetting                                             
⠴ |        976 | spectra_subsetting                                             
⠧ |        988 | spectra_subsetting                                             
⠹ |        1003 | spectra_subsetting                                            
⠧ |        1018 | spectra_subsetting                                            
⠏ |        1030 | spectra_subsetting                                            
⠼ |        1045 | spectra_subsetting                                            
⠧ |        1058 | spectra_subsetting                                            
⠙ |        1072 | spectra_subsetting                                            
⠦ |        1087 | spectra_subsetting                                            
⠏ |        1100 | spectra_subsetting                                            
⠸ |        1114 | spectra_subsetting                                            
⠦ |        1127 | spectra_subsetting                                            
⠋ |        1141 | spectra_subsetting                                            
⠴ |        1156 | spectra_subsetting                                            
⠧ |        1168 | spectra_subsetting                                            
⠹ |        1183 | spectra_subsetting                                            
⠧ |        1198 | spectra_subsetting                                            
⠹ |        1213 | spectra_subsetting                                            
⠧ |        1228 | spectra_subsetting                                            
⠏ |        1240 | spectra_subsetting                                            
⠼ |        1255 | spectra_subsetting                                            
⠏ |        1270 | spectra_subsetting                                            
⠼ |        1285 | spectra_subsetting                                            
⠏ |        1300 | spectra_subsetting                                            
⠼ |        1315 | spectra_subsetting                                            
⠏ |        1330 | spectra_subsetting                                            
⠼ |        1345 | spectra_subsetting                                            
⠏ |        1360 | spectra_subsetting                                            
⠼ |        1375 | spectra_subsetting                                            
⠦ |        1387 | spectra_subsetting                                            
⠙ |        1402 | spectra_subsetting                                            
⠸ |        1414 | spectra_subsetting                                            
⠹ |        1423 | spectra_subsetting                                            
⠼ |        1435 | spectra_subsetting                                            
⠏ |        1450 | spectra_subsetting                                            
⠹ |        1463 | spectra_subsetting                                            
⠦ |        1477 | spectra_subsetting                                            
⠋ |        1491 | spectra_subsetting                                            
⠸ |        1504 | spectra_subsetting                                            
⠇ |        1519 | spectra_subsetting                                            
⠋ |        1531 | spectra_subsetting                                            
⠴ |        1546 | spectra_subsetting                                            
⠋ |        1561 | spectra_subsetting                                            
⠸ |        1574 | spectra_subsetting                                            
⠧ |        1588 | spectra_subsetting                                            
⠋ |        1601 | spectra_subsetting                                            
⠼ |        1615 | spectra_subsetting                                            
⠏ |        1630 | spectra_subsetting                                            
⠙ |        1642 | spectra_subsetting                                            
⠦ |        1657 | spectra_subsetting                                            
⠏ |        1670 | spectra_subsetting                                            
⠸ |        1684 | spectra_subsetting                                            
⠇ |        1699 | spectra_subsetting                                            
⠙ |        1712 | spectra_subsetting                                            
⠴ |        1726 | spectra_subsetting                                            
⠧ |        1728 | spectra_subsetting                                            
⠏ |        1730 | spectra_subsetting                                            
⠙ |        1732 | spectra_subsetting                                            
⠸ |        1734 | spectra_subsetting                                            
⠴ |        1736 | spectra_subsetting                                            
⠧ |        1738 | spectra_subsetting                                            
⠏ |        1740 | spectra_subsetting                                            
⠙ |        1742 | spectra_subsetting                                            
⠼ |        1745 | spectra_subsetting                                            
⠦ |        1747 | spectra_subsetting                                            
⠇ |        1749 | spectra_subsetting                                            
⠋ |        1751 | spectra_subsetting                                            
⠹ |        1753 | spectra_subsetting                                            
⠼ |        1755 | spectra_subsetting                                            
⠦ |        1757 | spectra_subsetting                                            
⠇ |        1759 | spectra_subsetting                                            
⠙ |        1762 | spectra_subsetting                                            
⠸ |        1764 | spectra_subsetting                                            
⠴ |        1766 | spectra_subsetting                                            
⠧ |        1768 | spectra_subsetting                                            
⠏ |        1770 | spectra_subsetting                                            
⠙ |        1772 | spectra_subsetting                                            
⠸ |        1774 | spectra_subsetting                                            
⠴ |        1776 | spectra_subsetting                                            
⠧ |        1778 | spectra_subsetting                                            
⠏ |        1780 | spectra_subsetting                                            
⠙ |        1782 | spectra_subsetting                                            
⠸ |        1784 | spectra_subsetting                                            
⠴ |        1786 | spectra_subsetting                                            
⠧ |        1788 | spectra_subsetting                                            
⠏ |        1790 | spectra_subsetting                                            
⠙ |        1792 | spectra_subsetting                                            
⠸ |        1794 | spectra_subsetting                                            
⠴ |        1796 | spectra_subsetting                                            
⠧ |        1798 | spectra_subsetting                                            
⠏ |        1800 | spectra_subsetting                                            
⠙ |        1802 | spectra_subsetting                                            
⠸ |        1804 | spectra_subsetting                                            
⠴ |        1806 | spectra_subsetting                                            
⠧ |        1808 | spectra_subsetting                                            
⠏ |        1810 | spectra_subsetting                                            
⠙ |        1812 | spectra_subsetting                                            
⠸ |        1814 | spectra_subsetting                                            
⠴ |        1816 | spectra_subsetting                                            
⠧ |        1818 | spectra_subsetting                                            
⠏ |        1820 | spectra_subsetting                                            
⠙ |        1822 | spectra_subsetting                                            
⠸ |        1824 | spectra_subsetting                                            
⠴ |        1826 | spectra_subsetting                                            
⠧ |        1828 | spectra_subsetting                                            
⠏ |        1830 | spectra_subsetting                                            
⠙ |        1832 | spectra_subsetting                                            
⠸ |        1834 | spectra_subsetting                                            
⠴ |        1836 | spectra_subsetting                                            
⠧ |        1838 | spectra_subsetting                                            
⠏ |        1840 | spectra_subsetting                                            
⠙ |        1842 | spectra_subsetting                                            
⠸ |        1844 | spectra_subsetting                                            
⠴ |        1846 | spectra_subsetting                                            
⠧ |        1848 | spectra_subsetting                                            
⠏ |        1850 | spectra_subsetting                                            
⠙ |        1852 | spectra_subsetting                                            
⠸ |        1854 | spectra_subsetting                                            
⠴ |        1856 | spectra_subsetting                                            
⠧ |        1858 | spectra_subsetting                                            
⠏ |        1860 | spectra_subsetting                                            
⠙ |        1862 | spectra_subsetting                                            
⠸ |        1864 | spectra_subsetting                                            
⠴ |        1866 | spectra_subsetting                                            
⠧ |        1868 | spectra_subsetting                                            
⠏ |        1870 | spectra_subsetting                                            
⠙ |        1872 | spectra_subsetting                                            
⠸ |        1874 | spectra_subsetting                                            
⠴ |        1876 | spectra_subsetting                                            
⠧ |        1878 | spectra_subsetting                                            
⠏ |        1880 | spectra_subsetting                                            
⠙ |        1882 | spectra_subsetting                                            
⠸ |        1884 | spectra_subsetting                                            
⠴ |        1886 | spectra_subsetting                                            
⠧ |        1888 | spectra_subsetting                                            
⠏ |        1890 | spectra_subsetting                                            
⠋ |        1891 | spectra_subsetting                                            
⠹ |        1893 | spectra_subsetting                                            
⠼ |        1895 | spectra_subsetting                                            
⠦ |        1897 | spectra_subsetting                                            
⠇ |        1899 | spectra_subsetting                                            
⠋ |        1901 | spectra_subsetting                                            
⠸ |        1904 | spectra_subsetting                                            
⠴ |        1906 | spectra_subsetting                                            
⠇ |        1909 | spectra_subsetting                                            
⠋ |        1911 | spectra_subsetting                                            
⠹ |        1913 | spectra_subsetting                                            
⠼ |        1915 | spectra_subsetting                                            
⠧ |        1918 | spectra_subsetting                                            
⠋ |        1921 | spectra_subsetting                                            
⠹ |        1923 | spectra_subsetting                                            
⠴ |        1926 | spectra_subsetting                                            
⠧ |        1928 | spectra_subsetting                                            
⠋ |        1931 | spectra_subsetting                                            
⠹ |        1933 | spectra_subsetting                                            
⠼ |        1935 | spectra_subsetting                                            
⠦ |        1937 | spectra_subsetting                                            
⠇ |        1939 | spectra_subsetting                                            
⠋ |        1941 | spectra_subsetting                                            
⠹ |        1943 | spectra_subsetting                                            
⠼ |        1945 | spectra_subsetting                                            
⠧ |        1948 | spectra_subsetting                                            
⠏ |        1950 | spectra_subsetting                                            
⠹ |        1953 | spectra_subsetting                                            
⠴ |        1956 | spectra_subsetting                                            
⠇ |        1959 | spectra_subsetting                                            
⠙ |        1962 | spectra_subsetting                                            
⠸ |        1964 | spectra_subsetting                                            
⠦ |        1967 | spectra_subsetting                                            
⠇ |        1969 | spectra_subsetting                                            
⠙ |        1972 | spectra_subsetting                                            
⠼ |        1975 | spectra_subsetting                                            
⠦ |        1977 | spectra_subsetting                                            
⠏ |        1980 | spectra_subsetting                                            
⠹ |        1983 | spectra_subsetting                                            
⠴ |        1986 | spectra_subsetting                                            
⠇ |        1989 | spectra_subsetting                                            
⠋ |        1991 | spectra_subsetting                                            
⠸ |        1994 | spectra_subsetting                                            
⠴ |        1996 | spectra_subsetting                                            
⠧ |        1998 | spectra_subsetting                                            
⠏ |        2000 | spectra_subsetting                                            
⠹ |        2003 | spectra_subsetting                                            
⠴ |        2006 | spectra_subsetting                                            
⠧ |        2008 | spectra_subsetting                                            
⠏ |        2010 | spectra_subsetting                                            
⠙ |        2012 | spectra_subsetting                                            
⠸ |        2014 | spectra_subsetting                                            
⠦ |        2017 | spectra_subsetting                                            
⠏ |        2020 | spectra_subsetting                                            
⠹ |        2023 | spectra_subsetting                                            
⠴ |        2026 | spectra_subsetting                                            
⠇ |        2029 | spectra_subsetting                                            
⠙ |        2032 | spectra_subsetting                                            
⠼ |        2035 | spectra_subsetting                                            
⠧ |        2038 | spectra_subsetting                                            
⠏ |        2040 | spectra_subsetting                                            
⠹ |        2043 | spectra_subsetting                                            
⠼ |        2045 | spectra_subsetting                                            
⠧ |        2048 | spectra_subsetting                                            
⠏ |        2050 | spectra_subsetting                                            
⠹ |        2053 | spectra_subsetting                                            
⠼ |        2055 | spectra_subsetting                                            
⠧ |        2058 | spectra_subsetting                                            
⠋ |        2061 | spectra_subsetting                                            
⠹ |        2063 | spectra_subsetting                                            
⠴ |        2066 | spectra_subsetting                                            
⠇ |        2069 | spectra_subsetting                                            
⠙ |        2072 | spectra_subsetting                                            
⠼ |        2075 | spectra_subsetting                                            
⠦ |        2077 | spectra_subsetting                                            
⠇ |        2079 | spectra_subsetting                                            
⠋ |        2081 | spectra_subsetting                                            
⠸ |        2084 | spectra_subsetting                                            
⠴ |        2086 | spectra_subsetting                                            
⠇ |        2089 | spectra_subsetting                                            
⠋ |        2091 | spectra_subsetting                                            
⠸ |        2094 | spectra_subsetting                                            
⠦ |        2097 | spectra_subsetting                                            
⠇ |        2099 | spectra_subsetting                                            
⠙ |        2102 | spectra_subsetting                                            
⠼ |        2105 | spectra_subsetting                                            
⠧ |        2108 | spectra_subsetting                                            
⠋ |        2111 | spectra_subsetting                                            
⠹ |        2113 | spectra_subsetting                                            
⠴ |        2116 | spectra_subsetting                                            
⠇ |        2119 | spectra_subsetting                                            
⠋ |        2121 | spectra_subsetting                                            
⠸ |        2124 | spectra_subsetting                                            
⠴ |        2126 | spectra_subsetting                                            
⠇ |        2129 | spectra_subsetting                                            
⠙ |        2132 | spectra_subsetting                                            
⠼ |        2135 | spectra_subsetting                                            
⠧ |        2138 | spectra_subsetting                                            
⠋ |        2141 | spectra_subsetting                                            
⠸ |        2144 | spectra_subsetting                                            
⠦ |        2147 | spectra_subsetting                                            
⠇ |        2149 | spectra_subsetting                                            
⠙ |        2152 | spectra_subsetting                                            
⠸ |        2154 | spectra_subsetting                                            
⠦ |        2157 | spectra_subsetting                                            
⠏ |        2160 | spectra_subsetting                                            
⠙ |        2162 | spectra_subsetting                                            
⠼ |        2165 | spectra_subsetting                                            
⠧ |        2168 | spectra_subsetting                                            
⠋ |        2171 | spectra_subsetting                                            
⠸ |        2174 | spectra_subsetting                                            
⠴ |        2176 | spectra_subsetting                                            
⠇ |        2179 | spectra_subsetting                                            
⠙ |        2182 | spectra_subsetting                                            
⠼ |        2185 | spectra_subsetting                                            
⠧ |        2188 | spectra_subsetting                                            
⠋ |        2191 | spectra_subsetting                                            
⠸ |        2194 | spectra_subsetting                                            
⠦ |        2197 | spectra_subsetting                                            
⠏ |        2200 | spectra_subsetting                                            
⠙ |        2202 | spectra_subsetting                                            
⠼ |        2205 | spectra_subsetting                                            
⠦ |        2207 | spectra_subsetting                                            
⠇ |        2209 | spectra_subsetting                                            
⠋ |        2211 | spectra_subsetting                                            
⠸ |        2214 | spectra_subsetting                                            
⠦ |        2217 | spectra_subsetting                                            
⠏ |        2220 | spectra_subsetting                                            
⠹ |        2223 | spectra_subsetting                                            
⠼ |        2225 | spectra_subsetting                                            
⠧ |        2228 | spectra_subsetting                                            
⠏ |        2230 | spectra_subsetting                                            
⠹ |        2233 | spectra_subsetting                                            
⠼ |        2235 | spectra_subsetting                                            
⠧ |        2238 | spectra_subsetting                                            
⠋ |        2241 | spectra_subsetting                                            
⠸ |        2244 | spectra_subsetting                                            
⠦ |        2247 | spectra_subsetting                                            
⠏ |        2250 | spectra_subsetting                                            
⠙ |        2252 | spectra_subsetting                                            
⠼ |        2255 | spectra_subsetting                                            
⠦ |        2257 | spectra_subsetting                                            
⠏ |        2260 | spectra_subsetting                                            
⠙ |        2262 | spectra_subsetting                                            
⠼ |        2265 | spectra_subsetting                                            
⠧ |        2268 | spectra_subsetting                                            
⠏ |        2270 | spectra_subsetting                                            
⠹ |        2273 | spectra_subsetting                                            
⠼ |        2275 | spectra_subsetting                                            
⠧ |        2278 | spectra_subsetting                                            
⠏ |        2280 | spectra_subsetting                                            
⠹ |        2283 | spectra_subsetting                                            
⠴ |        2286 | spectra_subsetting                                            
⠧ |        2288 | spectra_subsetting                                            
⠋ |        2291 | spectra_subsetting                                            
⠹ |        2293 | spectra_subsetting                                            
⠴ |        2296 | spectra_subsetting                                            
⠇ |        2299 | spectra_subsetting                                            
⠹ |        2303 | spectra_subsetting                                            
⠙ |        2312 | spectra_subsetting                                            
⠇ |        2319 | spectra_subsetting                                            
⠇ |        2329 | spectra_subsetting                                            
⠸ |        2334 | spectra_subsetting                                            
✔ |        2342 | spectra_subsetting [44.5s]

⠏ |          0 | spectra_variables                                              
⠙ |         12 | spectra_variables                                              
⠸ |         14 | spectra_variables                                              
⠴ |         16 | spectra_variables                                              
⠦ |         27 | spectra_variables                                              
⠇ |         29 | spectra_variables                                              
⠋ |         31 | spectra_variables                                              
⠹ |         43 | spectra_variables                                              
⠦ |      1  56 | spectra_variables                                              
✔ |      1  62 | spectra_variables [14.8s]

══ Results ═════════════════════════════════════════════════════════════════════
Duration: 63.4 s

── Skipped tests (1) ───────────────────────────────────────────────────────────
• empty test (1): 'test_spectra_variables.R:262:1'

[ FAIL 0 | WARN 0 | SKIP 1 | PASS 2408 ]
> 
> proc.time()
   user  system elapsed 
 85.665   8.423  96.568 

Example timings

MsBackendRawFileReader.Rcheck/MsBackendRawFileReader-Ex.timings

nameusersystemelapsed
MsBackendRawFileReader-class3.1270.7944.284
MsBackendRawFileReader6.5912.2139.344
hidden_aliases2.0610.7823.015
ioBenchmark30.927 6.23011.661