Back to Build/check report for BioC 3.23:   simplified   long
ABCDEFGHIJKL[M]NOPQRSTUVWXYZ

This page was generated on 2025-11-05 11:32 -0500 (Wed, 05 Nov 2025).

HostnameOSArch (*)R versionInstalled pkgs
nebbiolo1Linux (Ubuntu 24.04.3 LTS)x86_64R Under development (unstable) (2025-10-20 r88955) -- "Unsuffered Consequences" 4818
Click on any hostname to see more info about the system (e.g. compilers)      (*) as reported by 'uname -p', except on Windows and Mac OS X

All results for package MsCoreUtils


To the developers/maintainers of the MsCoreUtils package:
- Allow up to 24 hours (and sometimes 48 hours) for your latest push to git@git.bioconductor.org:packages/MsCoreUtils.git to reflect on this report. See Troubleshooting Build Report for more information.
- Use the following Renviron settings to reproduce errors and warnings.
- If 'R CMD check' started to fail recently on the Linux builder(s) over a missing dependency, add the missing dependency to 'Suggests:' in your DESCRIPTION file. See Renviron.bioc for more information.

raw results

Package 1359/2323HostnameOS / ArchINSTALLBUILDCHECKBUILD BIN
MsCoreUtils 1.23.0  (landing page)
RforMassSpectrometry Package Maintainer
Snapshot Date: 2025-11-04 13:40 -0500 (Tue, 04 Nov 2025)
git_url: https://git.bioconductor.org/packages/MsCoreUtils
git_branch: devel
git_last_commit: 4645c9d
git_last_commit_date: 2025-10-29 10:58:28 -0500 (Wed, 29 Oct 2025)
nebbiolo1Linux (Ubuntu 24.04.3 LTS) / x86_64  OK    OK    ERROR  



Results for Bioconductor software packages that depend directly on package MsCoreUtils

QUICK STATSOS / ArchINSTALLBUILDCHECKBUILD BIN
nebbiolo1Linux (Ubuntu 24.04.3 LTS) / x86_64
0022
0022
00121
Package 1/22HostnameOS / ArchINSTALLBUILDCHECKBUILD BIN
Chromatograms 1.1.0  (landing page)
Philippine Louail
git_last_commit: c10498e
git_last_commit_date: 2025-10-29 11:37:38 -0500
nebbiolo1Linux (Ubuntu 24.04.3 LTS) / x86_64  OK    OK    OK  UNNEEDED, same version is already published
Package 2/22HostnameOS / ArchINSTALLBUILDCHECKBUILD BIN
CompoundDb 1.15.0  (landing page)
Johannes Rainer
git_last_commit: c48af8f
git_last_commit_date: 2025-10-29 11:14:42 -0500
nebbiolo1Linux (Ubuntu 24.04.3 LTS) / x86_64  OK    OK    OK  UNNEEDED, same version is already published
Package 3/22HostnameOS / ArchINSTALLBUILDCHECKBUILD BIN
hdxmsqc 1.7.0  (landing page)
Oliver M. Crook
git_last_commit: 1520631
git_last_commit_date: 2025-10-29 11:29:31 -0500
nebbiolo1Linux (Ubuntu 24.04.3 LTS) / x86_64  OK    OK    OK  UNNEEDED, same version is already published
Package 4/22HostnameOS / ArchINSTALLBUILDCHECKBUILD BIN
MetaboAnnotation 1.15.0  (landing page)
Johannes Rainer
git_last_commit: 0232707
git_last_commit_date: 2025-10-29 11:14:44 -0500
nebbiolo1Linux (Ubuntu 24.04.3 LTS) / x86_64  OK    OK    OK  UNNEEDED, same version is already published
Package 5/22HostnameOS / ArchINSTALLBUILDCHECKBUILD BIN
MetaboCoreUtils 1.19.0  (landing page)
Johannes Rainer
git_last_commit: 540e625
git_last_commit_date: 2025-10-29 11:06:05 -0500
nebbiolo1Linux (Ubuntu 24.04.3 LTS) / x86_64  OK    OK    OK  UNNEEDED, same version is already published
Package 6/22HostnameOS / ArchINSTALLBUILDCHECKBUILD BIN
MetCirc 1.41.0  (landing page)
Thomas Naake
git_last_commit: ed1872d
git_last_commit_date: 2025-10-29 10:32:46 -0500
nebbiolo1Linux (Ubuntu 24.04.3 LTS) / x86_64  OK    OK    OK  UNNEEDED, same version is already published
Package 7/22HostnameOS / ArchINSTALLBUILDCHECKBUILD BIN
MsBackendMassbank 1.19.0  (landing page)
RforMassSpectrometry Package Maintainer
git_last_commit: 1e6d7b3
git_last_commit_date: 2025-10-29 11:06:30 -0500
nebbiolo1Linux (Ubuntu 24.04.3 LTS) / x86_64  OK    OK    OK  UNNEEDED, same version is already published
Package 8/22HostnameOS / ArchINSTALLBUILDCHECKBUILD BIN
MsBackendMgf 1.19.0  (landing page)
RforMassSpectrometry Package Maintainer
git_last_commit: 3de3a3e
git_last_commit_date: 2025-10-29 11:06:57 -0500
nebbiolo1Linux (Ubuntu 24.04.3 LTS) / x86_64  OK    OK    OK  UNNEEDED, same version is already published
Package 9/22HostnameOS / ArchINSTALLBUILDCHECKBUILD BIN
MsBackendMsp 1.15.0  (landing page)
Johannes Rainer
git_last_commit: 4b37244
git_last_commit_date: 2025-10-29 11:15:06 -0500
nebbiolo1Linux (Ubuntu 24.04.3 LTS) / x86_64  OK    OK    OK  UNNEEDED, same version is already published
Package 10/22HostnameOS / ArchINSTALLBUILDCHECKBUILD BIN
MsBackendRawFileReader 1.17.0  (landing page)
Christian Panse
git_last_commit: c509d56
git_last_commit_date: 2025-10-29 11:12:57 -0500
nebbiolo1Linux (Ubuntu 24.04.3 LTS) / x86_64  OK    OK    OK  UNNEEDED, same version is already published
Package 11/22HostnameOS / ArchINSTALLBUILDCHECKBUILD BIN
MsBackendSql 1.11.1  (landing page)
Johannes Rainer
git_last_commit: c6833d3
git_last_commit_date: 2025-11-03 06:57:03 -0500
nebbiolo1Linux (Ubuntu 24.04.3 LTS) / x86_64  OK    OK    OK  UNNEEDED, same version is already published
Package 12/22HostnameOS / ArchINSTALLBUILDCHECKBUILD BIN
MsFeatures 1.19.0  (landing page)
Johannes Rainer
git_last_commit: e8548f3
git_last_commit_date: 2025-10-29 11:06:00 -0500
nebbiolo1Linux (Ubuntu 24.04.3 LTS) / x86_64  OK    OK    OK  UNNEEDED, same version is already published
Package 13/22HostnameOS / ArchINSTALLBUILDCHECKBUILD BIN
MSnbase 2.37.0  (landing page)
Laurent Gatto
git_last_commit: 3ca1ea4
git_last_commit_date: 2025-10-29 10:06:57 -0500
nebbiolo1Linux (Ubuntu 24.04.3 LTS) / x86_64  OK    OK    OK  UNNEEDED, same version is already published
Package 14/22HostnameOS / ArchINSTALLBUILDCHECKBUILD BIN
PSMatch 1.15.0  (landing page)
Laurent Gatto
git_last_commit: 269b755
git_last_commit_date: 2025-10-29 11:15:29 -0500
nebbiolo1Linux (Ubuntu 24.04.3 LTS) / x86_64  OK    OK    OK  UNNEEDED, same version is already published
Package 15/22HostnameOS / ArchINSTALLBUILDCHECKBUILD BIN
QFeatures 1.21.0  (landing page)
Laurent Gatto
git_last_commit: 9863a56
git_last_commit_date: 2025-10-29 11:01:30 -0500
nebbiolo1Linux (Ubuntu 24.04.3 LTS) / x86_64  OK    OK    OK  UNNEEDED, same version is already published
Package 16/22HostnameOS / ArchINSTALLBUILDCHECKBUILD BIN
qmtools 1.15.0  (landing page)
Jaehyun Joo
git_last_commit: ea14738
git_last_commit_date: 2025-10-29 11:16:09 -0500
nebbiolo1Linux (Ubuntu 24.04.3 LTS) / x86_64  OK    OK    OK  UNNEEDED, same version is already published
Package 17/22HostnameOS / ArchINSTALLBUILDCHECKBUILD BIN
scp 1.21.0  (landing page)
Christophe Vanderaa
git_last_commit: c32536b
git_last_commit_date: 2025-10-29 11:03:14 -0500
nebbiolo1Linux (Ubuntu 24.04.3 LTS) / x86_64  OK    OK    WARNINGS  UNNEEDED, same version is already published
Package 18/22HostnameOS / ArchINSTALLBUILDCHECKBUILD BIN
SmartPhos 1.1.0  (landing page)
Shubham Agrawal
git_last_commit: 9abaf07
git_last_commit_date: 2025-10-29 11:38:54 -0500
nebbiolo1Linux (Ubuntu 24.04.3 LTS) / x86_64  OK    OK    OK  NO, package depends on 'proDA' which is not available
Package 19/22HostnameOS / ArchINSTALLBUILDCHECKBUILD BIN
Spectra 1.21.0  (landing page)
RforMassSpectrometry Package Maintainer
git_last_commit: 3a71e5d
git_last_commit_date: 2025-10-29 11:01:49 -0500
nebbiolo1Linux (Ubuntu 24.04.3 LTS) / x86_64  OK    OK    OK  UNNEEDED, same version is already published
Package 20/22HostnameOS / ArchINSTALLBUILDCHECKBUILD BIN
SpectraQL 1.5.0  (landing page)
Johannes Rainer
git_last_commit: 5d7973b
git_last_commit_date: 2025-10-29 11:31:53 -0500
nebbiolo1Linux (Ubuntu 24.04.3 LTS) / x86_64  OK    OK    OK  UNNEEDED, same version is already published
Package 21/22HostnameOS / ArchINSTALLBUILDCHECKBUILD BIN
SpectriPy 1.1.0  (landing page)
Johannes Rainer
git_last_commit: 09e5773
git_last_commit_date: 2025-10-29 11:36:52 -0500
nebbiolo1Linux (Ubuntu 24.04.3 LTS) / x86_64  OK    OK    OK  UNNEEDED, same version is already published
Package 22/22HostnameOS / ArchINSTALLBUILDCHECKBUILD BIN
xcms 4.9.0  (landing page)
Steffen Neumann
git_last_commit: 3321e90
git_last_commit_date: 2025-10-29 09:56:19 -0500
nebbiolo1Linux (Ubuntu 24.04.3 LTS) / x86_64  OK    OK    OK  UNNEEDED, same version is already published