| Back to Multiple platform build/check report for BioC 3.22: simplified long |
|
This page was generated on 2025-10-25 12:04 -0400 (Sat, 25 Oct 2025).
| Hostname | OS | Arch (*) | R version | Installed pkgs |
|---|---|---|---|---|
| nebbiolo2 | Linux (Ubuntu 24.04.3 LTS) | x86_64 | 4.5.1 Patched (2025-08-23 r88802) -- "Great Square Root" | 4901 |
| lconway | macOS 12.7.6 Monterey | x86_64 | 4.5.1 Patched (2025-09-10 r88807) -- "Great Square Root" | 4691 |
| kjohnson3 | macOS 13.7.7 Ventura | arm64 | 4.5.1 Patched (2025-09-10 r88807) -- "Great Square Root" | 4637 |
| taishan | Linux (openEuler 24.03 LTS) | aarch64 | 4.5.0 (2025-04-11) -- "How About a Twenty-Six" | 4658 |
| Click on any hostname to see more info about the system (e.g. compilers) (*) as reported by 'uname -p', except on Windows and Mac OS X | ||||
| Package 2094/2361 | Hostname | OS / Arch | INSTALL | BUILD | CHECK | BUILD BIN | ||||||||
| SpectriPy 0.99.13 (landing page) Johannes Rainer
| nebbiolo2 | Linux (Ubuntu 24.04.3 LTS) / x86_64 | OK | OK | OK | |||||||||
| lconway | macOS 12.7.6 Monterey / x86_64 | OK | OK | WARNINGS | OK | |||||||||
| kjohnson3 | macOS 13.7.7 Ventura / arm64 | ERROR | ERROR | skipped | skipped | |||||||||
| taishan | Linux (openEuler 24.03 LTS) / aarch64 | OK | NA | NA | ||||||||||
|
To the developers/maintainers of the SpectriPy package: - Allow up to 24 hours (and sometimes 48 hours) for your latest push to git@git.bioconductor.org:packages/SpectriPy.git to reflect on this report. See Troubleshooting Build Report for more information. - Use the following Renviron settings to reproduce errors and warnings. - If 'R CMD check' started to fail recently on the Linux builder(s) over a missing dependency, add the missing dependency to 'Suggests:' in your DESCRIPTION file. See Renviron.bioc for more information. |
| Package: SpectriPy |
| Version: 0.99.13 |
| Command: /home/biocbuild/bbs-3.22-bioc/R/bin/R CMD check --install=check:SpectriPy.install-out.txt --library=/home/biocbuild/bbs-3.22-bioc/R/site-library --timings SpectriPy_0.99.13.tar.gz |
| StartedAt: 2025-10-25 04:31:03 -0400 (Sat, 25 Oct 2025) |
| EndedAt: 2025-10-25 04:44:09 -0400 (Sat, 25 Oct 2025) |
| EllapsedTime: 786.8 seconds |
| RetCode: 0 |
| Status: OK |
| CheckDir: SpectriPy.Rcheck |
| Warnings: 0 |
##############################################################################
##############################################################################
###
### Running command:
###
### /home/biocbuild/bbs-3.22-bioc/R/bin/R CMD check --install=check:SpectriPy.install-out.txt --library=/home/biocbuild/bbs-3.22-bioc/R/site-library --timings SpectriPy_0.99.13.tar.gz
###
##############################################################################
##############################################################################
* using log directory ‘/home/biocbuild/bbs-3.22-bioc/meat/SpectriPy.Rcheck’
* using R version 4.5.1 Patched (2025-08-23 r88802)
* using platform: x86_64-pc-linux-gnu
* R was compiled by
gcc (Ubuntu 13.3.0-6ubuntu2~24.04) 13.3.0
GNU Fortran (Ubuntu 13.3.0-6ubuntu2~24.04) 13.3.0
* running under: Ubuntu 24.04.3 LTS
* using session charset: UTF-8
* checking for file ‘SpectriPy/DESCRIPTION’ ... OK
* this is package ‘SpectriPy’ version ‘0.99.13’
* package encoding: UTF-8
* checking package namespace information ... OK
* checking package dependencies ... OK
* checking if this is a source package ... OK
* checking if there is a namespace ... OK
* checking for hidden files and directories ... OK
* checking for portable file names ... OK
* checking for sufficient/correct file permissions ... OK
* checking whether package ‘SpectriPy’ can be installed ... OK
* checking installed package size ... OK
* checking package directory ... OK
* checking ‘build’ directory ... OK
* checking DESCRIPTION meta-information ... OK
* checking top-level files ... OK
* checking for left-over files ... OK
* checking index information ... OK
* checking package subdirectories ... OK
* checking code files for non-ASCII characters ... OK
* checking R files for syntax errors ... OK
* checking whether the package can be loaded ... OK
* checking whether the package can be loaded with stated dependencies ... OK
* checking whether the package can be unloaded cleanly ... OK
* checking whether the namespace can be loaded with stated dependencies ... OK
* checking whether the namespace can be unloaded cleanly ... OK
* checking loading without being on the library search path ... OK
* checking whether startup messages can be suppressed ... OK
* checking dependencies in R code ... NOTE
Unexported object imported by a ':::' call: ‘Spectra:::.check_peaks_data_value’
See the note in ?`:::` about the use of this operator.
* checking S3 generic/method consistency ... OK
* checking replacement functions ... OK
* checking foreign function calls ... OK
* checking R code for possible problems ... OK
* checking Rd files ... OK
* checking Rd metadata ... OK
* checking Rd cross-references ... OK
* checking for missing documentation entries ... OK
* checking for code/documentation mismatches ... OK
* checking Rd \usage sections ... OK
* checking Rd contents ... OK
* checking for unstated dependencies in examples ... OK
* checking files in ‘vignettes’ ... OK
* checking examples ... OK
Examples with CPU (user + system) or elapsed time > 5s
user system elapsed
MsBackendPy 5.293 0.851 6.005
* checking for unstated dependencies in ‘tests’ ... OK
* checking tests ...
Running ‘testthat.R’
OK
* checking for unstated dependencies in vignettes ... OK
* checking package vignettes ... OK
* checking re-building of vignette outputs ... OK
* checking PDF version of manual ... OK
* DONE
Status: 1 NOTE
See
‘/home/biocbuild/bbs-3.22-bioc/meat/SpectriPy.Rcheck/00check.log’
for details.
SpectriPy.Rcheck/00install.out
############################################################################## ############################################################################## ### ### Running command: ### ### /home/biocbuild/bbs-3.22-bioc/R/bin/R CMD INSTALL SpectriPy ### ############################################################################## ############################################################################## * installing to library ‘/home/biocbuild/bbs-3.22-bioc/R/site-library’ * installing *source* package ‘SpectriPy’ ... ** this is package ‘SpectriPy’ version ‘0.99.13’ ** using staged installation ** R ** inst ** byte-compile and prepare package for lazy loading ** help *** installing help indices *** copying figures ** building package indices ** installing vignettes ** testing if installed package can be loaded from temporary location ** testing if installed package can be loaded from final location ** testing if installed package keeps a record of temporary installation path * DONE (SpectriPy)
SpectriPy.Rcheck/tests/testthat.Rout
R version 4.5.1 Patched (2025-08-23 r88802) -- "Great Square Root"
Copyright (C) 2025 The R Foundation for Statistical Computing
Platform: x86_64-pc-linux-gnu
R is free software and comes with ABSOLUTELY NO WARRANTY.
You are welcome to redistribute it under certain conditions.
Type 'license()' or 'licence()' for distribution details.
R is a collaborative project with many contributors.
Type 'contributors()' for more information and
'citation()' on how to cite R or R packages in publications.
Type 'demo()' for some demos, 'help()' for on-line help, or
'help.start()' for an HTML browser interface to help.
Type 'q()' to quit R.
> library(testthat)
> library(Spectra)
Loading required package: S4Vectors
Loading required package: stats4
Loading required package: BiocGenerics
Loading required package: generics
Attaching package: 'generics'
The following objects are masked from 'package:base':
as.difftime, as.factor, as.ordered, intersect, is.element, setdiff,
setequal, union
Attaching package: 'BiocGenerics'
The following objects are masked from 'package:stats':
IQR, mad, sd, var, xtabs
The following objects are masked from 'package:base':
Filter, Find, Map, Position, Reduce, anyDuplicated, aperm, append,
as.data.frame, basename, cbind, colnames, dirname, do.call,
duplicated, eval, evalq, get, grep, grepl, is.unsorted, lapply,
mapply, match, mget, order, paste, pmax, pmax.int, pmin, pmin.int,
rank, rbind, rownames, sapply, saveRDS, table, tapply, unique,
unsplit, which.max, which.min
Attaching package: 'S4Vectors'
The following object is masked from 'package:utils':
findMatches
The following objects are masked from 'package:base':
I, expand.grid, unname
Loading required package: BiocParallel
> library(SpectriPy)
Loading required package: reticulate
> library(MsBackendMgf)
>
> fl <- system.file("extdata", "mgf", "test.mgf", package = "SpectriPy")
> s <- Spectra(fl, source = MsBackendMgf())
Start data import from 1 files ... done
> s <- setBackend(s, MsBackendPy(), pythonVariableName = "py_be")
>
> be <- s@backend
>
> test_check("SpectriPy")
2025-10-25 04:35:33,531:WARNING:matchms:add_precursor_mz:No precursor_mz found in metadata.
2025-10-25 04:35:33,532:WARNING:matchms:add_precursor_mz:No precursor_mz found in metadata.
2025-10-25 04:35:33,533:WARNING:matchms:add_precursor_mz:No precursor_mz found in metadata.
2025-10-25 04:35:33,534:WARNING:matchms:add_precursor_mz:No precursor_mz found in metadata.
2025-10-25 04:35:33,535:WARNING:matchms:add_precursor_mz:No precursor_mz found in metadata.
2025-10-25 04:35:33,536:WARNING:matchms:add_precursor_mz:No precursor_mz found in metadata.
2025-10-25 04:35:33,536:WARNING:matchms:add_precursor_mz:No precursor_mz found in metadata.
2025-10-25 04:35:33,537:WARNING:matchms:add_precursor_mz:No precursor_mz found in metadata.
2025-10-25 04:35:33,538:WARNING:matchms:add_precursor_mz:No precursor_mz found in metadata.
2025-10-25 04:35:33,538:WARNING:matchms:add_precursor_mz:No precursor_mz found in metadata.
2025-10-25 04:35:33,539:WARNING:matchms:add_precursor_mz:No precursor_mz found in metadata.
2025-10-25 04:35:33,540:WARNING:matchms:add_precursor_mz:No precursor_mz found in metadata.
2025-10-25 04:35:33,541:WARNING:matchms:add_precursor_mz:No precursor_mz found in metadata.
2025-10-25 04:35:33,541:WARNING:matchms:add_precursor_mz:No precursor_mz found in metadata.
2025-10-25 04:35:33,542:WARNING:matchms:add_precursor_mz:No precursor_mz found in metadata.
2025-10-25 04:35:33,543:WARNING:matchms:add_precursor_mz:No precursor_mz found in metadata.
2025-10-25 04:35:33,544:WARNING:matchms:add_precursor_mz:No precursor_mz found in metadata.
2025-10-25 04:35:33,544:WARNING:matchms:add_precursor_mz:No precursor_mz found in metadata.
2025-10-25 04:35:33,545:WARNING:matchms:add_precursor_mz:No precursor_mz found in metadata.
2025-10-25 04:35:33,546:WARNING:matchms:add_precursor_mz:No precursor_mz found in metadata.
2025-10-25 04:35:33,546:WARNING:matchms:add_precursor_mz:No precursor_mz found in metadata.
2025-10-25 04:35:33,547:WARNING:matchms:add_precursor_mz:No precursor_mz found in metadata.
2025-10-25 04:35:33,548:WARNING:matchms:add_precursor_mz:No precursor_mz found in metadata.
2025-10-25 04:35:33,549:WARNING:matchms:add_precursor_mz:No precursor_mz found in metadata.
2025-10-25 04:35:33,549:WARNING:matchms:add_precursor_mz:No precursor_mz found in metadata.
2025-10-25 04:35:33,550:WARNING:matchms:add_precursor_mz:No precursor_mz found in metadata.
2025-10-25 04:35:33,551:WARNING:matchms:add_precursor_mz:No precursor_mz found in metadata.
2025-10-25 04:35:33,551:WARNING:matchms:add_precursor_mz:No precursor_mz found in metadata.
2025-10-25 04:35:33,552:WARNING:matchms:add_precursor_mz:No precursor_mz found in metadata.
2025-10-25 04:35:33,553:WARNING:matchms:add_precursor_mz:No precursor_mz found in metadata.
2025-10-25 04:35:33,554:WARNING:matchms:add_precursor_mz:No precursor_mz found in metadata.
2025-10-25 04:35:33,554:WARNING:matchms:add_precursor_mz:No precursor_mz found in metadata.
2025-10-25 04:35:33,555:WARNING:matchms:add_precursor_mz:No precursor_mz found in metadata.
2025-10-25 04:35:33,556:WARNING:matchms:add_precursor_mz:No precursor_mz found in metadata.
2025-10-25 04:35:33,556:WARNING:matchms:add_precursor_mz:No precursor_mz found in metadata.
2025-10-25 04:35:33,557:WARNING:matchms:add_precursor_mz:No precursor_mz found in metadata.
2025-10-25 04:35:33,558:WARNING:matchms:add_precursor_mz:No precursor_mz found in metadata.
2025-10-25 04:35:33,559:WARNING:matchms:add_precursor_mz:No precursor_mz found in metadata.
2025-10-25 04:35:33,559:WARNING:matchms:add_precursor_mz:No precursor_mz found in metadata.
2025-10-25 04:35:33,560:WARNING:matchms:add_precursor_mz:No precursor_mz found in metadata.
2025-10-25 04:35:33,561:WARNING:matchms:add_precursor_mz:No precursor_mz found in metadata.
2025-10-25 04:35:33,561:WARNING:matchms:add_precursor_mz:No precursor_mz found in metadata.
2025-10-25 04:35:33,562:WARNING:matchms:add_precursor_mz:No precursor_mz found in metadata.
2025-10-25 04:35:33,563:WARNING:matchms:add_precursor_mz:No precursor_mz found in metadata.
2025-10-25 04:35:33,567:WARNING:matchms:add_precursor_mz:No precursor_mz found in metadata.
2025-10-25 04:35:33,567:WARNING:matchms:add_precursor_mz:No precursor_mz found in metadata.
2025-10-25 04:35:33,568:WARNING:matchms:add_precursor_mz:No precursor_mz found in metadata.
2025-10-25 04:35:33,569:WARNING:matchms:add_precursor_mz:No precursor_mz found in metadata.
2025-10-25 04:35:33,569:WARNING:matchms:add_precursor_mz:No precursor_mz found in metadata.
2025-10-25 04:35:33,570:WARNING:matchms:add_precursor_mz:No precursor_mz found in metadata.
2025-10-25 04:35:33,571:WARNING:matchms:add_precursor_mz:No precursor_mz found in metadata.
2025-10-25 04:35:33,572:WARNING:matchms:add_precursor_mz:No precursor_mz found in metadata.
2025-10-25 04:35:33,572:WARNING:matchms:add_precursor_mz:No precursor_mz found in metadata.
2025-10-25 04:35:33,573:WARNING:matchms:add_precursor_mz:No precursor_mz found in metadata.
2025-10-25 04:35:33,574:WARNING:matchms:add_precursor_mz:No precursor_mz found in metadata.
2025-10-25 04:35:33,574:WARNING:matchms:add_precursor_mz:No precursor_mz found in metadata.
2025-10-25 04:35:33,575:WARNING:matchms:add_precursor_mz:No precursor_mz found in metadata.
2025-10-25 04:35:33,576:WARNING:matchms:add_precursor_mz:No precursor_mz found in metadata.
2025-10-25 04:35:33,576:WARNING:matchms:add_precursor_mz:No precursor_mz found in metadata.
2025-10-25 04:35:33,577:WARNING:matchms:add_precursor_mz:No precursor_mz found in metadata.
2025-10-25 04:35:33,578:WARNING:matchms:add_precursor_mz:No precursor_mz found in metadata.
2025-10-25 04:35:33,579:WARNING:matchms:add_precursor_mz:No precursor_mz found in metadata.
2025-10-25 04:35:33,579:WARNING:matchms:add_precursor_mz:No precursor_mz found in metadata.
2025-10-25 04:35:33,580:WARNING:matchms:add_precursor_mz:No precursor_mz found in metadata.
2025-10-25 04:35:33,581:WARNING:matchms:add_precursor_mz:No precursor_mz found in metadata.
2025-10-25 04:35:33,582:WARNING:matchms:add_precursor_mz:No precursor_mz found in metadata.
2025-10-25 04:35:33,582:WARNING:matchms:add_precursor_mz:No precursor_mz found in metadata.
2025-10-25 04:35:33,583:WARNING:matchms:add_precursor_mz:No precursor_mz found in metadata.
2025-10-25 04:35:33,584:WARNING:matchms:add_precursor_mz:No precursor_mz found in metadata.
2025-10-25 04:35:33,584:WARNING:matchms:add_precursor_mz:No precursor_mz found in metadata.
2025-10-25 04:35:33,585:WARNING:matchms:add_precursor_mz:No precursor_mz found in metadata.
2025-10-25 04:35:33,586:WARNING:matchms:add_precursor_mz:No precursor_mz found in metadata.
2025-10-25 04:35:33,587:WARNING:matchms:add_precursor_mz:No precursor_mz found in metadata.
2025-10-25 04:35:33,587:WARNING:matchms:add_precursor_mz:No precursor_mz found in metadata.
2025-10-25 04:35:33,588:WARNING:matchms:add_precursor_mz:No precursor_mz found in metadata.
2025-10-25 04:35:33,589:WARNING:matchms:add_precursor_mz:No precursor_mz found in metadata.
2025-10-25 04:35:33,590:WARNING:matchms:add_precursor_mz:No precursor_mz found in metadata.
2025-10-25 04:35:33,590:WARNING:matchms:add_precursor_mz:No precursor_mz found in metadata.
2025-10-25 04:35:33,591:WARNING:matchms:add_precursor_mz:No precursor_mz found in metadata.
2025-10-25 04:35:33,592:WARNING:matchms:add_precursor_mz:No precursor_mz found in metadata.
2025-10-25 04:35:33,592:WARNING:matchms:add_precursor_mz:No precursor_mz found in metadata.
2025-10-25 04:35:33,593:WARNING:matchms:add_precursor_mz:No precursor_mz found in metadata.
2025-10-25 04:35:33,594:WARNING:matchms:add_precursor_mz:No precursor_mz found in metadata.
2025-10-25 04:35:33,595:WARNING:matchms:add_precursor_mz:No precursor_mz found in metadata.
2025-10-25 04:35:33,596:WARNING:matchms:add_precursor_mz:No precursor_mz found in metadata.
2025-10-25 04:35:33,596:WARNING:matchms:add_precursor_mz:No precursor_mz found in metadata.
2025-10-25 04:35:33,597:WARNING:matchms:add_precursor_mz:No precursor_mz found in metadata.
2025-10-25 04:35:33,598:WARNING:matchms:add_precursor_mz:No precursor_mz found in metadata.
2025-10-25 04:35:33,599:WARNING:matchms:add_precursor_mz:No precursor_mz found in metadata.
2025-10-25 04:35:33,599:WARNING:matchms:add_precursor_mz:No precursor_mz found in metadata.
2025-10-25 04:35:33,600:WARNING:matchms:add_precursor_mz:No precursor_mz found in metadata.
2025-10-25 04:35:33,601:WARNING:matchms:add_precursor_mz:No precursor_mz found in metadata.
2025-10-25 04:35:33,601:WARNING:matchms:add_precursor_mz:No precursor_mz found in metadata.
2025-10-25 04:35:33,602:WARNING:matchms:add_precursor_mz:No precursor_mz found in metadata.
2025-10-25 04:35:33,603:WARNING:matchms:add_precursor_mz:No precursor_mz found in metadata.
2025-10-25 04:35:33,604:WARNING:matchms:add_precursor_mz:No precursor_mz found in metadata.
2025-10-25 04:35:33,605:WARNING:matchms:add_precursor_mz:No precursor_mz found in metadata.
2025-10-25 04:35:33,605:WARNING:matchms:add_precursor_mz:No precursor_mz found in metadata.
2025-10-25 04:35:33,606:WARNING:matchms:add_precursor_mz:No precursor_mz found in metadata.
2025-10-25 04:35:33,607:WARNING:matchms:add_precursor_mz:No precursor_mz found in metadata.
Calculating similarities: 0%| | 0/4 [00:00<?, ?it/s]
Calculating similarities: 25%|██▌ | 1/4 [00:02<00:07, 2.57s/it]
Calculating similarities: 100%|██████████| 4/4 [00:02<00:00, 1.55it/s]
Calculating similarities: 0%| | 0/4 [00:00<?, ?it/s]
Calculating similarities: 100%|██████████| 4/4 [00:00<00:00, 4871.43it/s]
Calculating similarities: 0%| | 0/4 [00:00<?, ?it/s]
Calculating similarities: 100%|██████████| 4/4 [00:00<00:00, 2696.00it/s]
Calculating similarities: 0%| | 0/4 [00:00<?, ?it/s]
Calculating similarities: 100%|██████████| 4/4 [00:00<00:00, 5062.53it/s]
Calculating similarities: 0%| | 0/2 [00:00<?, ?it/s]
Calculating similarities: 100%|██████████| 2/2 [00:00<00:00, 6615.62it/s]
Calculating similarities: 0%| | 0/2 [00:00<?, ?it/s]
Calculating similarities: 100%|██████████| 2/2 [00:00<00:00, 4391.94it/s]
Calculating similarities: 0%| | 0/2 [00:00<?, ?it/s]
Calculating similarities: 100%|██████████| 2/2 [00:00<00:00, 5801.25it/s]
Calculating similarities: 0%| | 0/2 [00:00<?, ?it/s]
Calculating similarities: 100%|██████████| 2/2 [00:00<00:00, 2223.92it/s]
Calculating similarities: 0%| | 0/2 [00:00<?, ?it/s]
Calculating similarities: 100%|██████████| 2/2 [00:00<00:00, 3293.52it/s]
Calculating similarities: 0%| | 0/2 [00:00<?, ?it/s]
Calculating similarities: 100%|██████████| 2/2 [00:00<00:00, 3429.52it/s]
Calculating similarities: 0%| | 0/4 [00:00<?, ?it/s]
Calculating similarities: 50%|█████ | 2/4 [00:00<00:00, 2037.55it/s]
Calculating similarities: 0%| | 0/2 [00:00<?, ?it/s]
Calculating similarities: 50%|█████ | 1/2 [00:00<00:00, 1.19it/s]
Calculating similarities: 100%|██████████| 2/2 [00:00<00:00, 2.37it/s]
Calculating similarities: 0%| | 0/2 [00:00<?, ?it/s]
Calculating similarities: 50%|█████ | 1/2 [00:00<00:00, 1.64it/s]
Calculating similarities: 100%|██████████| 2/2 [00:00<00:00, 3.27it/s]
2025-10-25 04:35:45,294:WARNING:matchms:add_precursor_mz:No precursor_mz found in metadata.
2025-10-25 04:35:45,345:WARNING:matchms:add_precursor_mz:No precursor_mz found in metadata.
2025-10-25 04:35:45,346:WARNING:matchms:add_precursor_mz:No precursor_mz found in metadata.
2025-10-25 04:35:45,347:WARNING:matchms:add_precursor_mz:No precursor_mz found in metadata.
2025-10-25 04:35:45,435:WARNING:matchms:add_precursor_mz:No precursor_mz found in metadata.
2025-10-25 04:35:45,436:WARNING:matchms:add_precursor_mz:No precursor_mz found in metadata.
2025-10-25 04:35:45,437:WARNING:matchms:add_precursor_mz:No precursor_mz found in metadata.
2025-10-25 04:35:45,676:WARNING:matchms:add_precursor_mz:No precursor_mz found in metadata.
2025-10-25 04:35:45,677:WARNING:matchms:add_precursor_mz:No precursor_mz found in metadata.
2025-10-25 04:35:45,678:WARNING:matchms:add_precursor_mz:No precursor_mz found in metadata.
2025-10-25 04:35:45,709:WARNING:matchms:add_precursor_mz:No precursor_mz found in metadata.
2025-10-25 04:35:45,710:WARNING:matchms:add_precursor_mz:No precursor_mz found in metadata.
2025-10-25 04:35:45,711:WARNING:matchms:add_precursor_mz:No precursor_mz found in metadata.
2025-10-25 04:35:45,998:WARNING:matchms:add_precursor_mz:No precursor_mz found in metadata.
2025-10-25 04:35:45,999:WARNING:matchms:add_precursor_mz:No precursor_mz found in metadata.
2025-10-25 04:35:46,000:WARNING:matchms:add_precursor_mz:No precursor_mz found in metadata.
2025-10-25 04:35:46,012:WARNING:matchms:add_precursor_mz:No precursor_mz found in metadata.
2025-10-25 04:35:46,013:WARNING:matchms:add_precursor_mz:No precursor_mz found in metadata.
2025-10-25 04:35:46,014:WARNING:matchms:add_precursor_mz:No precursor_mz found in metadata.
Processing spectra: 0%| | 0/4 [00:00<?, ?it/s]
Processing spectra: 100%|██████████| 4/4 [00:00<00:00, 3343.41it/s]
Processing spectra: 0%| | 0/4 [00:00<?, ?it/s]
Processing spectra: 100%|██████████| 4/4 [00:00<00:00, 3908.04it/s]
Processing spectra: 0%| | 0/4 [00:00<?, ?it/s]
Processing spectra: 100%|██████████| 4/4 [00:00<00:00, 3871.07it/s]
Processing spectra: 0%| | 0/4 [00:00<?, ?it/s]
Processing spectra: 100%|██████████| 4/4 [00:00<00:00, 4121.15it/s]
Processing spectra: 0%| | 0/4 [00:00<?, ?it/s]
Processing spectra: 100%|██████████| 4/4 [00:00<00:00, 3907.13it/s]
[ FAIL 0 | WARN 4 | SKIP 1 | PASS 592 ]
══ Skipped tests (1) ═══════════════════════════════════════════════════════════
• empty test (1): 'test_zzz.R:16:1'
[ FAIL 0 | WARN 4 | SKIP 1 | PASS 592 ]
>
> ## TODO: add tests from the Spectra unit test suite!
>
> ## ## Run the MsBackend spectra variable test suite
> ## test_suite <- system.file("test_backends", "test_MsBackend",
> ## package = "Spectra")
>
> ## ## Run single test file.
> ## res <- test_dir(test_suite, stop_on_failure = TRUE)
>
> proc.time()
user system elapsed
29.045 2.932 31.363
SpectriPy.Rcheck/SpectriPy-Ex.timings
| name | user | system | elapsed | |
| MsBackendPy | 5.293 | 0.851 | 6.005 | |
| compareSpectriPy | 2.354 | 0.248 | 2.624 | |
| conversion | 0.355 | 0.264 | 0.463 | |
| filterSpectriPy | 0.170 | 0.029 | 0.198 | |