Back to Multiple platform build/check report for BioC 3.23:   simplified   long
ABCDEFGHIJKLMNOPQ[R]STUVWXYZ

This page was generated on 2025-11-19 10:14 -0500 (Wed, 19 Nov 2025).

HostnameOSArch (*)R versionInstalled pkgs
nebbiolo1Linux (Ubuntu 24.04.3 LTS)x86_64R Under development (unstable) (2025-10-20 r88955) -- "Unsuffered Consequences" 4827
lconwaymacOS 12.7.6 Montereyx86_64R Under development (unstable) (2025-10-21 r88958) -- "Unsuffered Consequences" 4600
kjohnson3macOS 13.7.7 Venturaarm64R Under development (unstable) (2025-11-04 r88984) -- "Unsuffered Consequences" 4564
Click on any hostname to see more info about the system (e.g. compilers)      (*) as reported by 'uname -p', except on Windows and Mac OS X

Package 1719/2325HostnameOS / ArchINSTALLBUILDCHECKBUILD BIN
ReactomeGSA 1.25.0  (landing page)
Johannes Griss
Snapshot Date: 2025-11-18 13:40 -0500 (Tue, 18 Nov 2025)
git_url: https://git.bioconductor.org/packages/ReactomeGSA
git_branch: devel
git_last_commit: 473b5b6
git_last_commit_date: 2025-10-29 10:54:21 -0500 (Wed, 29 Oct 2025)
nebbiolo1Linux (Ubuntu 24.04.3 LTS) / x86_64  OK    OK    OK  UNNEEDED, same version is already published
lconwaymacOS 12.7.6 Monterey / x86_64  OK    OK    OK    OK  YES
kjohnson3macOS 13.7.7 Ventura / arm64  OK    OK    OK    OK  NO, package depends on 'BiocSingular' which is only available as a source package that needs compilation


CHECK results for ReactomeGSA on kjohnson3

To the developers/maintainers of the ReactomeGSA package:
- Allow up to 24 hours (and sometimes 48 hours) for your latest push to git@git.bioconductor.org:packages/ReactomeGSA.git to reflect on this report. See Troubleshooting Build Report for more information.
- Use the following Renviron settings to reproduce errors and warnings.
- If 'R CMD check' started to fail recently on the Linux builder(s) over a missing dependency, add the missing dependency to 'Suggests:' in your DESCRIPTION file. See Renviron.bioc for more information.

raw results


Summary

Package: ReactomeGSA
Version: 1.25.0
Command: /Library/Frameworks/R.framework/Resources/bin/R CMD check --install=check:ReactomeGSA.install-out.txt --library=/Library/Frameworks/R.framework/Resources/library --no-vignettes --timings ReactomeGSA_1.25.0.tar.gz
StartedAt: 2025-11-18 22:04:54 -0500 (Tue, 18 Nov 2025)
EndedAt: 2025-11-18 22:15:06 -0500 (Tue, 18 Nov 2025)
EllapsedTime: 612.2 seconds
RetCode: 0
Status:   OK  
CheckDir: ReactomeGSA.Rcheck
Warnings: 0

Command output

##############################################################################
##############################################################################
###
### Running command:
###
###   /Library/Frameworks/R.framework/Resources/bin/R CMD check --install=check:ReactomeGSA.install-out.txt --library=/Library/Frameworks/R.framework/Resources/library --no-vignettes --timings ReactomeGSA_1.25.0.tar.gz
###
##############################################################################
##############################################################################


* using log directory ‘/Users/biocbuild/bbs-3.23-bioc/meat/ReactomeGSA.Rcheck’
* using R Under development (unstable) (2025-11-04 r88984)
* using platform: aarch64-apple-darwin20
* R was compiled by
    Apple clang version 16.0.0 (clang-1600.0.26.6)
    GNU Fortran (GCC) 14.2.0
* running under: macOS Ventura 13.7.8
* using session charset: UTF-8
* using option ‘--no-vignettes’
* checking for file ‘ReactomeGSA/DESCRIPTION’ ... OK
* checking extension type ... Package
* this is package ‘ReactomeGSA’ version ‘1.25.0’
* package encoding: UTF-8
* checking package namespace information ... OK
* checking package dependencies ... OK
* checking if this is a source package ... OK
* checking if there is a namespace ... OK
* checking for hidden files and directories ... OK
* checking for portable file names ... OK
* checking for sufficient/correct file permissions ... OK
* checking whether package ‘ReactomeGSA’ can be installed ... OK
* checking installed package size ... OK
* checking package directory ... OK
* checking ‘build’ directory ... OK
* checking DESCRIPTION meta-information ... OK
* checking top-level files ... OK
* checking for left-over files ... OK
* checking index information ... OK
* checking package subdirectories ... OK
* checking code files for non-ASCII characters ... OK
* checking R files for syntax errors ... OK
* checking whether the package can be loaded ... OK
* checking whether the package can be loaded with stated dependencies ... OK
* checking whether the package can be unloaded cleanly ... OK
* checking whether the namespace can be loaded with stated dependencies ... OK
* checking whether the namespace can be unloaded cleanly ... OK
* checking whether startup messages can be suppressed ... OK
* checking dependencies in R code ... OK
* checking S3 generic/method consistency ... OK
* checking replacement functions ... OK
* checking foreign function calls ... OK
* checking R code for possible problems ... NOTE
plot_correlations,ReactomeAnalysisResult: no visible binding for global
  variable ‘combined_sig’
plot_correlations,ReactomeAnalysisResult: no visible binding for global
  variable ‘alpha’
plot_gsva_pathway,ReactomeAnalysisResult: no visible binding for global
  variable ‘cluster_id’
plot_gsva_pathway,ReactomeAnalysisResult: no visible binding for global
  variable ‘expr’
plot_gsva_pca,ReactomeAnalysisResult: no visible binding for global
  variable ‘gsva_result’
plot_gsva_pca,ReactomeAnalysisResult: no visible binding for global
  variable ‘PC1’
plot_gsva_pca,ReactomeAnalysisResult: no visible binding for global
  variable ‘PC2’
plot_heatmap,ReactomeAnalysisResult: no visible global function
  definition for ‘desc’
plot_heatmap,ReactomeAnalysisResult: no visible binding for global
  variable ‘n_sig’
plot_heatmap,ReactomeAnalysisResult: no visible binding for global
  variable ‘dataset’
plot_heatmap,ReactomeAnalysisResult: no visible binding for global
  variable ‘Name’
plot_volcano,ReactomeAnalysisResult: no visible binding for global
  variable ‘av_foldchange’
plot_volcano,ReactomeAnalysisResult: no visible binding for global
  variable ‘FDR’
Undefined global functions or variables:
  FDR Name PC1 PC2 alpha av_foldchange cluster_id combined_sig dataset
  desc expr gsva_result n_sig
* checking Rd files ... OK
* checking Rd metadata ... OK
* checking Rd cross-references ... OK
* checking for missing documentation entries ... OK
* checking for code/documentation mismatches ... OK
* checking Rd \usage sections ... OK
* checking Rd contents ... OK
* checking for unstated dependencies in examples ... OK
* checking files in ‘vignettes’ ... OK
* checking examples ... OK
Examples with CPU (user + system) or elapsed time > 5s
                                                  user system elapsed
plot_gsva_pathway                               11.258  1.134  47.781
analyse_sc_clusters-SingleCellExperiment-method 11.256  1.003  90.481
plot_gsva_pca                                   11.068  1.097  48.602
analyse_sc_clusters                             10.910  1.125  86.803
plot_gsva_heatmap                               10.872  1.156  47.159
plot_gsva_heatmap-ReactomeAnalysisResult-method 11.010  1.017  47.854
analyse_sc_clusters-Seurat-method               11.073  0.895  49.498
plot_gsva_pathway-ReactomeAnalysisResult-method 10.746  1.065  47.773
plot_gsva_pca-ReactomeAnalysisResult-method     10.678  1.107  46.871
generate_pseudo_bulk_data                        6.274  0.543   7.268
perform_reactome_analysis                        0.914  0.099  14.210
load_public_dataset                              0.772  0.103  29.442
* checking for unstated dependencies in ‘tests’ ... OK
* checking tests ...
  Running ‘testthat.R’
 OK
* checking for unstated dependencies in vignettes ... OK
* checking package vignettes ... OK
* checking running R code from vignettes ... SKIPPED
* checking re-building of vignette outputs ... SKIPPED
* checking PDF version of manual ... OK
* DONE

Status: 1 NOTE
See
  ‘/Users/biocbuild/bbs-3.23-bioc/meat/ReactomeGSA.Rcheck/00check.log’
for details.


Installation output

ReactomeGSA.Rcheck/00install.out

##############################################################################
##############################################################################
###
### Running command:
###
###   /Library/Frameworks/R.framework/Resources/bin/R CMD INSTALL ReactomeGSA
###
##############################################################################
##############################################################################


* installing to library ‘/Library/Frameworks/R.framework/Versions/4.6-arm64/Resources/library’
* installing *source* package ‘ReactomeGSA’ ...
** this is package ‘ReactomeGSA’ version ‘1.25.0’
** using staged installation
** R
** inst
** byte-compile and prepare package for lazy loading
in method for ‘analyse_sc_clusters’ with signature ‘object="Seurat"’: no definition for class “Seurat”
in method for ‘analyse_sc_clusters’ with signature ‘object="SingleCellExperiment"’: no definition for class “SingleCellExperiment”
in method for ‘add_dataset’ with signature ‘request="ReactomeAnalysisRequest",expression_values="EList"’: no definition for class “EList”
in method for ‘add_dataset’ with signature ‘request="ReactomeAnalysisRequest",expression_values="DGEList"’: no definition for class “DGEList”
in method for ‘generate_pseudo_bulk_data’ with signature ‘object="Seurat"’: no definition for class “Seurat”
in method for ‘generate_pseudo_bulk_data’ with signature ‘object="SingleCellExperiment"’: no definition for class “SingleCellExperiment”
** help
*** installing help indices
** building package indices
** installing vignettes
** testing if installed package can be loaded from temporary location
** testing if installed package can be loaded from final location
** testing if installed package keeps a record of temporary installation path
* DONE (ReactomeGSA)

Tests output

ReactomeGSA.Rcheck/tests/testthat.Rout


R Under development (unstable) (2025-11-04 r88984) -- "Unsuffered Consequences"
Copyright (C) 2025 The R Foundation for Statistical Computing
Platform: aarch64-apple-darwin20

R is free software and comes with ABSOLUTELY NO WARRANTY.
You are welcome to redistribute it under certain conditions.
Type 'license()' or 'licence()' for distribution details.

R is a collaborative project with many contributors.
Type 'contributors()' for more information and
'citation()' on how to cite R or R packages in publications.

Type 'demo()' for some demos, 'help()' for on-line help, or
'help.start()' for an HTML browser interface to help.
Type 'q()' to quit R.

> library(testthat)
> library(ReactomeGSA)
> 
> test_check("ReactomeGSA")
[ FAIL 0 | WARN 0 | SKIP 0 | PASS 17 ]
> 
> proc.time()
   user  system elapsed 
  0.805   0.085   0.915 

Example timings

ReactomeGSA.Rcheck/ReactomeGSA-Ex.timings

nameusersystemelapsed
ReactomeAnalysisRequest2.1080.1132.385
ReactomeAnalysisResult-class0.0850.0050.108
add_dataset-ReactomeAnalysisRequest-DGEList-method0.4730.0280.533
add_dataset-ReactomeAnalysisRequest-EList-method0.2720.0280.315
add_dataset-ReactomeAnalysisRequest-ExpressionSet-method0.2790.0410.337
add_dataset-ReactomeAnalysisRequest-data.frame-method0.2760.0240.313
add_dataset-ReactomeAnalysisRequest-matrix-method0.2740.0370.313
add_dataset0.2700.0250.326
analyse_sc_clusters-Seurat-method11.073 0.89549.498
analyse_sc_clusters-SingleCellExperiment-method11.256 1.00390.481
analyse_sc_clusters10.910 1.12586.803
find_public_datasets0.0430.0083.139
generate_metadata0.0010.0010.000
generate_pseudo_bulk_data6.2740.5437.268
get_public_species0.0120.0010.317
get_reactome_data_types0.0220.0030.640
get_reactome_methods0.040.011.20
get_result-ReactomeAnalysisResult-method0.1000.0040.117
get_result0.1020.0040.118
load_public_dataset 0.772 0.10329.442
names-ReactomeAnalysisResult-method0.0900.0040.103
open_reactome-ReactomeAnalysisResult-method0.0940.0040.106
open_reactome0.0990.0050.112
pathways-ReactomeAnalysisResult-method0.1160.0060.137
pathways0.1000.0050.113
perform_reactome_analysis 0.914 0.09914.210
plot_correlations-ReactomeAnalysisResult-method0.1330.0050.146
plot_correlations0.1180.0040.123
plot_gsva_heatmap-ReactomeAnalysisResult-method11.010 1.01747.854
plot_gsva_heatmap10.872 1.15647.159
plot_gsva_pathway-ReactomeAnalysisResult-method10.746 1.06547.773
plot_gsva_pathway11.258 1.13447.781
plot_gsva_pca-ReactomeAnalysisResult-method10.678 1.10746.871
plot_gsva_pca11.068 1.09748.602
plot_heatmap-ReactomeAnalysisResult-method0.2110.0060.252
plot_heatmap0.2380.0050.287
plot_volcano-ReactomeAnalysisResult-method0.0990.0040.107
plot_volcano0.1040.0030.114
print-ReactomeAnalysisRequest-method0.0010.0010.001
print-ReactomeAnalysisResult-method0.0900.0040.105
reactome_links-ReactomeAnalysisResult-method0.0940.0040.102
reactome_links0.0870.0040.093
result_types-ReactomeAnalysisResult-method0.0920.0040.097
result_types0.0960.0040.103
set_method-ReactomeAnalysisRequest-method0.0010.0010.002
set_method0.0010.0010.001
set_parameters-ReactomeAnalysisRequest-method0.0010.0000.000
set_parameters000
show-ReactomeAnalysisRequest-method0.0000.0010.001
show-ReactomeAnalysisResult-method0.0920.0030.108