| Back to Multiple platform build/check report for BioC 3.22: simplified long |
|
This page was generated on 2025-08-15 12:06 -0400 (Fri, 15 Aug 2025).
| Hostname | OS | Arch (*) | R version | Installed pkgs |
|---|---|---|---|---|
| nebbiolo2 | Linux (Ubuntu 24.04.3 LTS) | x86_64 | 4.5.1 (2025-06-13) -- "Great Square Root" | 4818 |
| palomino8 | Windows Server 2022 Datacenter | x64 | 4.5.1 (2025-06-13 ucrt) -- "Great Square Root" | 4554 |
| lconway | macOS 12.7.1 Monterey | x86_64 | 4.5.1 (2025-06-13) -- "Great Square Root" | 4595 |
| kjohnson3 | macOS 13.7.7 Ventura | arm64 | 4.5.1 Patched (2025-06-14 r88325) -- "Great Square Root" | 4537 |
| taishan | Linux (openEuler 24.03 LTS) | aarch64 | 4.5.0 (2025-04-11) -- "How About a Twenty-Six" | 4535 |
| Click on any hostname to see more info about the system (e.g. compilers) (*) as reported by 'uname -p', except on Windows and Mac OS X | ||||
| Package 384/2317 | Hostname | OS / Arch | INSTALL | BUILD | CHECK | BUILD BIN | ||||||||
| clustifyr 1.21.0 (landing page) Rui Fu
| nebbiolo2 | Linux (Ubuntu 24.04.3 LTS) / x86_64 | OK | OK | OK | |||||||||
| palomino8 | Windows Server 2022 Datacenter / x64 | OK | OK | OK | OK | |||||||||
| lconway | macOS 12.7.1 Monterey / x86_64 | OK | OK | OK | OK | |||||||||
| kjohnson3 | macOS 13.7.7 Ventura / arm64 | OK | OK | OK | OK | |||||||||
| taishan | Linux (openEuler 24.03 LTS) / aarch64 | OK | OK | OK | ||||||||||
|
To the developers/maintainers of the clustifyr package: - Allow up to 24 hours (and sometimes 48 hours) for your latest push to git@git.bioconductor.org:packages/clustifyr.git to reflect on this report. See Troubleshooting Build Report for more information. - Use the following Renviron settings to reproduce errors and warnings. - If 'R CMD check' started to fail recently on the Linux builder(s) over a missing dependency, add the missing dependency to 'Suggests:' in your DESCRIPTION file. See Renviron.bioc for more information. |
| Package: clustifyr |
| Version: 1.21.0 |
| Command: F:\biocbuild\bbs-3.22-bioc\R\bin\R.exe CMD check --no-multiarch --install=check:clustifyr.install-out.txt --library=F:\biocbuild\bbs-3.22-bioc\R\library --no-vignettes --timings clustifyr_1.21.0.tar.gz |
| StartedAt: 2025-08-15 01:45:36 -0400 (Fri, 15 Aug 2025) |
| EndedAt: 2025-08-15 02:00:04 -0400 (Fri, 15 Aug 2025) |
| EllapsedTime: 868.0 seconds |
| RetCode: 0 |
| Status: OK |
| CheckDir: clustifyr.Rcheck |
| Warnings: 0 |
##############################################################################
##############################################################################
###
### Running command:
###
### F:\biocbuild\bbs-3.22-bioc\R\bin\R.exe CMD check --no-multiarch --install=check:clustifyr.install-out.txt --library=F:\biocbuild\bbs-3.22-bioc\R\library --no-vignettes --timings clustifyr_1.21.0.tar.gz
###
##############################################################################
##############################################################################
* using log directory 'F:/biocbuild/bbs-3.22-bioc/meat/clustifyr.Rcheck'
* using R version 4.5.1 (2025-06-13 ucrt)
* using platform: x86_64-w64-mingw32
* R was compiled by
gcc.exe (GCC) 14.2.0
GNU Fortran (GCC) 14.2.0
* running under: Windows Server 2022 x64 (build 20348)
* using session charset: UTF-8
* using option '--no-vignettes'
* checking for file 'clustifyr/DESCRIPTION' ... OK
* this is package 'clustifyr' version '1.21.0'
* package encoding: UTF-8
* checking package namespace information ... OK
* checking package dependencies ... OK
* checking if this is a source package ... OK
* checking if there is a namespace ... OK
* checking for hidden files and directories ... OK
* checking for portable file names ... OK
* checking whether package 'clustifyr' can be installed ... OK
* checking installed package size ... OK
* checking package directory ... OK
* checking 'build' directory ... OK
* checking DESCRIPTION meta-information ... NOTE
License stub is invalid DCF.
* checking top-level files ... OK
* checking for left-over files ... OK
* checking index information ... OK
* checking package subdirectories ... OK
* checking code files for non-ASCII characters ... OK
* checking R files for syntax errors ... OK
* checking whether the package can be loaded ... OK
* checking whether the package can be loaded with stated dependencies ... OK
* checking whether the package can be unloaded cleanly ... OK
* checking whether the namespace can be loaded with stated dependencies ... OK
* checking whether the namespace can be unloaded cleanly ... OK
* checking dependencies in R code ... OK
* checking S3 generic/method consistency ... OK
* checking replacement functions ... OK
* checking foreign function calls ... OK
* checking R code for possible problems ... OK
* checking Rd files ... OK
* checking Rd metadata ... OK
* checking Rd cross-references ... OK
* checking for missing documentation entries ... OK
* checking for code/documentation mismatches ... OK
* checking Rd \usage sections ... OK
* checking Rd contents ... OK
* checking for unstated dependencies in examples ... OK
* checking contents of 'data' directory ... OK
* checking data for non-ASCII characters ... OK
* checking LazyData ... OK
* checking data for ASCII and uncompressed saves ... OK
* checking files in 'vignettes' ... OK
* checking examples ... OK
Examples with CPU (user + system) or elapsed time > 5s
user system elapsed
plot_pathway_gsea 20.16 0.11 20.28
calculate_pathway_gsea 17.87 0.15 18.06
* checking for unstated dependencies in 'tests' ... OK
* checking tests ...
Running 'testthat.R'
OK
* checking for unstated dependencies in vignettes ... OK
* checking package vignettes ... OK
* checking running R code from vignettes ... SKIPPED
* checking re-building of vignette outputs ... SKIPPED
* checking PDF version of manual ... OK
* DONE
Status: 1 NOTE
See
'F:/biocbuild/bbs-3.22-bioc/meat/clustifyr.Rcheck/00check.log'
for details.
clustifyr.Rcheck/00install.out
############################################################################## ############################################################################## ### ### Running command: ### ### F:\biocbuild\bbs-3.22-bioc\R\bin\R.exe CMD INSTALL clustifyr ### ############################################################################## ############################################################################## * installing to library 'F:/biocbuild/bbs-3.22-bioc/R/library' * installing *source* package 'clustifyr' ... ** this is package 'clustifyr' version '1.21.0' ** using staged installation ** R ** data *** moving datasets to lazyload DB ** inst ** byte-compile and prepare package for lazy loading ** help *** installing help indices *** copying figures ** building package indices ** installing vignettes ** testing if installed package can be loaded from temporary location ** testing if installed package can be loaded from final location ** testing if installed package keeps a record of temporary installation path * DONE (clustifyr)
clustifyr.Rcheck/tests/testthat.Rout
R version 4.5.1 (2025-06-13 ucrt) -- "Great Square Root"
Copyright (C) 2025 The R Foundation for Statistical Computing
Platform: x86_64-w64-mingw32/x64
R is free software and comes with ABSOLUTELY NO WARRANTY.
You are welcome to redistribute it under certain conditions.
Type 'license()' or 'licence()' for distribution details.
R is a collaborative project with many contributors.
Type 'contributors()' for more information and
'citation()' on how to cite R or R packages in publications.
Type 'demo()' for some demos, 'help()' for on-line help, or
'help.start()' for an HTML browser interface to help.
Type 'q()' to quit R.
> library(testthat)
> library(clustifyr)
>
> test_check("clustifyr")
[ FAIL 0 | WARN 1 | SKIP 0 | PASS 183 ]
[ FAIL 0 | WARN 1 | SKIP 0 | PASS 183 ]
>
> proc.time()
user system elapsed
529.60 13.59 542.29
clustifyr.Rcheck/clustifyr-Ex.timings
| name | user | system | elapsed | |
| append_genes | 0.03 | 0.00 | 0.03 | |
| assess_rank_bias | 0 | 0 | 0 | |
| average_clusters | 0.07 | 0.00 | 0.08 | |
| binarize_expr | 0.07 | 0.00 | 0.06 | |
| build_atlas | 0.81 | 0.03 | 0.85 | |
| calc_distance | 0 | 0 | 0 | |
| calculate_pathway_gsea | 17.87 | 0.15 | 18.06 | |
| call_consensus | 0.33 | 0.02 | 0.34 | |
| call_to_metadata | 0.35 | 0.13 | 0.47 | |
| check_raw_counts | 0.99 | 0.01 | 1.00 | |
| clustify | 1.68 | 0.11 | 1.80 | |
| clustify_lists | 0.96 | 0.00 | 0.95 | |
| clustify_nudge | 1.40 | 0.02 | 1.42 | |
| clustifyr_methods | 0 | 0 | 0 | |
| collapse_to_cluster | 0.78 | 0.08 | 0.86 | |
| compare_lists | 0.15 | 0.00 | 0.14 | |
| cor_to_call | 0.04 | 0.01 | 0.06 | |
| cor_to_call_rank | 0.16 | 0.02 | 0.18 | |
| cor_to_call_topn | 0.09 | 0.00 | 0.09 | |
| downsample_matrix | 0.02 | 0.00 | 0.02 | |
| feature_select_PCA | 0.00 | 0.01 | 0.01 | |
| file_marker_parse | 0 | 0 | 0 | |
| find_rank_bias | 0.03 | 0.00 | 0.03 | |
| gene_pct_markerm | 0.41 | 0.01 | 0.42 | |
| get_ucsc_reference | 0 | 0 | 0 | |
| get_vargenes | 0 | 0 | 0 | |
| gmt_to_list | 0.04 | 0.00 | 0.06 | |
| insert_meta_object | 0.25 | 0.02 | 0.27 | |
| make_comb_ref | 0.03 | 0.00 | 0.03 | |
| marker_select | 0.02 | 0.00 | 0.01 | |
| matrixize_markers | 0.03 | 0.00 | 0.04 | |
| object_data | 0.45 | 0.01 | 0.46 | |
| object_ref | 0.35 | 0.16 | 0.50 | |
| overcluster | 2.31 | 0.17 | 2.49 | |
| overcluster_test | 1.67 | 0.10 | 1.76 | |
| parse_loc_object | 0.33 | 0.00 | 0.33 | |
| plot_best_call | 0.61 | 0.00 | 0.61 | |
| plot_cor | 0.89 | 0.01 | 0.91 | |
| plot_cor_heatmap | 1.39 | 0.52 | 1.28 | |
| plot_dims | 0.48 | 0.26 | 0.37 | |
| plot_gene | 0.72 | 0.08 | 0.65 | |
| plot_pathway_gsea | 20.16 | 0.11 | 20.28 | |
| plot_rank_bias | 0 | 0 | 0 | |
| pos_neg_marker | 0.02 | 0.00 | 0.01 | |
| pos_neg_select | 0.09 | 0.00 | 0.10 | |
| query_rank_bias | 0.05 | 0.00 | 0.04 | |
| ref_feature_select | 0.06 | 0.00 | 0.07 | |
| ref_marker_select | 0.23 | 0.00 | 0.23 | |
| reverse_marker_matrix | 0 | 0 | 0 | |
| run_clustifyr_app | 0 | 0 | 0 | |
| seurat_meta | 0.27 | 0.03 | 0.30 | |
| seurat_ref | 0.30 | 0.08 | 0.37 | |
| write_meta | 0.40 | 0.03 | 0.44 | |