Back to Multiple platform build/check report for BioC 3.22:   simplified   long
ABCDEF[G]HIJKLMNOPQRSTUVWXYZ

This page was generated on 2025-07-19 12:04 -0400 (Sat, 19 Jul 2025).

HostnameOSArch (*)R versionInstalled pkgs
nebbiolo2Linux (Ubuntu 24.04.2 LTS)x86_644.5.1 (2025-06-13) -- "Great Square Root" 4791
palomino8Windows Server 2022 Datacenterx644.5.1 (2025-06-13 ucrt) -- "Great Square Root" 4529
lconwaymacOS 12.7.1 Montereyx86_644.5.1 (2025-06-13) -- "Great Square Root" 4572
kjohnson3macOS 13.7.1 Venturaarm644.5.1 Patched (2025-06-14 r88325) -- "Great Square Root" 4513
taishanLinux (openEuler 24.03 LTS)aarch644.5.0 (2025-04-11) -- "How About a Twenty-Six" 4510
Click on any hostname to see more info about the system (e.g. compilers)      (*) as reported by 'uname -p', except on Windows and Mac OS X

Package 795/2311HostnameOS / ArchINSTALLBUILDCHECKBUILD BIN
gemma.R 3.5.4  (landing page)
Ogan Mancarci
Snapshot Date: 2025-07-18 13:25 -0400 (Fri, 18 Jul 2025)
git_url: https://git.bioconductor.org/packages/gemma.R
git_branch: devel
git_last_commit: 73d1354
git_last_commit_date: 2025-06-23 21:53:56 -0400 (Mon, 23 Jun 2025)
nebbiolo2Linux (Ubuntu 24.04.2 LTS) / x86_64  OK    OK    OK  UNNEEDED, same version is already published
palomino8Windows Server 2022 Datacenter / x64  OK    OK    OK    OK  UNNEEDED, same version is already published
lconwaymacOS 12.7.1 Monterey / x86_64  OK    OK    OK    OK  UNNEEDED, same version is already published
kjohnson3macOS 13.7.1 Ventura / arm64  OK    OK    OK    OK  UNNEEDED, same version is already published
taishanLinux (openEuler 24.03 LTS) / aarch64  OK    OK    OK  


BUILD results for gemma.R on nebbiolo2

To the developers/maintainers of the gemma.R package:
- Allow up to 24 hours (and sometimes 48 hours) for your latest push to git@git.bioconductor.org:packages/gemma.R.git to reflect on this report. See Troubleshooting Build Report for more information.
- Use the following Renviron settings to reproduce errors and warnings.
- If 'R CMD check' started to fail recently on the Linux builder(s) over a missing dependency, add the missing dependency to 'Suggests:' in your DESCRIPTION file. See Renviron.bioc for more information.

raw results


Summary

Package: gemma.R
Version: 3.5.4
Command: /home/biocbuild/bbs-3.22-bioc/R/bin/R CMD build --keep-empty-dirs --no-resave-data --md5 gemma.R
StartedAt: 2025-07-18 17:17:38 -0400 (Fri, 18 Jul 2025)
EndedAt: 2025-07-18 17:21:53 -0400 (Fri, 18 Jul 2025)
EllapsedTime: 255.3 seconds
RetCode: 0
Status:   OK  
PackageFile: gemma.R_3.5.4.tar.gz
PackageFileSize: 2.271 MiB

Command output

##############################################################################
##############################################################################
###
### Running command:
###
###   /home/biocbuild/bbs-3.22-bioc/R/bin/R CMD build --keep-empty-dirs --no-resave-data --md5 gemma.R
###
##############################################################################
##############################################################################


* checking for file ‘gemma.R/DESCRIPTION’ ... OK
* preparing ‘gemma.R’:
* checking DESCRIPTION meta-information ... OK
* installing the package to build vignettes
* creating vignettes ... OK
* checking for LF line-endings in source and make files and shell scripts
* checking for empty or unneeded directories
* adding MD5 file
* building ‘gemma.R_3.5.4.tar.gz’