Back to Multiple platform build/check report for BioC 3.22:   simplified   long
ABCDEF[G]HIJKLMNOPQRSTUVWXYZ

This page was generated on 2025-07-19 12:04 -0400 (Sat, 19 Jul 2025).

HostnameOSArch (*)R versionInstalled pkgs
nebbiolo2Linux (Ubuntu 24.04.2 LTS)x86_644.5.1 (2025-06-13) -- "Great Square Root" 4791
palomino8Windows Server 2022 Datacenterx644.5.1 (2025-06-13 ucrt) -- "Great Square Root" 4529
lconwaymacOS 12.7.1 Montereyx86_644.5.1 (2025-06-13) -- "Great Square Root" 4572
kjohnson3macOS 13.7.1 Venturaarm644.5.1 Patched (2025-06-14 r88325) -- "Great Square Root" 4513
taishanLinux (openEuler 24.03 LTS)aarch644.5.0 (2025-04-11) -- "How About a Twenty-Six" 4510
Click on any hostname to see more info about the system (e.g. compilers)      (*) as reported by 'uname -p', except on Windows and Mac OS X

Package 795/2311HostnameOS / ArchINSTALLBUILDCHECKBUILD BIN
gemma.R 3.5.4  (landing page)
Ogan Mancarci
Snapshot Date: 2025-07-18 13:25 -0400 (Fri, 18 Jul 2025)
git_url: https://git.bioconductor.org/packages/gemma.R
git_branch: devel
git_last_commit: 73d1354
git_last_commit_date: 2025-06-23 21:53:56 -0400 (Mon, 23 Jun 2025)
nebbiolo2Linux (Ubuntu 24.04.2 LTS) / x86_64  OK    OK    OK  UNNEEDED, same version is already published
palomino8Windows Server 2022 Datacenter / x64  OK    OK    OK    OK  UNNEEDED, same version is already published
lconwaymacOS 12.7.1 Monterey / x86_64  OK    OK    OK    OK  UNNEEDED, same version is already published
kjohnson3macOS 13.7.1 Ventura / arm64  OK    OK    OK    OK  UNNEEDED, same version is already published
taishanLinux (openEuler 24.03 LTS) / aarch64  OK    OK    OK  


CHECK results for gemma.R on nebbiolo2

To the developers/maintainers of the gemma.R package:
- Allow up to 24 hours (and sometimes 48 hours) for your latest push to git@git.bioconductor.org:packages/gemma.R.git to reflect on this report. See Troubleshooting Build Report for more information.
- Use the following Renviron settings to reproduce errors and warnings.
- If 'R CMD check' started to fail recently on the Linux builder(s) over a missing dependency, add the missing dependency to 'Suggests:' in your DESCRIPTION file. See Renviron.bioc for more information.

raw results


Summary

Package: gemma.R
Version: 3.5.4
Command: /home/biocbuild/bbs-3.22-bioc/R/bin/R CMD check --install=check:gemma.R.install-out.txt --library=/home/biocbuild/bbs-3.22-bioc/R/site-library --timings gemma.R_3.5.4.tar.gz
StartedAt: 2025-07-18 22:33:21 -0400 (Fri, 18 Jul 2025)
EndedAt: 2025-07-18 22:44:58 -0400 (Fri, 18 Jul 2025)
EllapsedTime: 697.6 seconds
RetCode: 0
Status:   OK  
CheckDir: gemma.R.Rcheck
Warnings: 0

Command output

##############################################################################
##############################################################################
###
### Running command:
###
###   /home/biocbuild/bbs-3.22-bioc/R/bin/R CMD check --install=check:gemma.R.install-out.txt --library=/home/biocbuild/bbs-3.22-bioc/R/site-library --timings gemma.R_3.5.4.tar.gz
###
##############################################################################
##############################################################################


* using log directory ‘/home/biocbuild/bbs-3.22-bioc/meat/gemma.R.Rcheck’
* using R version 4.5.1 (2025-06-13)
* using platform: x86_64-pc-linux-gnu
* R was compiled by
    gcc (Ubuntu 13.3.0-6ubuntu2~24.04) 13.3.0
    GNU Fortran (Ubuntu 13.3.0-6ubuntu2~24.04) 13.3.0
* running under: Ubuntu 24.04.2 LTS
* using session charset: UTF-8
* checking for file ‘gemma.R/DESCRIPTION’ ... OK
* this is package ‘gemma.R’ version ‘3.5.4’
* package encoding: UTF-8
* checking package namespace information ... OK
* checking package dependencies ... INFO
Imports includes 21 non-default packages.
Importing from so many packages makes the package vulnerable to any of
them becoming unavailable.  Move as many as possible to Suggests and
use conditionally.
* checking if this is a source package ... OK
* checking if there is a namespace ... OK
* checking for hidden files and directories ... OK
* checking for portable file names ... OK
* checking for sufficient/correct file permissions ... OK
* checking whether package ‘gemma.R’ can be installed ... OK
* checking installed package size ... OK
* checking package directory ... OK
* checking ‘build’ directory ... OK
* checking DESCRIPTION meta-information ... OK
* checking top-level files ... OK
* checking for left-over files ... OK
* checking index information ... OK
* checking package subdirectories ... OK
* checking code files for non-ASCII characters ... OK
* checking R files for syntax errors ... OK
* checking whether the package can be loaded ... OK
* checking whether the package can be loaded with stated dependencies ... OK
* checking whether the package can be unloaded cleanly ... OK
* checking whether the namespace can be loaded with stated dependencies ... OK
* checking whether the namespace can be unloaded cleanly ... OK
* checking loading without being on the library search path ... OK
* checking dependencies in R code ... OK
* checking S3 generic/method consistency ... OK
* checking replacement functions ... OK
* checking foreign function calls ... OK
* checking R code for possible problems ... OK
* checking Rd files ... OK
* checking Rd metadata ... OK
* checking Rd cross-references ... OK
* checking for missing documentation entries ... OK
* checking for code/documentation mismatches ... OK
* checking Rd \usage sections ... OK
* checking Rd contents ... OK
* checking for unstated dependencies in examples ... OK
* checking files in ‘vignettes’ ... OK
* checking examples ... OK
Examples with CPU (user + system) or elapsed time > 5s
                                              user system elapsed
get_dataset_object                           7.608  0.329  10.196
get_gene_differential_expression_values      1.666  0.091   6.206
dot-get_gene_differential_expression_values  1.058  0.003   7.944
get_dataset_differential_expression_analyses 0.552  0.052   5.137
* checking for unstated dependencies in ‘tests’ ... OK
* checking tests ...
  Running ‘testthat.R’
 OK
* checking for unstated dependencies in vignettes ... OK
* checking package vignettes ... OK
* checking re-building of vignette outputs ... OK
* checking PDF version of manual ... OK
* DONE

Status: OK


Installation output

gemma.R.Rcheck/00install.out

##############################################################################
##############################################################################
###
### Running command:
###
###   /home/biocbuild/bbs-3.22-bioc/R/bin/R CMD INSTALL gemma.R
###
##############################################################################
##############################################################################


* installing to library ‘/home/biocbuild/bbs-3.22-bioc/R/site-library’
* installing *source* package ‘gemma.R’ ...
** this is package ‘gemma.R’ version ‘3.5.4’
** using staged installation
** R
** inst
** byte-compile and prepare package for lazy loading
** help
*** installing help indices
*** copying figures
** building package indices
** installing vignettes
** testing if installed package can be loaded from temporary location
** testing if installed package can be loaded from final location
** testing if installed package keeps a record of temporary installation path
* DONE (gemma.R)

Tests output

gemma.R.Rcheck/tests/testthat.Rout


R version 4.5.1 (2025-06-13) -- "Great Square Root"
Copyright (C) 2025 The R Foundation for Statistical Computing
Platform: x86_64-pc-linux-gnu

R is free software and comes with ABSOLUTELY NO WARRANTY.
You are welcome to redistribute it under certain conditions.
Type 'license()' or 'licence()' for distribution details.

R is a collaborative project with many contributors.
Type 'contributors()' for more information and
'citation()' on how to cite R or R packages in publications.

Type 'demo()' for some demos, 'help()' for on-line help, or
'help.start()' for an HTML browser interface to help.
Type 'q()' to quit R.

> library(testthat)
> library(dplyr)

Attaching package: 'dplyr'

The following object is masked from 'package:testthat':

    matches

The following objects are masked from 'package:stats':

    filter, lag

The following objects are masked from 'package:base':

    intersect, setdiff, setequal, union

> 
> # Prevent certificate issues for GitHub actions
> options(gemma.SSL = FALSE)
> # get gemma api path if it's set in the environment
> gemma.R:::setGemmaPath('prod')
[1] "https://gemma.msl.ubc.ca/rest/v2/"
> print(gemma.R:::gemmaPath())
[1] "https://gemma.msl.ubc.ca/rest/v2/"
> test_check("gemma.R")
Loading required package: gemma.R
[ FAIL 0 | WARN 0 | SKIP 4 | PASS 198 ]

══ Skipped tests (4) ═══════════════════════════════════════════════════════════
• On Bioconductor (4): 'testCaches.R:37:3', 'testConvenience.R:15:5',
  'testConvenience.R:37:5', 'testDatasetEndpoints.R:88:5'

[ FAIL 0 | WARN 0 | SKIP 4 | PASS 198 ]
> 
> 
> 
> proc.time()
   user  system elapsed 
114.705   2.679 335.859 

Example timings

gemma.R.Rcheck/gemma.R-Ex.timings

nameusersystemelapsed
dot-getResultSets000
dot-get_dataset_expression_for_genes0.9580.0662.947
dot-get_gene_differential_expression_values1.0580.0037.944
filter_properties0.0290.0030.032
forget_gemma_memoised0.0090.0170.030
gemma_call0.0070.0020.093
get_annotation_children0.0160.0010.088
get_annotation_parents0.0100.0000.082
get_child_terms0.0150.0010.109
get_dataset_annotations0.0070.0010.090
get_dataset_differential_expression_analyses0.5520.0525.137
get_dataset_expression0.9090.0623.218
get_dataset_expression_for_genes0.2470.0050.773
get_dataset_object 7.608 0.32910.196
get_dataset_platforms0.0520.0030.385
get_dataset_processed_expression1.2120.0474.627
get_dataset_quantitation_types0.0130.0000.096
get_dataset_raw_expression1.0750.0222.493
get_dataset_samples0.1530.0220.515
get_datasets0.2270.0334.021
get_datasets_by_ids0.0530.0030.220
get_differential_expression_values0.3120.0193.689
get_gene_differential_expression_values1.6660.0916.206
get_gene_go_terms0.0540.0020.358
get_gene_locations0.0310.0000.247
get_gene_probes0.0500.0000.281
get_genes0.0400.0010.212
get_platform_annotations0.6840.0202.856
get_platform_datasets0.0300.0010.293
get_platform_element_genes0.0100.0000.108
get_platforms_by_ids0.0210.0010.207
get_result_sets0.0350.0010.211
get_taxa0.0090.0000.083
get_taxa_by_ids0.0060.0020.082
get_taxon_datasets0.0650.0010.336
make_design0.6130.0081.056
search_annotations0.0100.0000.083
search_datasets0.0320.0100.457
search_gemma0.1080.0110.565
update_result0.9320.0534.127