Back to Multiple platform build/check report for BioC 3.22:   simplified   long
ABCDEFGHIJKLMNOPQR[S]TUVWXYZ

This page was generated on 2025-07-19 12:09 -0400 (Sat, 19 Jul 2025).

HostnameOSArch (*)R versionInstalled pkgs
nebbiolo2Linux (Ubuntu 24.04.2 LTS)x86_644.5.1 (2025-06-13) -- "Great Square Root" 4791
palomino8Windows Server 2022 Datacenterx644.5.1 (2025-06-13 ucrt) -- "Great Square Root" 4529
lconwaymacOS 12.7.1 Montereyx86_644.5.1 (2025-06-13) -- "Great Square Root" 4572
kjohnson3macOS 13.7.1 Venturaarm644.5.1 Patched (2025-06-14 r88325) -- "Great Square Root" 4513
taishanLinux (openEuler 24.03 LTS)aarch644.5.0 (2025-04-11) -- "How About a Twenty-Six" 4510
Click on any hostname to see more info about the system (e.g. compilers)      (*) as reported by 'uname -p', except on Windows and Mac OS X

Package 2097/2311HostnameOS / ArchINSTALLBUILDCHECKBUILD BIN
structToolbox 1.21.0  (landing page)
Gavin Rhys Lloyd
Snapshot Date: 2025-07-18 13:25 -0400 (Fri, 18 Jul 2025)
git_url: https://git.bioconductor.org/packages/structToolbox
git_branch: devel
git_last_commit: 36d5ff1
git_last_commit_date: 2025-04-15 11:54:06 -0400 (Tue, 15 Apr 2025)
nebbiolo2Linux (Ubuntu 24.04.2 LTS) / x86_64  OK    OK    OK  UNNEEDED, same version is already published
palomino8Windows Server 2022 Datacenter / x64  OK    OK    OK    OK  UNNEEDED, same version is already published
lconwaymacOS 12.7.1 Monterey / x86_64  OK    OK    OK    OK  UNNEEDED, same version is already published
kjohnson3macOS 13.7.1 Ventura / arm64  OK    OK    OK    OK  UNNEEDED, same version is already published
taishanLinux (openEuler 24.03 LTS) / aarch64  OK    OK    OK  


CHECK results for structToolbox on lconway

To the developers/maintainers of the structToolbox package:
- Allow up to 24 hours (and sometimes 48 hours) for your latest push to git@git.bioconductor.org:packages/structToolbox.git to reflect on this report. See Troubleshooting Build Report for more information.
- Use the following Renviron settings to reproduce errors and warnings.
- If 'R CMD check' started to fail recently on the Linux builder(s) over a missing dependency, add the missing dependency to 'Suggests:' in your DESCRIPTION file. See Renviron.bioc for more information.

raw results


Summary

Package: structToolbox
Version: 1.21.0
Command: /Library/Frameworks/R.framework/Resources/bin/R CMD check --install=check:structToolbox.install-out.txt --library=/Library/Frameworks/R.framework/Resources/library --no-vignettes --timings structToolbox_1.21.0.tar.gz
StartedAt: 2025-07-18 23:51:58 -0400 (Fri, 18 Jul 2025)
EndedAt: 2025-07-19 00:01:00 -0400 (Sat, 19 Jul 2025)
EllapsedTime: 541.7 seconds
RetCode: 0
Status:   OK  
CheckDir: structToolbox.Rcheck
Warnings: 0

Command output

##############################################################################
##############################################################################
###
### Running command:
###
###   /Library/Frameworks/R.framework/Resources/bin/R CMD check --install=check:structToolbox.install-out.txt --library=/Library/Frameworks/R.framework/Resources/library --no-vignettes --timings structToolbox_1.21.0.tar.gz
###
##############################################################################
##############################################################################


* using log directory ‘/Users/biocbuild/bbs-3.22-bioc/meat/structToolbox.Rcheck’
* using R version 4.5.1 (2025-06-13)
* using platform: x86_64-apple-darwin20
* R was compiled by
    Apple clang version 14.0.0 (clang-1400.0.29.202)
    GNU Fortran (GCC) 14.2.0
* running under: macOS Monterey 12.7.6
* using session charset: UTF-8
* using option ‘--no-vignettes’
* checking for file ‘structToolbox/DESCRIPTION’ ... OK
* checking extension type ... Package
* this is package ‘structToolbox’ version ‘1.21.0’
* package encoding: UTF-8
* checking package namespace information ... OK
* checking package dependencies ... OK
* checking if this is a source package ... OK
* checking if there is a namespace ... OK
* checking for hidden files and directories ... OK
* checking for portable file names ... OK
* checking for sufficient/correct file permissions ... OK
* checking whether package ‘structToolbox’ can be installed ... OK
* checking installed package size ... OK
* checking package directory ... OK
* checking ‘build’ directory ... OK
* checking DESCRIPTION meta-information ... OK
* checking top-level files ... OK
* checking for left-over files ... OK
* checking index information ... OK
* checking package subdirectories ... OK
* checking code files for non-ASCII characters ... OK
* checking R files for syntax errors ... OK
* checking whether the package can be loaded ... OK
* checking whether the package can be loaded with stated dependencies ... OK
* checking whether the package can be unloaded cleanly ... OK
* checking whether the namespace can be loaded with stated dependencies ... OK
* checking whether the namespace can be unloaded cleanly ... OK
* checking dependencies in R code ... OK
* checking S3 generic/method consistency ... OK
* checking replacement functions ... OK
* checking foreign function calls ... OK
* checking R code for possible problems ... OK
* checking Rd files ... OK
* checking Rd metadata ... OK
* checking Rd cross-references ... OK
* checking for missing documentation entries ... OK
* checking for code/documentation mismatches ... OK
* checking Rd \usage sections ... OK
* checking Rd contents ... OK
* checking for unstated dependencies in examples ... OK
* checking R/sysdata.rda ... OK
* checking files in ‘vignettes’ ... OK
* checking examples ... OK
Examples with CPU (user + system) or elapsed time > 5s
                            user system elapsed
fold_change_int           17.723  0.087  17.896
fold_change               12.415  0.097  12.575
fisher_exact              12.175  0.080  12.329
fs_line                    6.864  0.157   7.066
forward_selection_by_rank  6.587  0.118   6.734
* checking for unstated dependencies in ‘tests’ ... OK
* checking tests ...
  Running ‘testthat.R’
 OK
* checking for unstated dependencies in vignettes ... OK
* checking package vignettes ... OK
* checking running R code from vignettes ... SKIPPED
* checking re-building of vignette outputs ... SKIPPED
* checking PDF version of manual ... OK
* DONE

Status: OK


Installation output

structToolbox.Rcheck/00install.out

##############################################################################
##############################################################################
###
### Running command:
###
###   /Library/Frameworks/R.framework/Resources/bin/R CMD INSTALL structToolbox
###
##############################################################################
##############################################################################


* installing to library ‘/Library/Frameworks/R.framework/Versions/4.5-x86_64/Resources/library’
* installing *source* package ‘structToolbox’ ...
** this is package ‘structToolbox’ version ‘1.21.0’
** using staged installation
** R
** inst
** byte-compile and prepare package for lazy loading
** help
*** installing help indices
** building package indices
** installing vignettes
** testing if installed package can be loaded from temporary location
** testing if installed package can be loaded from final location
** testing if installed package keeps a record of temporary installation path
* DONE (structToolbox)

Tests output

structToolbox.Rcheck/tests/testthat.Rout


R version 4.5.1 (2025-06-13) -- "Great Square Root"
Copyright (C) 2025 The R Foundation for Statistical Computing
Platform: x86_64-apple-darwin20

R is free software and comes with ABSOLUTELY NO WARRANTY.
You are welcome to redistribute it under certain conditions.
Type 'license()' or 'licence()' for distribution details.

R is a collaborative project with many contributors.
Type 'contributors()' for more information and
'citation()' on how to cite R or R packages in publications.

Type 'demo()' for some demos, 'help()' for on-line help, or
'help.start()' for an HTML browser interface to help.
Type 'q()' to quit R.

> library(testthat)
> library(ggplot2)
> library(structToolbox)
Loading required package: struct
> 
> test_check("structToolbox")
[ FAIL 0 | WARN 6 | SKIP 0 | PASS 166 ]

[ FAIL 0 | WARN 6 | SKIP 0 | PASS 166 ]
> 
> proc.time()
   user  system elapsed 
209.225   2.468 213.066 

Example timings

structToolbox.Rcheck/structToolbox-Ex.timings

nameusersystemelapsed
ANOVA0.2840.0090.295
AUC2.9200.1123.051
DFA0.2170.0020.220
DatasetExperiment_boxplot0.7200.0350.760
DatasetExperiment_dist1.3050.1081.431
DatasetExperiment_factor_boxplot0.2510.0070.258
DatasetExperiment_heatmap0.4160.0110.431
HCA0.0680.0010.068
HSD0.3050.0170.328
HSDEM0.5230.0320.559
MTBLS79_DatasetExperiment0.0010.0000.001
OPLSDA0.0090.0000.010
OPLSR0.0060.0010.006
PCA0.0050.0000.005
PLSDA0.0120.0010.014
PLSR0.0130.0010.014
SVM0.0260.0010.027
as_data_frame0.1230.0010.124
autoscale0.0670.0010.068
balanced_accuracy2.6690.0472.729
blank_filter0.3850.0220.410
blank_filter_hist0.0000.0000.001
bootstrap0.0100.0000.011
calculate0.0070.0010.008
chart_plot0.0260.0010.028
classical_lsq0.3520.0120.366
compare_dist4.5840.2334.844
confounders_clsq3.2300.0243.267
confounders_lsq_barchart3.8210.0293.876
confounders_lsq_boxplot3.7160.0303.769
constant_sum_norm0.0100.0010.011
corr_coef0.3450.0030.350
dfa_scores_plot0.9180.0110.939
dratio_filter0.3310.0080.341
equal_split0.1610.0020.164
feature_boxplot0.0320.0010.033
feature_profile0.4590.0060.469
feature_profile_array0.6080.0080.622
filter_by_name0.0390.0010.040
filter_na_count1.2950.0551.362
filter_smeta0.0930.0010.094
fisher_exact12.175 0.08012.329
fold_change12.415 0.09712.575
fold_change_int17.723 0.08717.896
fold_change_plot0.0070.0000.007
forward_selection_by_rank6.5870.1186.734
fs_line6.8640.1577.066
glog_opt_plot0.5270.0040.534
glog_transform0.3390.0030.344
grid_search_1d4.4150.1454.582
gs_line0.0010.0000.000
hca_dendrogram0.0000.0000.001
kfold_xval4.0610.0354.118
kfoldxcv_grid4.5460.0444.626
kfoldxcv_metric0.0010.0010.003
knn_impute0.0110.0000.011
kw_p_hist0.0010.0000.001
kw_rank_sum0.0870.0010.088
linear_model0.0390.0010.040
log_transform0.0070.0000.008
mean_centre0.0030.0010.004
mean_of_medians0.1430.0020.146
mixed_effect0.2040.0020.207
model_apply0.0270.0020.029
model_predict0.0630.0010.065
model_reverse0.0300.0010.030
model_train0.0570.0010.058
mv_boxplot0.3010.0030.307
mv_feature_filter0.1270.0010.129
mv_feature_filter_hist0.0010.0010.001
mv_histogram0.3090.0110.321
mv_sample_filter0.0110.0010.012
mv_sample_filter_hist0.0010.0000.001
nroot_transform0.0110.0000.010
ontology_cache0.0000.0000.001
pairs_filter0.0110.0010.011
pareto_scale0.0740.0020.078
pca_biplot0.0190.0010.020
pca_correlation_plot0.0080.0000.009
pca_dstat_plot0.0120.0010.012
pca_loadings_plot0.0100.0010.011
pca_scores_plot0.6070.0050.615
pca_scree_plot0.0100.0000.009
permutation_test0.0110.0000.012
permutation_test_plot0.0030.0000.003
permute_sample_order0.0090.0000.009
pls_regcoeff_plot0.4380.0060.447
pls_scores_plot0.7950.0070.811
pls_vip_plot0.4330.0050.442
plsda_feature_importance_plot0.6710.0090.685
plsda_predicted_plot0.5490.0070.562
plsda_roc_plot1.3910.0141.417
plsr_cook_dist0.0060.0000.007
plsr_prediction_plot0.0050.0000.005
plsr_qq_plot0.0090.0010.009
plsr_residual_hist0.0090.0000.010
pqn_norm0.4260.0040.434
pqn_norm_hist0.0000.0010.001
prop_na0.0120.0000.012
r_squared0.0010.0000.001
resample0.0180.0000.018
resample_chart0.0040.0010.003
rsd_filter0.0120.0000.013
rsd_filter_hist000
run0.0280.0010.029
sb_corr0.0300.0010.031
scatter_chart0.4460.0050.456
split_data0.0060.0000.006
stratified_split0.1350.0020.138
svm_plot_2d0.7500.0170.774
tSNE0.0330.0010.034
tSNE_scatter0.0100.0000.011
tic_chart0.2710.0090.282
ttest0.0290.0010.030
vec_norm0.0010.0000.001
wilcox_p_hist0.0010.0000.000
wilcox_test0.0210.0010.021