Back to Multiple platform build/check report for BioC 3.22:   simplified   long
ABCDEFGHIJKLMNOPQR[S]TUVWXYZ

This page was generated on 2025-07-19 12:12 -0400 (Sat, 19 Jul 2025).

HostnameOSArch (*)R versionInstalled pkgs
nebbiolo2Linux (Ubuntu 24.04.2 LTS)x86_644.5.1 (2025-06-13) -- "Great Square Root" 4791
palomino8Windows Server 2022 Datacenterx644.5.1 (2025-06-13 ucrt) -- "Great Square Root" 4529
lconwaymacOS 12.7.1 Montereyx86_644.5.1 (2025-06-13) -- "Great Square Root" 4572
kjohnson3macOS 13.7.1 Venturaarm644.5.1 Patched (2025-06-14 r88325) -- "Great Square Root" 4513
taishanLinux (openEuler 24.03 LTS)aarch644.5.0 (2025-04-11) -- "How About a Twenty-Six" 4510
Click on any hostname to see more info about the system (e.g. compilers)      (*) as reported by 'uname -p', except on Windows and Mac OS X

Package 2097/2311HostnameOS / ArchINSTALLBUILDCHECKBUILD BIN
structToolbox 1.21.0  (landing page)
Gavin Rhys Lloyd
Snapshot Date: 2025-07-18 13:25 -0400 (Fri, 18 Jul 2025)
git_url: https://git.bioconductor.org/packages/structToolbox
git_branch: devel
git_last_commit: 36d5ff1
git_last_commit_date: 2025-04-15 11:54:06 -0400 (Tue, 15 Apr 2025)
nebbiolo2Linux (Ubuntu 24.04.2 LTS) / x86_64  OK    OK    OK  UNNEEDED, same version is already published
palomino8Windows Server 2022 Datacenter / x64  OK    OK    OK    OK  UNNEEDED, same version is already published
lconwaymacOS 12.7.1 Monterey / x86_64  OK    OK    OK    OK  UNNEEDED, same version is already published
kjohnson3macOS 13.7.1 Ventura / arm64  OK    OK    OK    OK  UNNEEDED, same version is already published
taishanLinux (openEuler 24.03 LTS) / aarch64  OK    OK    OK  


CHECK results for structToolbox on taishan

To the developers/maintainers of the structToolbox package:
- Allow up to 24 hours (and sometimes 48 hours) for your latest push to git@git.bioconductor.org:packages/structToolbox.git to reflect on this report. See Troubleshooting Build Report for more information.
- Use the following Renviron settings to reproduce errors and warnings.
- If 'R CMD check' started to fail recently on the Linux builder(s) over a missing dependency, add the missing dependency to 'Suggests:' in your DESCRIPTION file. See Renviron.bioc for more information.
- See Martin Grigorov's blog post for how to debug Linux ARM64 related issues on a x86_64 host.

raw results


Summary

Package: structToolbox
Version: 1.21.0
Command: /home/biocbuild/R/R/bin/R CMD check --install=check:structToolbox.install-out.txt --library=/home/biocbuild/R/R/site-library --no-vignettes --timings structToolbox_1.21.0.tar.gz
StartedAt: 2025-07-18 11:46:07 -0000 (Fri, 18 Jul 2025)
EndedAt: 2025-07-18 11:56:36 -0000 (Fri, 18 Jul 2025)
EllapsedTime: 628.9 seconds
RetCode: 0
Status:   OK  
CheckDir: structToolbox.Rcheck
Warnings: 0

Command output

##############################################################################
##############################################################################
###
### Running command:
###
###   /home/biocbuild/R/R/bin/R CMD check --install=check:structToolbox.install-out.txt --library=/home/biocbuild/R/R/site-library --no-vignettes --timings structToolbox_1.21.0.tar.gz
###
##############################################################################
##############################################################################


* using log directory ‘/home/biocbuild/bbs-3.22-bioc/meat/structToolbox.Rcheck’
* using R version 4.5.0 (2025-04-11)
* using platform: aarch64-unknown-linux-gnu
* R was compiled by
    aarch64-unknown-linux-gnu-gcc (GCC) 14.2.0
    GNU Fortran (GCC) 14.2.0
* running under: openEuler 24.03 (LTS)
* using session charset: UTF-8
* using option ‘--no-vignettes’
* checking for file ‘structToolbox/DESCRIPTION’ ... OK
* checking extension type ... Package
* this is package ‘structToolbox’ version ‘1.21.0’
* package encoding: UTF-8
* checking package namespace information ... OK
* checking package dependencies ... OK
* checking if this is a source package ... OK
* checking if there is a namespace ... OK
* checking for hidden files and directories ... OK
* checking for portable file names ... OK
* checking for sufficient/correct file permissions ... OK
* checking whether package ‘structToolbox’ can be installed ... OK
* checking installed package size ... OK
* checking package directory ... OK
* checking ‘build’ directory ... OK
* checking DESCRIPTION meta-information ... OK
* checking top-level files ... OK
* checking for left-over files ... OK
* checking index information ... OK
* checking package subdirectories ... OK
* checking code files for non-ASCII characters ... OK
* checking R files for syntax errors ... OK
* checking whether the package can be loaded ... OK
* checking whether the package can be loaded with stated dependencies ... OK
* checking whether the package can be unloaded cleanly ... OK
* checking whether the namespace can be loaded with stated dependencies ... OK
* checking whether the namespace can be unloaded cleanly ... OK
* checking loading without being on the library search path ... OK
* checking dependencies in R code ... OK
* checking S3 generic/method consistency ... OK
* checking replacement functions ... OK
* checking foreign function calls ... OK
* checking R code for possible problems ... OK
* checking Rd files ... OK
* checking Rd metadata ... OK
* checking Rd cross-references ... OK
* checking for missing documentation entries ... OK
* checking for code/documentation mismatches ... OK
* checking Rd \usage sections ... OK
* checking Rd contents ... OK
* checking for unstated dependencies in examples ... OK
* checking R/sysdata.rda ... OK
* checking files in ‘vignettes’ ... OK
* checking examples ... OK
Examples with CPU (user + system) or elapsed time > 5s
                            user system elapsed
fold_change_int           22.804  0.088  22.950
fold_change               16.824  0.103  16.976
fisher_exact              14.005  0.152  14.195
fs_line                    9.348  0.044   9.420
forward_selection_by_rank  8.819  0.088   8.932
grid_search_1d             5.835  0.099   5.952
kfoldxcv_grid              5.313  0.004   5.335
compare_dist               5.170  0.120   5.305
* checking for unstated dependencies in ‘tests’ ... OK
* checking tests ...
  Running ‘testthat.R’
 OK
* checking for unstated dependencies in vignettes ... OK
* checking package vignettes ... OK
* checking running R code from vignettes ... SKIPPED
* checking re-building of vignette outputs ... SKIPPED
* checking PDF version of manual ... OK
* DONE

Status: OK


Installation output

structToolbox.Rcheck/00install.out

##############################################################################
##############################################################################
###
### Running command:
###
###   /home/biocbuild/R/R/bin/R CMD INSTALL structToolbox
###
##############################################################################
##############################################################################


* installing to library ‘/home/biocbuild/R/R-4.5.0/site-library’
* installing *source* package ‘structToolbox’ ...
** this is package ‘structToolbox’ version ‘1.21.0’
** using staged installation
** R
** inst
** byte-compile and prepare package for lazy loading
** help
*** installing help indices
** building package indices
** installing vignettes
** testing if installed package can be loaded from temporary location
** testing if installed package can be loaded from final location
** testing if installed package keeps a record of temporary installation path
* DONE (structToolbox)

Tests output

structToolbox.Rcheck/tests/testthat.Rout


R version 4.5.0 (2025-04-11) -- "How About a Twenty-Six"
Copyright (C) 2025 The R Foundation for Statistical Computing
Platform: aarch64-unknown-linux-gnu

R is free software and comes with ABSOLUTELY NO WARRANTY.
You are welcome to redistribute it under certain conditions.
Type 'license()' or 'licence()' for distribution details.

R is a collaborative project with many contributors.
Type 'contributors()' for more information and
'citation()' on how to cite R or R packages in publications.

Type 'demo()' for some demos, 'help()' for on-line help, or
'help.start()' for an HTML browser interface to help.
Type 'q()' to quit R.

> library(testthat)
> library(ggplot2)
> library(structToolbox)
Loading required package: struct
> 
> test_check("structToolbox")
[ FAIL 0 | WARN 6 | SKIP 0 | PASS 166 ]

[ FAIL 0 | WARN 6 | SKIP 0 | PASS 166 ]
> 
> proc.time()
   user  system elapsed 
257.857   1.839 260.363 

Example timings

structToolbox.Rcheck/structToolbox-Ex.timings

nameusersystemelapsed
ANOVA0.3180.0090.329
AUC3.5620.1953.796
DFA0.3140.0000.315
DatasetExperiment_boxplot0.9320.0280.969
DatasetExperiment_dist1.3540.0441.401
DatasetExperiment_factor_boxplot0.3200.0150.337
DatasetExperiment_heatmap0.5540.0120.568
HCA0.0870.0000.088
HSD0.3850.0200.421
HSDEM0.4640.0320.497
MTBLS79_DatasetExperiment0.0010.0000.001
OPLSDA0.0160.0000.016
OPLSR0.0120.0000.012
PCA0.0060.0000.006
PLSDA0.0180.0000.018
PLSR0.0150.0000.015
SVM0.0260.0080.034
as_data_frame0.1710.0080.180
autoscale0.0980.0040.102
balanced_accuracy3.1800.0883.276
blank_filter0.4610.0120.477
blank_filter_hist0.0020.0000.001
bootstrap0.0150.0000.015
calculate0.0070.0000.007
chart_plot0.0410.0000.041
classical_lsq0.4370.0000.438
compare_dist5.1700.1205.305
confounders_clsq4.3640.0764.454
confounders_lsq_barchart4.4770.0524.541
confounders_lsq_boxplot4.2930.0674.373
constant_sum_norm0.0100.0000.011
corr_coef0.3780.0120.391
dfa_scores_plot1.0210.0281.052
dratio_filter0.4300.0000.432
equal_split0.1850.0000.186
feature_boxplot0.0360.0000.036
feature_profile0.5110.0080.520
feature_profile_array0.6580.0280.687
filter_by_name0.0670.0000.067
filter_na_count1.4350.0401.479
filter_smeta0.0830.0000.084
fisher_exact14.005 0.15214.195
fold_change16.824 0.10316.976
fold_change_int22.804 0.08822.950
fold_change_plot0.0090.0000.009
forward_selection_by_rank8.8190.0888.932
fs_line9.3480.0449.420
glog_opt_plot0.6750.0000.676
glog_transform0.4530.0080.462
grid_search_1d5.8350.0995.952
gs_line0.0010.0000.001
hca_dendrogram0.0010.0010.001
kfold_xval4.8400.0114.868
kfoldxcv_grid5.3130.0045.335
kfoldxcv_metric0.0010.0000.001
knn_impute0.0180.0000.018
kw_p_hist0.0010.0000.001
kw_rank_sum0.1180.0000.118
linear_model0.0410.0000.041
log_transform0.010.000.01
mean_centre0.0040.0000.004
mean_of_medians0.1630.0000.164
mixed_effect0.2090.0000.209
model_apply0.0290.0040.033
model_predict0.0750.0000.076
model_reverse0.0360.0000.036
model_train0.0710.0000.071
mv_boxplot0.3950.0000.396
mv_feature_filter0.1580.0000.157
mv_feature_filter_hist0.0010.0000.001
mv_histogram0.3570.0040.361
mv_sample_filter0.0120.0000.011
mv_sample_filter_hist0.0010.0000.001
nroot_transform0.0090.0000.009
ontology_cache000
pairs_filter0.0130.0000.013
pareto_scale0.0780.0000.078
pca_biplot0.0180.0030.021
pca_correlation_plot0.0090.0000.009
pca_dstat_plot0.0120.0000.013
pca_loadings_plot0.0130.0000.013
pca_scores_plot0.7340.0040.739
pca_scree_plot0.0090.0000.009
permutation_test0.0110.0030.014
permutation_test_plot0.0040.0000.004
permute_sample_order0.010.000.01
pls_regcoeff_plot0.4940.0000.495
pls_scores_plot0.9540.0000.956
pls_vip_plot0.5220.0000.523
plsda_feature_importance_plot0.8930.0000.896
plsda_predicted_plot0.6040.0000.605
plsda_roc_plot1.6100.0041.619
plsr_cook_dist0.0080.0000.009
plsr_prediction_plot0.0090.0000.008
plsr_qq_plot0.0090.0000.009
plsr_residual_hist0.0080.0000.009
pqn_norm0.5060.0000.507
pqn_norm_hist0.0010.0000.001
prop_na0.0150.0000.015
r_squared0.0000.0000.001
resample0.0230.0000.024
resample_chart0.0040.0000.004
rsd_filter0.0200.0000.021
rsd_filter_hist0.0010.0000.001
run0.0440.0000.044
sb_corr0.0400.0000.041
scatter_chart0.4930.0000.495
split_data0.0090.0000.009
stratified_split0.1550.0000.155
svm_plot_2d0.8870.0040.894
tSNE0.0520.0000.052
tSNE_scatter0.010.000.01
tic_chart0.2810.0030.285
ttest0.030.000.03
vec_norm0.0010.0000.001
wilcox_p_hist0.0010.0000.001
wilcox_test0.0240.0000.024