Back to Multiple platform build/check report for BioC 3.22:   simplified   long
ABCDEFGHIJKLMNOPQRS[T]UVWXYZ

This page was generated on 2025-07-14 12:06 -0400 (Mon, 14 Jul 2025).

HostnameOSArch (*)R versionInstalled pkgs
nebbiolo2Linux (Ubuntu 24.04.2 LTS)x86_644.5.1 (2025-06-13) -- "Great Square Root" 4784
palomino8Windows Server 2022 Datacenterx644.5.1 (2025-06-13 ucrt) -- "Great Square Root" 4523
lconwaymacOS 12.7.1 Montereyx86_644.5.1 (2025-06-13) -- "Great Square Root" 4565
kjohnson3macOS 13.7.1 Venturaarm644.5.1 Patched (2025-06-14 r88325) -- "Great Square Root" 4507
taishanLinux (openEuler 24.03 LTS)aarch644.5.0 (2025-04-11) -- "How About a Twenty-Six" 4507
Click on any hostname to see more info about the system (e.g. compilers)      (*) as reported by 'uname -p', except on Windows and Mac OS X

Package 2160/2311HostnameOS / ArchINSTALLBUILDCHECKBUILD BIN
tidyFlowCore 1.3.0  (landing page)
Timothy Keyes
Snapshot Date: 2025-07-13 13:25 -0400 (Sun, 13 Jul 2025)
git_url: https://git.bioconductor.org/packages/tidyFlowCore
git_branch: devel
git_last_commit: 1000c1e
git_last_commit_date: 2025-04-15 13:36:05 -0400 (Tue, 15 Apr 2025)
nebbiolo2Linux (Ubuntu 24.04.2 LTS) / x86_64  OK    OK    OK  UNNEEDED, same version is already published
palomino8Windows Server 2022 Datacenter / x64  OK    OK    OK    OK  UNNEEDED, same version is already published
lconwaymacOS 12.7.1 Monterey / x86_64  OK    OK    OK    OK  NO, package depends on 'flowCore' which is only available as a source package that needs compilation
kjohnson3macOS 13.7.1 Ventura / arm64  OK    OK    OK    OK  NO, package depends on 'flowCore' which is only available as a source package that needs compilation
taishanLinux (openEuler 24.03 LTS) / aarch64  OK    OK    OK  


CHECK results for tidyFlowCore on nebbiolo2

To the developers/maintainers of the tidyFlowCore package:
- Allow up to 24 hours (and sometimes 48 hours) for your latest push to git@git.bioconductor.org:packages/tidyFlowCore.git to reflect on this report. See Troubleshooting Build Report for more information.
- Use the following Renviron settings to reproduce errors and warnings.
- If 'R CMD check' started to fail recently on the Linux builder(s) over a missing dependency, add the missing dependency to 'Suggests:' in your DESCRIPTION file. See Renviron.bioc for more information.

raw results


Summary

Package: tidyFlowCore
Version: 1.3.0
Command: /home/biocbuild/bbs-3.22-bioc/R/bin/R CMD check --install=check:tidyFlowCore.install-out.txt --library=/home/biocbuild/bbs-3.22-bioc/R/site-library --timings tidyFlowCore_1.3.0.tar.gz
StartedAt: 2025-07-14 03:10:36 -0400 (Mon, 14 Jul 2025)
EndedAt: 2025-07-14 03:12:46 -0400 (Mon, 14 Jul 2025)
EllapsedTime: 130.1 seconds
RetCode: 0
Status:   OK  
CheckDir: tidyFlowCore.Rcheck
Warnings: 0

Command output

##############################################################################
##############################################################################
###
### Running command:
###
###   /home/biocbuild/bbs-3.22-bioc/R/bin/R CMD check --install=check:tidyFlowCore.install-out.txt --library=/home/biocbuild/bbs-3.22-bioc/R/site-library --timings tidyFlowCore_1.3.0.tar.gz
###
##############################################################################
##############################################################################


* using log directory ‘/home/biocbuild/bbs-3.22-bioc/meat/tidyFlowCore.Rcheck’
* using R version 4.5.1 (2025-06-13)
* using platform: x86_64-pc-linux-gnu
* R was compiled by
    gcc (Ubuntu 13.3.0-6ubuntu2~24.04) 13.3.0
    GNU Fortran (Ubuntu 13.3.0-6ubuntu2~24.04) 13.3.0
* running under: Ubuntu 24.04.2 LTS
* using session charset: UTF-8
* checking for file ‘tidyFlowCore/DESCRIPTION’ ... OK
* checking extension type ... Package
* this is package ‘tidyFlowCore’ version ‘1.3.0’
* package encoding: UTF-8
* checking package namespace information ... OK
* checking package dependencies ... OK
* checking if this is a source package ... OK
* checking if there is a namespace ... OK
* checking for hidden files and directories ... OK
* checking for portable file names ... OK
* checking for sufficient/correct file permissions ... OK
* checking whether package ‘tidyFlowCore’ can be installed ... OK
* checking installed package size ... OK
* checking package directory ... OK
* checking ‘build’ directory ... OK
* checking DESCRIPTION meta-information ... OK
* checking top-level files ... OK
* checking for left-over files ... OK
* checking index information ... OK
* checking package subdirectories ... OK
* checking code files for non-ASCII characters ... OK
* checking R files for syntax errors ... OK
* checking whether the package can be loaded ... OK
* checking whether the package can be loaded with stated dependencies ... OK
* checking whether the package can be unloaded cleanly ... OK
* checking whether the namespace can be loaded with stated dependencies ... OK
* checking whether the namespace can be unloaded cleanly ... OK
* checking loading without being on the library search path ... OK
* checking dependencies in R code ... OK
* checking S3 generic/method consistency ... OK
* checking replacement functions ... OK
* checking foreign function calls ... OK
* checking R code for possible problems ... OK
* checking Rd files ... OK
* checking Rd metadata ... OK
* checking Rd cross-references ... OK
* checking for missing documentation entries ... OK
* checking for code/documentation mismatches ... OK
* checking Rd \usage sections ... OK
* checking Rd contents ... OK
* checking for unstated dependencies in examples ... OK
* checking contents of ‘data’ directory ... OK
* checking data for non-ASCII characters ... OK
* checking data for ASCII and uncompressed saves ... OK
* checking files in ‘vignettes’ ... OK
* checking examples ... OK
* checking for unstated dependencies in ‘tests’ ... OK
* checking tests ...
  Running ‘testthat.R’
 OK
* checking for unstated dependencies in vignettes ... OK
* checking package vignettes ... OK
* checking re-building of vignette outputs ... OK
* checking PDF version of manual ... OK
* DONE

Status: OK


Installation output

tidyFlowCore.Rcheck/00install.out

##############################################################################
##############################################################################
###
### Running command:
###
###   /home/biocbuild/bbs-3.22-bioc/R/bin/R CMD INSTALL tidyFlowCore
###
##############################################################################
##############################################################################


* installing to library ‘/home/biocbuild/bbs-3.22-bioc/R/site-library’
* installing *source* package ‘tidyFlowCore’ ...
** this is package ‘tidyFlowCore’ version ‘1.3.0’
** using staged installation
** R
** data
** inst
** byte-compile and prepare package for lazy loading
** help
*** installing help indices
*** copying figures
** building package indices
** installing vignettes
** testing if installed package can be loaded from temporary location
** testing if installed package can be loaded from final location
** testing if installed package keeps a record of temporary installation path
* DONE (tidyFlowCore)

Tests output

tidyFlowCore.Rcheck/tests/testthat.Rout


R version 4.5.1 (2025-06-13) -- "Great Square Root"
Copyright (C) 2025 The R Foundation for Statistical Computing
Platform: x86_64-pc-linux-gnu

R is free software and comes with ABSOLUTELY NO WARRANTY.
You are welcome to redistribute it under certain conditions.
Type 'license()' or 'licence()' for distribution details.

R is a collaborative project with many contributors.
Type 'contributors()' for more information and
'citation()' on how to cite R or R packages in publications.

Type 'demo()' for some demos, 'help()' for on-line help, or
'help.start()' for an HTML browser interface to help.
Type 'q()' to quit R.

> # This file is part of the standard setup for testthat.
> # It is recommended that you do not modify it.
> #
> # Where should you do additional test configuration?
> # Learn more about the roles of various files in:
> # * https://r-pkgs.org/testing-design.html#sec-tests-files-overview
> # * https://testthat.r-lib.org/articles/special-files.html
> 
> library(testthat)
> library(tidyFlowCore)
> 
> test_check("tidyFlowCore")

Attaching package: 'dplyr'

The following object is masked from 'package:testthat':

    matches

The following objects are masked from 'package:stats':

    filter, lag

The following objects are masked from 'package:base':

    intersect, setdiff, setequal, union


Attaching package: 'tidyr'

The following object is masked from 'package:testthat':

    matches

[ FAIL 0 | WARN 0 | SKIP 0 | PASS 104 ]
> 
> proc.time()
   user  system elapsed 
 11.980   0.674  12.657 

Example timings

tidyFlowCore.Rcheck/tidyFlowCore-Ex.timings

nameusersystemelapsed
arrange.flowFrame0.2660.0020.269
arrange.flowSet0.3560.0030.360
as_flowFrame000
as_flowSet000
as_tof_tbl0.0310.0010.031
count.flowFrame0.3490.0020.352
count.flowSet0.1970.0000.197
filter.flowFrame0.1770.0010.179
filter.flowSet0.4270.0030.431
ggplot.flowFrame0.1280.0010.130
ggplot.flowSet0.1310.0030.135
group_by.flowFrame0.3470.0060.354
make_flowcore_annotated_data_frame000
mutate.flowFrame0.3110.0010.312
mutate.flowSet0.4590.0050.465
nest.flowFrame0.4190.0020.422
pull.flowFrame0.1450.0020.148
pull.flowSet0.1510.0700.222
reexports000
rename.flowFrame0.1730.0000.174
rename.flowSet0.4080.0000.409
rename_with.flowFrame0.1550.0010.156
rename_with.flowSet0.3900.0040.394
select.flowFrame0.1480.0020.150
select.flowSet0.3510.0540.405
simulate_cytometry_data0.0920.0020.094
slice.flowFrame0.1420.0010.143
slice.flowSet0.3790.0030.382
slice_head.flowFrame0.1500.0030.153
slice_head.flowSet0.3820.0030.385
slice_max.flowFrame0.1430.0020.145
slice_max.flowSet0.3760.0030.379
slice_min.flowFrame0.1490.0010.149
slice_min.flowSet0.3730.0000.373
slice_sample.flowFrame0.1480.0010.149
slice_sample.flowSet0.3730.0270.399
slice_tail.flowFrame0.1460.0010.147
slice_tail.flowSet0.3740.0040.378
summarise.flowFrame0.1050.0040.110
summarise.flowSet0.3630.0130.377
summarize.flowFrame0.0950.0000.095
summarize.flowSet0.1480.0110.159
tof_get_panel000
tof_set_panel000
transmute.flowFrame0.1400.0100.151
transmute.flowSet0.3170.0010.318
ungroup.flowSet0.1580.0020.160
unnest.flowSet0.3040.0000.304