Back to the "Multiple platform build/check report"
| Package 30/48 | Hostname | OS | Arch | BUILD | CHECK | BUILD BIN |
lungExpression0.0.6Robert ScharpfLast Changed Date: 2007-08-06 12:14:18 -0700 Last Changed Rev: 409 | lamb1 | Linux (SUSE 10.1) | x86_64 | OK | [ OK ] | |
| lemming | Windows Server 2003 (32-bit) | x64 | OK | OK | OK |
| Package: lungExpression |
| Version: 0.0.6 |
| Command: /home/biocbuild/bbs-2.0-bioc/R/bin/R CMD check lungExpression_0.0.6.tar.gz |
| RetCode: 0 |
| Time: 12.5 seconds |
| Status: OK |
| CheckDir: lungExpression.Rcheck |
| Warnings: 0 |
* checking for working latex ... OK * using log directory '/home/biocbuild/bbs-2.0-data-experiment/meat/lungExpression.Rcheck' * using R version 2.5.1 (2007-06-27) * checking for file 'lungExpression/DESCRIPTION' ... OK * this is package 'lungExpression' version '0.0.6' * checking package dependencies ... OK * checking if this is a source package ... OK * checking whether package 'lungExpression' can be installed ... OK * checking package directory ... OK * checking for portable file names ... OK * checking for sufficient/correct file permissions ... OK * checking DESCRIPTION meta-information ... OK * checking top-level files ... OK * checking index information ... OK * checking package subdirectories ... OK * checking whether the package can be loaded ... OK * checking whether the package can be loaded with stated dependencies ... OK * checking Rd files ... OK * checking Rd cross-references ... OK * checking for missing documentation entries ... OK * checking for code/documentation mismatches ... OK * checking Rd \usage sections ... OK * checking data for non-ASCII characters ... OK * creating lungExpression-Ex.R ... OK * checking examples ... OK * creating lungExpression-manual.tex ... OK * checking lungExpression-manual.tex ... OK
lungExpression.Rcheck/00install.out:
* Installing *source* package 'lungExpression' ...
** data
** help
>>> Building/Updating help pages for package 'lungExpression'
Formats: text html latex example
harvard text html latex example
michigan text html latex example
stanford text html latex example
** building package indices ...
* DONE (lungExpression)