Back to the "Multiple platform build/check report"
| Package 30/48 | Hostname | OS | Arch | BUILD | CHECK | BUILD BIN |
lungExpression0.0.6Robert ScharpfLast Changed Date: 2007-08-06 12:14:18 -0700 Last Changed Rev: 409 | lamb1 | Linux (SUSE 10.1) | x86_64 | OK | OK | |
| lemming | Windows Server 2003 (32-bit) | x64 | OK | OK | [ OK ] |
| Package: lungExpression |
| Version: 0.0.6 |
| Command: D:\biocbld\bbs-2.0-bioc\R\bin\R.exe CMD INSTALL --build --library=lungExpression.buildbin-libdir lungExpression_0.0.6.tar.gz |
| RetCode: 0 |
| Time: 21.6 seconds |
| Status: OK |
| PackageFile: lungExpression_0.0.6.zip |
installing R.css in D:/biocbld/bbs-2.0-data-experiment/meat/lungExpression.buildbin-libdir
Using auto-selected zip options 'lungExpression-ZIPDATA=zip'
---------- Making package lungExpression ------------
adding build stamp to DESCRIPTION
no R files in this package
installing data files
installing man source files
installing indices
zipping data
installing help
>>> Building/Updating help pages for package 'lungExpression'
Formats: text html latex example chm
harvard text html latex example chm
michigan text html latex example chm
stanford text html latex example chm
Microsoft HTML Help Compiler 4.74.8702
Compiling d:\biocbld\bbs-2.0-data-experiment\meat\R.INSTALL.6844\lungExpression\chm\lungExpression.chm
Compile time: 0 minutes, 0 seconds
4 Topics
6 Local links
0 Internet links
1 Graphic
Created d:\biocbld\bbs-2.0-data-experiment\meat\R.INSTALL.6844\lungExpression\chm\lungExpression.chm, 16,857 bytes
Compression increased file by 6,439 bytes.
adding MD5 sums
packaged installation of package 'lungExpression' as lungExpression_0.0.6.zip
* DONE (lungExpression)