Back to the "Multiple platform build/check report"
| Package 30/48 | Hostname | OS | Arch | BUILD | CHECK | BUILD BIN |
lungExpression0.0.6Robert ScharpfLast Changed Date: 2007-08-06 12:14:18 -0700 Last Changed Rev: 409 | lamb1 | Linux (SUSE 10.1) | x86_64 | OK | OK | |
| lemming | Windows Server 2003 (32-bit) | x64 | [ OK ] | OK | OK |
| Package: lungExpression |
| Version: 0.0.6 |
| Command: D:\biocbld\bbs-2.0-bioc\R\bin\R.exe CMD build lungExpression |
| RetCode: 0 |
| Time: 2.5 seconds |
| Status: OK |
| PackageFile: lungExpression_0.0.6.tar.gz |
* checking for file 'lungExpression/DESCRIPTION' ... OK * preparing 'lungExpression': * checking DESCRIPTION meta-information ... OK * removing junk files * checking for LF line-endings in source files * checking for empty or unneeded directories * building 'lungExpression_0.0.6.tar.gz'