Back to the "Multiple platform build/check report"
| Package 56/234 | Hostname | OS | Arch | BUILD | CHECK | BUILD BIN |
| cosmoGUI 1.4.0 Oliver Bembom Last Changed Date: 2007-10-02 17:41:09 -0700 Last Changed Rev: 27709 | lamb1 | Linux (SUSE 10.1) | x86_64 | OK | OK | |
| wellington | Linux (SUSE 9.2) | i686 | OK | OK | ||
| liverpool | Windows Server 2003 R2 (32-bit) | x64 | OK | OK | [ OK ] | |
| pitt | Mac OS X (10.4.10) | i386 | OK | OK | OK |
| Package: cosmoGUI |
| Version: 1.4.0 |
| Command: E:\biocbld\bbs-2.1-bioc\R\bin\R.exe CMD INSTALL --build --library=cosmoGUI.buildbin-libdir cosmoGUI_1.4.0.tar.gz |
| RetCode: 0 |
| Time: 16.0 seconds |
| Status: OK |
| PackageFile: cosmoGUI_1.4.0.zip |
installing R.css in E:/biocbld/bbs-2.1-bioc/meat/cosmoGUI.buildbin-libdir
Using auto-selected zip options ''
---------- Making package cosmoGUI ------------
adding build stamp to DESCRIPTION
installing NAMESPACE file and metadata
installing R files
installing man source files
installing indices
installing help
>>> Building/Updating help pages for package 'cosmoGUI'
Formats: text html latex example chm
constraintBuilder text html latex example chm
Microsoft HTML Help Compiler 4.74.8702
Compiling e:\biocbld\bbs-2.1-bioc\meat\R.INSTALL.4336\cosmoGUI\chm\cosmoGUI.chm
Compile time: 0 minutes, 0 seconds
2 Topics
2 Local links
0 Internet links
1 Graphic
Created e:\biocbld\bbs-2.1-bioc\meat\R.INSTALL.4336\cosmoGUI\chm\cosmoGUI.chm, 16,699 bytes
Compression increased file by 9,078 bytes.
preparing package cosmoGUI for lazy loading
Loading required package: tkWidgets
Loading required package: widgetTools
Loading required package: tcltk
Loading Tcl/Tk interface ... done
Loading required package: Biobase
Loading required package: tools
Welcome to Bioconductor
Vignettes contain introductory material. To view, type
'openVignette()'. To cite Bioconductor, see
'citation("Biobase")' and for packages 'citation(pkgname)'.
Loading required package: DynDoc
Loading required package: cosmo
Loading required package: seqLogo
Loading required package: grid
adding MD5 sums
packaged installation of package 'cosmoGUI' as cosmoGUI_1.4.0.zip
* DONE (cosmoGUI)