Back to the "Multiple platform build/check report"
| Package 56/234 | Hostname | OS | Arch | BUILD | CHECK | BUILD BIN |
| cosmoGUI 1.4.0 Oliver Bembom Last Changed Date: 2007-10-02 17:41:09 -0700 Last Changed Rev: 27709 | lamb1 | Linux (SUSE 10.1) | x86_64 | OK | OK | |
| wellington | Linux (SUSE 9.2) | i686 | OK | OK | ||
| liverpool | Windows Server 2003 R2 (32-bit) | x64 | OK | OK | OK | |
| pitt | Mac OS X (10.4.10) | i386 | OK | OK | [ OK ] |
| Package: cosmoGUI |
| Version: 1.4.0 |
| Command: /Users/biocbuild/BBS/utils/build-universal.sh cosmoGUI_1.4.0.tar.gz /Library/Frameworks/R.framework/Resources/bin/R cosmoGUI.buildbin-libdir |
| RetCode: 0 |
| Time: 4.0 seconds |
| Status: OK |
| PackageFile: cosmoGUI_1.4.0.tgz |
INSTALLATION WITH 'R CMD INSTALL cosmoGUI_1.4.0.tar.gz'
* Installing to library 'cosmoGUI.buildbin-libdir'
* Installing *source* package 'cosmoGUI' ...
** R
** preparing package for lazy loading
Loading required package: tkWidgets
Loading required package: widgetTools
Loading required package: tcltk
Loading Tcl/Tk interface ... done
Loading required package: DynDoc
Loading required package: tools
Loading required package: cosmo
Loading required package: seqLogo
Loading required package: grid
Welcome to cosmo version 1.4.0
cosmo is free for research purposes only. For more details, type
license.cosmo(). Type citation('cosmo') for details on how to cite
cosmo in publications.
** help
>>> Building/Updating help pages for package 'cosmoGUI'
Formats: text html latex example
constraintBuilder text html latex example
** building package indices ...
* DONE (cosmoGUI)