| Back to the "Multiple platform build/check report" |
| Package 16/83 | Hostname | OS / Arch | BUILD | CHECK | BUILD BIN | ||||
| DLBCL 1.3.1 Marcus Dittrich
| wilson1 | Linux (openSUSE 11.1) / x86_64 | OK | OK | |||||
| liverpool | Windows Server 2003 R2 (32-bit) / x64 | OK | OK | [ OK ] | |||||
| pelham | Mac OS X Leopard (10.5.8) / i386 | OK | OK | OK |
| Package: DLBCL |
| Version: 1.3.1 |
| Command: E:\biocbld\bbs-2.6-bioc\R\bin\R.exe CMD INSTALL --build --library=DLBCL.buildbin-libdir DLBCL_1.3.1.tar.gz |
| StartedAt: 2010-09-24 05:14:21 -0700 (Fri, 24 Sep 2010) |
| EndedAt: 2010-09-24 05:14:28 -0700 (Fri, 24 Sep 2010) |
| EllapsedTime: 6.5 seconds |
| RetCode: 0 |
| Status: OK |
| PackageFile: DLBCL_1.3.1.zip |
| PackageFileSize: 5.535 MiB |
* installing *source* package 'DLBCL' ... Using auto-selected zip option '--use-zip-data' ** data ** help *** installing help indices ** building package indices ... ** testing if installed package can be loaded * MD5 sums packaged installation of 'DLBCL' as DLBCL_1.3.1.zip * DONE (DLBCL)