| Back to the "Multiple platform build/check report" |
| Package 16/83 | Hostname | OS / Arch | BUILD | CHECK | BUILD BIN | ||||
| DLBCL 1.3.1 Marcus Dittrich
| wilson1 | Linux (openSUSE 11.1) / x86_64 | OK | OK | |||||
| liverpool | Windows Server 2003 R2 (32-bit) / x64 | [ OK ] | OK | OK | |||||
| pelham | Mac OS X Leopard (10.5.8) / i386 | OK | OK | OK |
| Package: DLBCL |
| Version: 1.3.1 |
| Command: chmod a+r DLBCL -R && E:\biocbld\bbs-2.6-bioc\R\bin\R.exe CMD build DLBCL |
| StartedAt: 2010-09-24 03:33:53 -0700 (Fri, 24 Sep 2010) |
| EndedAt: 2010-09-24 03:33:58 -0700 (Fri, 24 Sep 2010) |
| EllapsedTime: 4.5 seconds |
| RetCode: 0 |
| Status: OK |
| PackageFile: DLBCL_1.3.1.tar.gz |
| PackageFileSize: 5.525 MiB |
* checking for file 'DLBCL/DESCRIPTION' ... OK * preparing 'DLBCL': * checking DESCRIPTION meta-information ... OK * removing junk files * checking for LF line-endings in source and make files * checking for empty or unneeded directories * building 'DLBCL_1.3.1.tar.gz'