Back to Multiple platform build/check report for BioC 3.22:   simplified   long
A[B]CDEFGHIJKLMNOPQRSTUVWXYZ

This page was generated on 2025-11-01 12:02 -0400 (Sat, 01 Nov 2025).

HostnameOSArch (*)R versionInstalled pkgs
nebbiolo2Linux (Ubuntu 24.04.3 LTS)x86_644.5.1 Patched (2025-08-23 r88802) -- "Great Square Root" 4901
lconwaymacOS 12.7.6 Montereyx86_644.5.1 Patched (2025-09-10 r88807) -- "Great Square Root" 4691
kjohnson3macOS 13.7.7 Venturaarm644.5.1 Patched (2025-09-10 r88807) -- "Great Square Root" 4637
Click on any hostname to see more info about the system (e.g. compilers)      (*) as reported by 'uname -p', except on Windows and Mac OS X

All results for package BiocParallel


To the developers/maintainers of the BiocParallel package:
- Allow up to 24 hours (and sometimes 48 hours) for your latest push to git@git.bioconductor.org:packages/BiocParallel.git to reflect on this report. See Troubleshooting Build Report for more information.
- Use the following Renviron settings to reproduce errors and warnings.
- If 'R CMD check' started to fail recently on the Linux builder(s) over a missing dependency, add the missing dependency to 'Suggests:' in your DESCRIPTION file. See Renviron.bioc for more information.

raw results

Package 198/2361HostnameOS / ArchINSTALLBUILDCHECKBUILD BIN
BiocParallel 1.44.0  (landing page)
Jiefei Wang
Snapshot Date: 2025-10-31 13:45 -0400 (Fri, 31 Oct 2025)
git_url: https://git.bioconductor.org/packages/BiocParallel
git_branch: RELEASE_3_22
git_last_commit: 3d6f2f6
git_last_commit_date: 2025-10-29 10:12:50 -0400 (Wed, 29 Oct 2025)
nebbiolo2Linux (Ubuntu 24.04.3 LTS) / x86_64  OK    OK    OK  UNNEEDED, same version is already published
lconwaymacOS 12.7.6 Monterey / x86_64  OK    OK    OK    OK  UNNEEDED, same version is already published
kjohnson3macOS 13.7.7 Ventura / arm64  OK    OK    OK    OK  UNNEEDED, same version is already published



Results for Bioconductor software packages that depend directly on package BiocParallel

QUICK STATSOS / ArchINSTALLBUILDCHECKBUILD BIN
nebbiolo2Linux (Ubuntu 24.04.3 LTS) / x86_64
03372
012363
01346304
lconwaymacOS 12.7.6 Monterey / x86_64
04371
017358
11147299
00358
kjohnson3macOS 13.7.7 Ventura / arm64
06369
018357
01546296
00357
Package 1/375HostnameOS / ArchINSTALLBUILDCHECKBUILD BIN
abseqR 1.28.0  (landing page)
JiaHong Fong
git_last_commit: 79e7852
git_last_commit_date: 2025-10-29 10:48:45 -0400
nebbiolo2Linux (Ubuntu 24.04.3 LTS) / x86_64  OK    OK    OK  UNNEEDED, same version is already published
lconwaymacOS 12.7.6 Monterey / x86_64  OK    OK    OK    OK  UNNEEDED, same version is already published
kjohnson3macOS 13.7.7 Ventura / arm64  OK    OK    OK    OK  UNNEEDED, same version is already published
Package 2/375HostnameOS / ArchINSTALLBUILDCHECKBUILD BIN
ADImpute 1.20.0  (landing page)
Ana Carolina Leote
git_last_commit: 4634280
git_last_commit_date: 2025-10-29 11:04:05 -0400
nebbiolo2Linux (Ubuntu 24.04.3 LTS) / x86_64  OK    OK    WARNINGS  UNNEEDED, same version is already published
lconwaymacOS 12.7.6 Monterey / x86_64  OK    OK    WARNINGS    OK  UNNEEDED, same version is already published
kjohnson3macOS 13.7.7 Ventura / arm64  OK    OK    WARNINGS    OK  UNNEEDED, same version is already published
Package 3/375HostnameOS / ArchINSTALLBUILDCHECKBUILD BIN
AffiXcan 1.28.0  (landing page)
Alessandro Lussana
git_last_commit: b3b1c91
git_last_commit_date: 2025-10-29 10:47:57 -0400
nebbiolo2Linux (Ubuntu 24.04.3 LTS) / x86_64  OK    OK    OK  UNNEEDED, same version is already published
lconwaymacOS 12.7.6 Monterey / x86_64  OK    OK    OK    OK  UNNEEDED, same version is already published
kjohnson3macOS 13.7.7 Ventura / arm64  OK    OK    OK    OK  UNNEEDED, same version is already published
Package 4/375HostnameOS / ArchINSTALLBUILDCHECKBUILD BIN
ALDEx2 1.42.0  (landing page)
Greg Gloor
git_last_commit: 4f92414
git_last_commit_date: 2025-10-29 10:21:46 -0400
nebbiolo2Linux (Ubuntu 24.04.3 LTS) / x86_64  OK    OK    OK  UNNEEDED, same version is already published
lconwaymacOS 12.7.6 Monterey / x86_64  OK    OK    OK    OK  UNNEEDED, same version is already published
kjohnson3macOS 13.7.7 Ventura / arm64  OK    OK    OK    OK  UNNEEDED, same version is already published
Package 5/375HostnameOS / ArchINSTALLBUILDCHECKBUILD BIN
AlphaBeta 1.24.0  (landing page)
Yadollah Shahryary Dizaji
git_last_commit: 15e89c7
git_last_commit_date: 2025-10-29 10:53:31 -0400
nebbiolo2Linux (Ubuntu 24.04.3 LTS) / x86_64  OK    OK    OK  UNNEEDED, same version is already published
lconwaymacOS 12.7.6 Monterey / x86_64  OK    OK    OK    OK  UNNEEDED, same version is already published
kjohnson3macOS 13.7.7 Ventura / arm64  OK    OK    OK    OK  UNNEEDED, same version is already published
Package 6/375HostnameOS / ArchINSTALLBUILDCHECKBUILD BIN
AlpsNMR 4.12.0  (landing page)
Sergio Oller Moreno
git_last_commit: a1d41e5
git_last_commit_date: 2025-10-29 11:04:39 -0400
nebbiolo2Linux (Ubuntu 24.04.3 LTS) / x86_64  OK    OK    OK  UNNEEDED, same version is already published
lconwaymacOS 12.7.6 Monterey / x86_64  OK    OK    OK    OK  UNNEEDED, same version is already published
kjohnson3macOS 13.7.7 Ventura / arm64  OK    OK    OK    OK  UNNEEDED, same version is already published
Package 7/375HostnameOS / ArchINSTALLBUILDCHECKBUILD BIN
amplican 1.32.0  (landing page)
Eivind Valen
git_last_commit: 631c17a
git_last_commit_date: 2025-10-29 10:40:44 -0400
nebbiolo2Linux (Ubuntu 24.04.3 LTS) / x86_64  ERROR    ERROR  skipped
lconwaymacOS 12.7.6 Monterey / x86_64  ERROR    ERROR  skippedskipped
kjohnson3macOS 13.7.7 Ventura / arm64  ERROR    ERROR  skippedskipped
Package 8/375HostnameOS / ArchINSTALLBUILDCHECKBUILD BIN
ASICS 2.26.0  (landing page)
Gaƫlle Lefort
git_last_commit: 3e46722
git_last_commit_date: 2025-10-29 10:44:17 -0400
nebbiolo2Linux (Ubuntu 24.04.3 LTS) / x86_64  OK    OK    WARNINGS  UNNEEDED, same version is already published
lconwaymacOS 12.7.6 Monterey / x86_64  OK    OK    WARNINGS    OK  UNNEEDED, same version is already published
kjohnson3macOS 13.7.7 Ventura / arm64  OK    OK    WARNINGS    OK  UNNEEDED, same version is already published
Package 9/375HostnameOS / ArchINSTALLBUILDCHECKBUILD BIN
ATACseqQC 1.34.0  (landing page)
Jianhong Ou
git_last_commit: 9b61612
git_last_commit_date: 2025-10-29 10:38:34 -0400
nebbiolo2Linux (Ubuntu 24.04.3 LTS) / x86_64  OK    OK    OK  UNNEEDED, same version is already published
lconwaymacOS 12.7.6 Monterey / x86_64  OK    OK    OK    OK  UNNEEDED, same version is already published
kjohnson3macOS 13.7.7 Ventura / arm64  OK    OK    OK    OK  UNNEEDED, same version is already published
Package 10/375HostnameOS / ArchINSTALLBUILDCHECKBUILD BIN
atena 1.16.0  (landing page)
Robert Castelo
git_last_commit: 93211ad
git_last_commit_date: 2025-10-29 11:12:14 -0400
nebbiolo2Linux (Ubuntu 24.04.3 LTS) / x86_64  OK    OK    OK  UNNEEDED, same version is already published
lconwaymacOS 12.7.6 Monterey / x86_64  OK    OK    OK    OK  UNNEEDED, same version is already published
kjohnson3macOS 13.7.7 Ventura / arm64  OK    OK    OK    OK  UNNEEDED, same version is already published
Package 11/375HostnameOS / ArchINSTALLBUILDCHECKBUILD BIN
atSNP 1.26.0  (landing page)
Sunyoung Shin
git_last_commit: fab0a78
git_last_commit_date: 2025-10-29 10:50:02 -0400
nebbiolo2Linux (Ubuntu 24.04.3 LTS) / x86_64  OK    OK    OK  UNNEEDED, same version is already published
lconwaymacOS 12.7.6 Monterey / x86_64  OK    OK    OK    OK  UNNEEDED, same version is already published
kjohnson3macOS 13.7.7 Ventura / arm64  OK    OK    OK    OK  UNNEEDED, same version is already published
Package 12/375HostnameOS / ArchINSTALLBUILDCHECKBUILD BIN
bacon 1.38.0  (landing page)
Maarten van Iterson
git_last_commit: 7b49c5b
git_last_commit_date: 2025-10-29 10:30:45 -0400
nebbiolo2Linux (Ubuntu 24.04.3 LTS) / x86_64  OK    OK    OK  UNNEEDED, same version is already published
lconwaymacOS 12.7.6 Monterey / x86_64  OK    OK    OK    OK  UNNEEDED, same version is already published
kjohnson3macOS 13.7.7 Ventura / arm64  OK    OK    OK    OK  UNNEEDED, same version is already published
Package 13/375HostnameOS / ArchINSTALLBUILDCHECKBUILD BIN
bambu 3.12.0  (landing page)
Ying Chen
git_last_commit: 4b0b622
git_last_commit_date: 2025-10-29 11:03:46 -0400
nebbiolo2Linux (Ubuntu 24.04.3 LTS) / x86_64  OK    OK    OK  UNNEEDED, same version is already published
lconwaymacOS 12.7.6 Monterey / x86_64  OK    OK    OK    OK  UNNEEDED, same version is already published
kjohnson3macOS 13.7.7 Ventura / arm64  OK    OK    OK    OK  UNNEEDED, same version is already published
Package 14/375HostnameOS / ArchINSTALLBUILDCHECKBUILD BIN
BANDITS 1.26.0  (landing page)
Simone Tiberi
git_last_commit: eafee14
git_last_commit_date: 2025-10-29 10:51:31 -0400
nebbiolo2Linux (Ubuntu 24.04.3 LTS) / x86_64  OK    OK    OK  UNNEEDED, same version is already published
lconwaymacOS 12.7.6 Monterey / x86_64  OK    OK    OK    OK  UNNEEDED, same version is already published
kjohnson3macOS 13.7.7 Ventura / arm64  OK    OK    OK    OK  UNNEEDED, same version is already published
Package 15/375HostnameOS / ArchINSTALLBUILDCHECKBUILD BIN
bandle 1.14.0  (landing page)
Oliver M. Crook
git_last_commit: 9a9a1bc
git_last_commit_date: 2025-10-29 11:16:12 -0400
nebbiolo2Linux (Ubuntu 24.04.3 LTS) / x86_64  OK    OK    WARNINGS  UNNEEDED, same version is already published
lconwaymacOS 12.7.6 Monterey / x86_64  OK    OK    WARNINGS    OK  UNNEEDED, same version is already published
kjohnson3macOS 13.7.7 Ventura / arm64  OK    OK    WARNINGS    OK  UNNEEDED, same version is already published
Package 16/375HostnameOS / ArchINSTALLBUILDCHECKBUILD BIN
Banksy 1.6.0  (landing page)
Joseph Lee
git_last_commit: 6847ab5
git_last_commit_date: 2025-10-29 11:27:15 -0400
nebbiolo2Linux (Ubuntu 24.04.3 LTS) / x86_64  OK    OK    OK  UNNEEDED, same version is already published
lconwaymacOS 12.7.6 Monterey / x86_64  OK    OK    OK    OK  UNNEEDED, same version is already published
kjohnson3macOS 13.7.7 Ventura / arm64  OK    OK    OK    OK  UNNEEDED, same version is already published
Package 17/375HostnameOS / ArchINSTALLBUILDCHECKBUILD BIN
BASiCS 2.22.0  (landing page)
Catalina Vallejos
git_last_commit: d0fd928
git_last_commit_date: 2025-10-29 10:41:02 -0400
nebbiolo2Linux (Ubuntu 24.04.3 LTS) / x86_64  OK    OK    WARNINGS  UNNEEDED, same version is already published
lconwaymacOS 12.7.6 Monterey / x86_64  OK    OK    WARNINGS    OK  UNNEEDED, same version is already published
kjohnson3macOS 13.7.7 Ventura / arm64  OK    OK    WARNINGS    OK  UNNEEDED, same version is already published
Package 18/375HostnameOS / ArchINSTALLBUILDCHECKBUILD BIN
batchCorr 1.0.0  (landing page)
Anton Ribbenstedt
git_last_commit: 25f7e5b
git_last_commit_date: 2025-10-29 11:37:00 -0400
nebbiolo2Linux (Ubuntu 24.04.3 LTS) / x86_64  OK    OK    OK  UNNEEDED, same version is already published
lconwaymacOS 12.7.6 Monterey / x86_64  OK    OK    OK    OK  UNNEEDED, same version is already published
kjohnson3macOS 13.7.7 Ventura / arm64  OK    OK    OK    OK  UNNEEDED, same version is already published
Package 19/375HostnameOS / ArchINSTALLBUILDCHECKBUILD BIN
batchelor 1.26.0  (landing page)
Aaron Lun
git_last_commit: 8a9df0d
git_last_commit_date: 2025-10-29 10:51:04 -0400
nebbiolo2Linux (Ubuntu 24.04.3 LTS) / x86_64  OK    OK    OK  UNNEEDED, same version is already published
lconwaymacOS 12.7.6 Monterey / x86_64  OK    OK    OK    OK  UNNEEDED, same version is already published
kjohnson3macOS 13.7.7 Ventura / arm64  OK    OK    OK    OK  UNNEEDED, same version is already published
Package 20/375HostnameOS / ArchINSTALLBUILDCHECKBUILD BIN
BayesSpace 1.20.0  (landing page)
Senbai Kang
git_last_commit: b8f514b
git_last_commit_date: 2025-10-29 11:03:05 -0400
nebbiolo2Linux (Ubuntu 24.04.3 LTS) / x86_64  OK    OK    OK  UNNEEDED, same version is already published
lconwaymacOS 12.7.6 Monterey / x86_64  OK    OK    OK    OK  UNNEEDED, same version is already published
kjohnson3macOS 13.7.7 Ventura / arm64  OK    OK    OK    OK  UNNEEDED, same version is already published
Package 21/375HostnameOS / ArchINSTALLBUILDCHECKBUILD BIN
bayNorm 1.28.0  (landing page)
Wenhao Tang
git_last_commit: a368043
git_last_commit_date: 2025-10-29 10:48:07 -0400
nebbiolo2Linux (Ubuntu 24.04.3 LTS) / x86_64  OK    OK    OK  UNNEEDED, same version is already published
lconwaymacOS 12.7.6 Monterey / x86_64  OK    OK    OK    OK  UNNEEDED, same version is already published
kjohnson3macOS 13.7.7 Ventura / arm64  OK    OK    OK    OK  UNNEEDED, same version is already published
Package 22/375HostnameOS / ArchINSTALLBUILDCHECKBUILD BIN
BEclear 2.26.0  (landing page)
Livia Rasp
git_last_commit: 575a6df
git_last_commit_date: 2025-10-29 10:26:04 -0400
nebbiolo2Linux (Ubuntu 24.04.3 LTS) / x86_64  OK    OK    OK  UNNEEDED, same version is already published
lconwaymacOS 12.7.6 Monterey / x86_64  OK    OK    OK    OK  UNNEEDED, same version is already published
kjohnson3macOS 13.7.7 Ventura / arm64  OK    OK    OK    OK  UNNEEDED, same version is already published
Package 23/375HostnameOS / ArchINSTALLBUILDCHECKBUILD BIN
beer 1.14.0  (landing page)
Athena Chen
git_last_commit: 820bb40
git_last_commit_date: 2025-10-29 11:14:55 -0400
nebbiolo2Linux (Ubuntu 24.04.3 LTS) / x86_64  OK    OK    OK  UNNEEDED, same version is already published
lconwaymacOS 12.7.6 Monterey / x86_64  OK    OK    OK    OK  UNNEEDED, same version is already published
kjohnson3macOS 13.7.7 Ventura / arm64  OK    OK    OK    OK  UNNEEDED, same version is already published
Package 24/375HostnameOS / ArchINSTALLBUILDCHECKBUILD BIN
benchdamic 1.16.0  (landing page)
Matteo Calgaro
git_last_commit: fcdab2a
git_last_commit_date: 2025-10-29 11:13:16 -0400
nebbiolo2Linux (Ubuntu 24.04.3 LTS) / x86_64  OK    OK    OK  NO, package depends on 'Maaslin2' which is not available
lconwaymacOS 12.7.6 Monterey / x86_64  OK    OK    OK    OK  NO, package depends on 'Maaslin2' which is not available
kjohnson3macOS 13.7.7 Ventura / arm64  OK    OK    OK    OK  NO, package depends on 'Maaslin2' which is not available
Package 25/375HostnameOS / ArchINSTALLBUILDCHECKBUILD BIN
BERT 1.6.0  (landing page)
Yannis Schumann
git_last_commit: 49dbe48
git_last_commit_date: 2025-10-29 11:26:54 -0400
nebbiolo2Linux (Ubuntu 24.04.3 LTS) / x86_64  OK    OK    OK  UNNEEDED, same version is already published
lconwaymacOS 12.7.6 Monterey / x86_64  OK    OK    OK    OK  UNNEEDED, same version is already published
kjohnson3macOS 13.7.7 Ventura / arm64  OK    OK    OK    OK  UNNEEDED, same version is already published
Package 26/375HostnameOS / ArchINSTALLBUILDCHECKBUILD BIN
BioCor 1.34.0  (landing page)
LluĆ­s Revilla Sancho
git_last_commit: 252c6ff
git_last_commit_date: 2025-10-29 10:37:26 -0400
nebbiolo2Linux (Ubuntu 24.04.3 LTS) / x86_64  OK    OK    OK  UNNEEDED, same version is already published
lconwaymacOS 12.7.6 Monterey / x86_64  OK    OK    OK    OK  UNNEEDED, same version is already published
kjohnson3macOS 13.7.7 Ventura / arm64  OK    OK    OK    OK  UNNEEDED, same version is already published
Package 27/375HostnameOS / ArchINSTALLBUILDCHECKBUILD BIN
BiocSingular 1.26.0  (landing page)
Aaron Lun
git_last_commit: b87ad48
git_last_commit_date: 2025-10-29 10:50:05 -0400
nebbiolo2Linux (Ubuntu 24.04.3 LTS) / x86_64  OK    OK    WARNINGS  UNNEEDED, same version is already published
lconwaymacOS 12.7.6 Monterey / x86_64  OK    OK    WARNINGS    OK  UNNEEDED, same version is already published
kjohnson3macOS 13.7.7 Ventura / arm64  OK    OK    WARNINGS    OK  UNNEEDED, same version is already published
Package 28/375HostnameOS / ArchINSTALLBUILDCHECKBUILD BIN
BioNERO 1.18.0  (landing page)
Fabricio Almeida-Silva
git_last_commit: 33be27e
git_last_commit_date: 2025-10-29 11:07:25 -0400
nebbiolo2Linux (Ubuntu 24.04.3 LTS) / x86_64  OK    OK    OK  UNNEEDED, same version is already published
lconwaymacOS 12.7.6 Monterey / x86_64  OK    OK    OK    OK  UNNEEDED, same version is already published
kjohnson3macOS 13.7.7 Ventura / arm64  OK    OK    OK    OK  UNNEEDED, same version is already published
Package 29/375HostnameOS / ArchINSTALLBUILDCHECKBUILD BIN
biotmle 1.34.0  (landing page)
Nima Hejazi
git_last_commit: 0d668f1
git_last_commit_date: 2025-10-29 10:38:19 -0400
nebbiolo2Linux (Ubuntu 24.04.3 LTS) / x86_64  OK    OK    OK  UNNEEDED, same version is already published
lconwaymacOS 12.7.6 Monterey / x86_64  OK    OK    OK    OK  UNNEEDED, same version is already published
kjohnson3macOS 13.7.7 Ventura / arm64  OK    OK    OK    OK  UNNEEDED, same version is already published
Package 30/375HostnameOS / ArchINSTALLBUILDCHECKBUILD BIN
biscuiteer 1.24.0  (landing page)
Jacob Morrison
git_last_commit: 29c89c4
git_last_commit_date: 2025-10-29 10:55:16 -0400
nebbiolo2Linux (Ubuntu 24.04.3 LTS) / x86_64  OK    OK    WARNINGS  UNNEEDED, same version is already published
lconwaymacOS 12.7.6 Monterey / x86_64  OK    OK    WARNINGS    OK  UNNEEDED, same version is already published
kjohnson3macOS 13.7.7 Ventura / arm64  OK    OK    WARNINGS    OK  UNNEEDED, same version is already published
Package 31/375HostnameOS / ArchINSTALLBUILDCHECKBUILD BIN
blase 1.0.0  (landing page)
Andrew McCluskey
git_last_commit: 874f31b
git_last_commit_date: 2025-10-29 11:38:12 -0400
nebbiolo2Linux (Ubuntu 24.04.3 LTS) / x86_64  OK    OK    OK  UNNEEDED, same version is already published
lconwaymacOS 12.7.6 Monterey / x86_64  OK    OK    OK    OK  UNNEEDED, same version is already published
kjohnson3macOS 13.7.7 Ventura / arm64  OK    OK    OK    OK  UNNEEDED, same version is already published
Package 32/375HostnameOS / ArchINSTALLBUILDCHECKBUILD BIN
bluster 1.20.0  (landing page)
Aaron Lun
git_last_commit: b47a2df
git_last_commit_date: 2025-10-29 11:00:44 -0400
nebbiolo2Linux (Ubuntu 24.04.3 LTS) / x86_64  OK    OK    OK  UNNEEDED, same version is already published
lconwaymacOS 12.7.6 Monterey / x86_64  OK    OK    OK    OK  UNNEEDED, same version is already published
kjohnson3macOS 13.7.7 Ventura / arm64  OK    OK    OK    OK  UNNEEDED, same version is already published
Package 33/375HostnameOS / ArchINSTALLBUILDCHECKBUILD BIN
brendaDb 1.24.0  (landing page)
Yi Zhou
git_last_commit: 2520fae
git_last_commit_date: 2025-10-29 10:53:47 -0400
nebbiolo2Linux (Ubuntu 24.04.3 LTS) / x86_64  OK    OK    OK  UNNEEDED, same version is already published
lconwaymacOS 12.7.6 Monterey / x86_64  OK    OK    OK    OK  UNNEEDED, same version is already published
kjohnson3macOS 13.7.7 Ventura / arm64  OK    OK    OK    OK  UNNEEDED, same version is already published
Package 34/375HostnameOS / ArchINSTALLBUILDCHECKBUILD BIN
bsseq 1.46.0  (landing page)
Kasper Daniel Hansen
git_last_commit: ea21812
git_last_commit_date: 2025-10-29 10:11:31 -0400
nebbiolo2Linux (Ubuntu 24.04.3 LTS) / x86_64  OK    OK    OK  UNNEEDED, same version is already published
lconwaymacOS 12.7.6 Monterey / x86_64  OK    OK    OK    OK  UNNEEDED, same version is already published
kjohnson3macOS 13.7.7 Ventura / arm64  OK    OK    OK    OK  UNNEEDED, same version is already published
Package 35/375HostnameOS / ArchINSTALLBUILDCHECKBUILD BIN
CAGEfightR 1.30.0  (landing page)
Malte Thodberg
git_last_commit: eda75c3
git_last_commit_date: 2025-10-29 10:45:17 -0400
nebbiolo2Linux (Ubuntu 24.04.3 LTS) / x86_64  OK    OK    OK  UNNEEDED, same version is already published
lconwaymacOS 12.7.6 Monterey / x86_64  OK    OK    OK    OK  UNNEEDED, same version is already published
kjohnson3macOS 13.7.7 Ventura / arm64  OK    OK    OK    OK  UNNEEDED, same version is already published
Package 36/375HostnameOS / ArchINSTALLBUILDCHECKBUILD BIN
CAGEr 2.16.0  (landing page)
Charles Plessy
git_last_commit: b717389
git_last_commit_date: 2025-10-29 10:13:45 -0400
nebbiolo2Linux (Ubuntu 24.04.3 LTS) / x86_64  OK    OK    OK  UNNEEDED, same version is already published
lconwaymacOS 12.7.6 Monterey / x86_64  OK    OK    OK    OK  UNNEEDED, same version is already published
kjohnson3macOS 13.7.7 Ventura / arm64  OK    OK    OK    OK  UNNEEDED, same version is already published
Package 37/375HostnameOS / ArchINSTALLBUILDCHECKBUILD BIN
Cardinal 3.12.0  (landing page)
Kylie Ariel Bemis
git_last_commit: 859d28b
git_last_commit_date: 2025-10-29 10:23:51 -0400
nebbiolo2Linux (Ubuntu 24.04.3 LTS) / x86_64  OK    OK    OK  UNNEEDED, same version is already published
lconwaymacOS 12.7.6 Monterey / x86_64  OK    OK    OK    OK  UNNEEDED, same version is already published
kjohnson3macOS 13.7.7 Ventura / arm64  OK    OK    OK    OK  UNNEEDED, same version is already published
Package 38/375HostnameOS / ArchINSTALLBUILDCHECKBUILD BIN
CardinalIO 1.8.0  (landing page)
Kylie Ariel Bemis
git_last_commit: 0a719c9
git_last_commit_date: 2025-10-29 11:24:36 -0400
nebbiolo2Linux (Ubuntu 24.04.3 LTS) / x86_64  OK    OK    OK  UNNEEDED, same version is already published
lconwaymacOS 12.7.6 Monterey / x86_64  OK    OK    OK    OK  UNNEEDED, same version is already published
kjohnson3macOS 13.7.7 Ventura / arm64  OK    OK    OK    OK  UNNEEDED, same version is already published
Package 39/375HostnameOS / ArchINSTALLBUILDCHECKBUILD BIN
CARDspa 1.2.0  (landing page)
Jing Fu
git_last_commit: 980a743
git_last_commit_date: 2025-10-29 11:34:40 -0400
nebbiolo2Linux (Ubuntu 24.04.3 LTS) / x86_64  OK    OK    OK  UNNEEDED, same version is already published
lconwaymacOS 12.7.6 Monterey / x86_64  OK    OK    OK    OK  UNNEEDED, same version is already published
kjohnson3macOS 13.7.7 Ventura / arm64  OK    OK    OK    OK  UNNEEDED, same version is already published
Package 40/375HostnameOS / ArchINSTALLBUILDCHECKBUILD BIN
CBN2Path 1.0.0  (landing page)
William Choi-Kim
git_last_commit: bb06034
git_last_commit_date: 2025-10-29 11:39:00 -0400
nebbiolo2Linux (Ubuntu 24.04.3 LTS) / x86_64  OK    OK    OK  YES
lconwaymacOS 12.7.6 Monterey / x86_64  OK    OK    WARNINGS    OK  UNNEEDED, same version is already published
kjohnson3macOS 13.7.7 Ventura / arm64  OK    ERROR  skippedskipped
Package 41/375HostnameOS / ArchINSTALLBUILDCHECKBUILD BIN
ccImpute 1.12.0  (landing page)
Marcin Malec
git_last_commit: 4f91f58
git_last_commit_date: 2025-10-29 11:19:37 -0400
nebbiolo2Linux (Ubuntu 24.04.3 LTS) / x86_64  OK    OK    OK  UNNEEDED, same version is already published
lconwaymacOS 12.7.6 Monterey / x86_64  OK    OK    OK    OK  UNNEEDED, same version is already published
kjohnson3macOS 13.7.7 Ventura / arm64  OK    OK    OK    OK  UNNEEDED, same version is already published
Package 42/375HostnameOS / ArchINSTALLBUILDCHECKBUILD BIN
CDI 1.8.0  (landing page)
Jiyuan Fang
git_last_commit: 1b170d2
git_last_commit_date: 2025-10-29 11:24:10 -0400
nebbiolo2Linux (Ubuntu 24.04.3 LTS) / x86_64  OK    OK    OK  UNNEEDED, same version is already published
lconwaymacOS 12.7.6 Monterey / x86_64  OK    OK    OK    OK  UNNEEDED, same version is already published
kjohnson3macOS 13.7.7 Ventura / arm64  OK    OK    OK    OK  UNNEEDED, same version is already published
Package 43/375HostnameOS / ArchINSTALLBUILDCHECKBUILD BIN
cellbaseR 1.34.0  (landing page)
Mohammed OE Abdallah
git_last_commit: eb7c9ed
git_last_commit_date: 2025-10-29 10:38:23 -0400
nebbiolo2Linux (Ubuntu 24.04.3 LTS) / x86_64  OK    OK    OK  UNNEEDED, same version is already published
lconwaymacOS 12.7.6 Monterey / x86_64  OK    OK    OK    OK  UNNEEDED, same version is already published
kjohnson3macOS 13.7.7 Ventura / arm64  OK    OK    OK    OK  UNNEEDED, same version is already published
Package 44/375HostnameOS / ArchINSTALLBUILDCHECKBUILD BIN
CellBench 1.26.0  (landing page)
Shian Su
git_last_commit: 452edea
git_last_commit_date: 2025-10-29 10:50:23 -0400
nebbiolo2Linux (Ubuntu 24.04.3 LTS) / x86_64  OK    OK    OK  UNNEEDED, same version is already published
lconwaymacOS 12.7.6 Monterey / x86_64  OK    OK    OK    OK  UNNEEDED, same version is already published
kjohnson3macOS 13.7.7 Ventura / arm64  OK    OK    OK    OK  UNNEEDED, same version is already published
Package 45/375HostnameOS / ArchINSTALLBUILDCHECKBUILD BIN
CelliD 1.18.0  (landing page)
Akira Cortal
git_last_commit: 097905e
git_last_commit_date: 2025-10-29 11:07:10 -0400
nebbiolo2Linux (Ubuntu 24.04.3 LTS) / x86_64  OK    OK    WARNINGS  UNNEEDED, same version is already published
lconwaymacOS 12.7.6 Monterey / x86_64  OK    OK    WARNINGS    OK  UNNEEDED, same version is already published
kjohnson3macOS 13.7.7 Ventura / arm64  OK    OK    WARNINGS    OK  UNNEEDED, same version is already published
Package 46/375HostnameOS / ArchINSTALLBUILDCHECKBUILD BIN
CellMixS 1.26.0  (landing page)
Almut Lütge
git_last_commit: 9f46a58
git_last_commit_date: 2025-10-29 10:51:12 -0400
nebbiolo2Linux (Ubuntu 24.04.3 LTS) / x86_64  OK    OK    OK  UNNEEDED, same version is already published
lconwaymacOS 12.7.6 Monterey / x86_64  OK    OK    OK    OK  UNNEEDED, same version is already published
kjohnson3macOS 13.7.7 Ventura / arm64  OK    OK    OK    OK  UNNEEDED, same version is already published
Package 47/375HostnameOS / ArchINSTALLBUILDCHECKBUILD BIN
censcyt 1.18.0  (landing page)
Reto Gerber
git_last_commit: c86eeed
git_last_commit_date: 2025-10-29 11:05:07 -0400
nebbiolo2Linux (Ubuntu 24.04.3 LTS) / x86_64  OK    OK    OK  UNNEEDED, same version is already published
lconwaymacOS 12.7.6 Monterey / x86_64  OK    OK    OK    OK  UNNEEDED, same version is already published
kjohnson3macOS 13.7.7 Ventura / arm64  OK    OK    OK    OK  UNNEEDED, same version is already published
Package 48/375HostnameOS / ArchINSTALLBUILDCHECKBUILD BIN
Cepo 1.16.0  (landing page)
Hani Jieun Kim
git_last_commit: 14015a6
git_last_commit_date: 2025-10-29 11:13:24 -0400
nebbiolo2Linux (Ubuntu 24.04.3 LTS) / x86_64  OK    OK    OK  UNNEEDED, same version is already published
lconwaymacOS 12.7.6 Monterey / x86_64  OK    OK    OK    OK  UNNEEDED, same version is already published
kjohnson3macOS 13.7.7 Ventura / arm64  OK    OK    OK    OK  UNNEEDED, same version is already published
Package 49/375HostnameOS / ArchINSTALLBUILDCHECKBUILD BIN
ChIPexoQual 1.34.0  (landing page)
Rene Welch
git_last_commit: fb0fa9b
git_last_commit_date: 2025-10-29 10:36:27 -0400
nebbiolo2Linux (Ubuntu 24.04.3 LTS) / x86_64  OK    OK    OK  UNNEEDED, same version is already published
lconwaymacOS 12.7.6 Monterey / x86_64  OK    OK    OK    OK  UNNEEDED, same version is already published
kjohnson3macOS 13.7.7 Ventura / arm64  OK    OK    OK    OK  UNNEEDED, same version is already published
Package 50/375HostnameOS / ArchINSTALLBUILDCHECKBUILD BIN
ChIPQC 1.46.0  (landing page)
Tom Carroll , Rory Stark
git_last_commit: bf87702
git_last_commit_date: 2025-10-29 10:18:53 -0400
nebbiolo2Linux (Ubuntu 24.04.3 LTS) / x86_64  ERROR    ERROR  skipped
lconwaymacOS 12.7.6 Monterey / x86_64  ERROR    ERROR  skippedskipped
kjohnson3macOS 13.7.7 Ventura / arm64  ERROR    ERROR  skippedskipped
Package 51/375HostnameOS / ArchINSTALLBUILDCHECKBUILD BIN
Chromatograms 1.0.0  (landing page)
Philippine Louail
git_last_commit: 74743d6
git_last_commit_date: 2025-10-29 11:37:38 -0400
nebbiolo2Linux (Ubuntu 24.04.3 LTS) / x86_64  OK    OK    OK  UNNEEDED, same version is already published
lconwaymacOS 12.7.6 Monterey / x86_64  OK    OK    OK    OK  UNNEEDED, same version is already published
kjohnson3macOS 13.7.7 Ventura / arm64  OK    OK    OK    OK  UNNEEDED, same version is already published
Package 52/375HostnameOS / ArchINSTALLBUILDCHECKBUILD BIN
ChromSCape 1.20.0  (landing page)
Pacome Prompsy
git_last_commit: a5a7bda
git_last_commit_date: 2025-10-29 11:02:56 -0400
nebbiolo2Linux (Ubuntu 24.04.3 LTS) / x86_64  OK    OK    WARNINGS  UNNEEDED, same version is already published
lconwaymacOS 12.7.6 Monterey / x86_64  OK    OK    WARNINGS    OK  UNNEEDED, same version is already published
kjohnson3macOS 13.7.7 Ventura / arm64  OK    OK    WARNINGS    OK  UNNEEDED, same version is already published
Package 53/375HostnameOS / ArchINSTALLBUILDCHECKBUILD BIN
chromVAR 1.32.0  (landing page)
Alicia Schep
git_last_commit: c67de98
git_last_commit_date: 2025-10-29 10:41:16 -0400
nebbiolo2Linux (Ubuntu 24.04.3 LTS) / x86_64  OK    OK    OK  UNNEEDED, same version is already published
lconwaymacOS 12.7.6 Monterey / x86_64  OK    OK    OK    OK  UNNEEDED, same version is already published
kjohnson3macOS 13.7.7 Ventura / arm64  OK    OK    OK    OK  UNNEEDED, same version is already published
Package 54/375HostnameOS / ArchINSTALLBUILDCHECKBUILD BIN
ClassifyR 3.14.0  (landing page)
Dario Strbenac
git_last_commit: ff15d84
git_last_commit_date: 2025-10-29 10:20:42 -0400
nebbiolo2Linux (Ubuntu 24.04.3 LTS) / x86_64  OK    OK    OK  UNNEEDED, same version is already published
lconwaymacOS 12.7.6 Monterey / x86_64  OK    OK    WARNINGS    OK  UNNEEDED, same version is already published
kjohnson3macOS 13.7.7 Ventura / arm64  OK    OK    WARNINGS    OK  UNNEEDED, same version is already published
Package 55/375HostnameOS / ArchINSTALLBUILDCHECKBUILD BIN
ClusterFoldSimilarity 1.6.0  (landing page)
Oscar Gonzalez-Velasco
git_last_commit: 8775001
git_last_commit_date: 2025-10-29 11:26:46 -0400
nebbiolo2Linux (Ubuntu 24.04.3 LTS) / x86_64  OK    OK    WARNINGS  UNNEEDED, same version is already published
lconwaymacOS 12.7.6 Monterey / x86_64  OK    OK    WARNINGS    OK  UNNEEDED, same version is already published
kjohnson3macOS 13.7.7 Ventura / arm64  OK    OK    WARNINGS    OK  UNNEEDED, same version is already published
Package 56/375HostnameOS / ArchINSTALLBUILDCHECKBUILD BIN
clusterSeq 1.34.0  (landing page)
Samuel Granjeaud
git_last_commit: 0ccb56f
git_last_commit_date: 2025-10-29 10:35:57 -0400
nebbiolo2Linux (Ubuntu 24.04.3 LTS) / x86_64  OK    OK    OK  UNNEEDED, same version is already published
lconwaymacOS 12.7.6 Monterey / x86_64  OK    OK    OK    OK  UNNEEDED, same version is already published
kjohnson3macOS 13.7.7 Ventura / arm64  OK    OK    OK    OK  UNNEEDED, same version is already published
Package 57/375HostnameOS / ArchINSTALLBUILDCHECKBUILD BIN
clustSIGNAL 1.2.0  (landing page)
Pratibha Panwar
git_last_commit: 55aa2e1
git_last_commit_date: 2025-10-29 11:35:51 -0400
nebbiolo2Linux (Ubuntu 24.04.3 LTS) / x86_64  OK    OK    OK  UNNEEDED, same version is already published
lconwaymacOS 12.7.6 Monterey / x86_64  OK    OK    OK    OK  UNNEEDED, same version is already published
kjohnson3macOS 13.7.7 Ventura / arm64  OK    OK    OK    OK  UNNEEDED, same version is already published
Package 58/375HostnameOS / ArchINSTALLBUILDCHECKBUILD BIN
CNVMetrics 1.14.0  (landing page)
Astrid DeschĆŖnes
git_last_commit: 0cb57c2
git_last_commit_date: 2025-10-29 11:14:10 -0400
nebbiolo2Linux (Ubuntu 24.04.3 LTS) / x86_64  OK    OK    ERROR  
lconwaymacOS 12.7.6 Monterey / x86_64  OK    OK    OK    OK  UNNEEDED, same version is already published
kjohnson3macOS 13.7.7 Ventura / arm64  OK    OK    OK    OK  UNNEEDED, same version is already published
Package 59/375HostnameOS / ArchINSTALLBUILDCHECKBUILD BIN
CNVRanger 1.26.0  (landing page)
Ludwig Geistlinger
git_last_commit: 53ff90f
git_last_commit_date: 2025-10-29 10:49:56 -0400
nebbiolo2Linux (Ubuntu 24.04.3 LTS) / x86_64  OK    OK    ERROR  
lconwaymacOS 12.7.6 Monterey / x86_64  OK    OK    OK    OK  UNNEEDED, same version is already published
kjohnson3macOS 13.7.7 Ventura / arm64  OK    OK    OK    OK  UNNEEDED, same version is already published
Package 60/375HostnameOS / ArchINSTALLBUILDCHECKBUILD BIN
CoGAPS 3.30.0  (landing page)
Elana J. Fertig
git_last_commit: 88653e4
git_last_commit_date: 2025-10-29 10:05:26 -0400
nebbiolo2Linux (Ubuntu 24.04.3 LTS) / x86_64  OK    OK    OK  UNNEEDED, same version is already published
lconwaymacOS 12.7.6 Monterey / x86_64  OK    OK    OK    OK  UNNEEDED, same version is already published
kjohnson3macOS 13.7.7 Ventura / arm64  OK    OK    OK    OK  UNNEEDED, same version is already published
Package 61/375HostnameOS / ArchINSTALLBUILDCHECKBUILD BIN
comapr 1.14.0  (landing page)
Ruqian Lyu
git_last_commit: d12ea38
git_last_commit_date: 2025-10-29 11:14:26 -0400
nebbiolo2Linux (Ubuntu 24.04.3 LTS) / x86_64  OK    OK    ERROR  
lconwaymacOS 12.7.6 Monterey / x86_64  OK    OK    ERROR    OK  
kjohnson3macOS 13.7.7 Ventura / arm64  OK    OK    ERROR    OK  
Package 62/375HostnameOS / ArchINSTALLBUILDCHECKBUILD BIN
coMethDMR 1.14.0  (landing page)
Fernanda Veitzman
git_last_commit: 052092e
git_last_commit_date: 2025-10-29 11:14:12 -0400
nebbiolo2Linux (Ubuntu 24.04.3 LTS) / x86_64  OK    OK    ERROR  
lconwaymacOS 12.7.6 Monterey / x86_64  OK    OK    OK    OK  UNNEEDED, same version is already published
kjohnson3macOS 13.7.7 Ventura / arm64  OK    OK    OK    OK  UNNEEDED, same version is already published
Package 63/375HostnameOS / ArchINSTALLBUILDCHECKBUILD BIN
CompoundDb 1.14.0  (landing page)
Johannes Rainer
git_last_commit: 287093d
git_last_commit_date: 2025-10-29 11:14:42 -0400
nebbiolo2Linux (Ubuntu 24.04.3 LTS) / x86_64  OK    OK    OK  UNNEEDED, same version is already published
lconwaymacOS 12.7.6 Monterey / x86_64  OK    OK    OK    OK  UNNEEDED, same version is already published
kjohnson3macOS 13.7.7 Ventura / arm64  OK    OK    OK    OK  UNNEEDED, same version is already published
Package 64/375HostnameOS / ArchINSTALLBUILDCHECKBUILD BIN
concordexR 1.10.0  (landing page)
Kayla Jackson
git_last_commit: 9ea0373
git_last_commit_date: 2025-10-29 11:22:42 -0400
nebbiolo2Linux (Ubuntu 24.04.3 LTS) / x86_64  OK    OK    WARNINGS  UNNEEDED, same version is already published
lconwaymacOS 12.7.6 Monterey / x86_64  OK    OK    WARNINGS    OK  UNNEEDED, same version is already published
kjohnson3macOS 13.7.7 Ventura / arm64  OK    OK    WARNINGS    OK  UNNEEDED, same version is already published
Package 65/375HostnameOS / ArchINSTALLBUILDCHECKBUILD BIN
condiments 1.18.0  (landing page)
Hector Roux de Bezieux
git_last_commit: 02f3c88
git_last_commit_date: 2025-10-29 11:07:39 -0400
nebbiolo2Linux (Ubuntu 24.04.3 LTS) / x86_64  OK    OK    OK  UNNEEDED, same version is already published
lconwaymacOS 12.7.6 Monterey / x86_64  OK    OK    OK    OK  UNNEEDED, same version is already published
kjohnson3macOS 13.7.7 Ventura / arm64  OK    OK    OK    OK  UNNEEDED, same version is already published
Package 66/375HostnameOS / ArchINSTALLBUILDCHECKBUILD BIN
consensusDE 1.28.0  (landing page)
Ashley J. Waardenberg
git_last_commit: 7c6b138
git_last_commit_date: 2025-10-29 10:48:35 -0400
nebbiolo2Linux (Ubuntu 24.04.3 LTS) / x86_64  OK    OK    OK  UNNEEDED, same version is already published
lconwaymacOS 12.7.6 Monterey / x86_64  OK    OK    OK    OK  UNNEEDED, same version is already published
kjohnson3macOS 13.7.7 Ventura / arm64  OK    OK    OK    OK  UNNEEDED, same version is already published
Package 67/375HostnameOS / ArchINSTALLBUILDCHECKBUILD BIN
consensusOV 1.32.0  (landing page)
Benjamin Haibe-Kains
git_last_commit: 04a4249
git_last_commit_date: 2025-10-29 10:39:32 -0400
nebbiolo2Linux (Ubuntu 24.04.3 LTS) / x86_64  OK    OK    OK  UNNEEDED, same version is already published
lconwaymacOS 12.7.6 Monterey / x86_64  OK    OK    OK    OK  UNNEEDED, same version is already published
kjohnson3macOS 13.7.7 Ventura / arm64  OK    OK    OK    OK  UNNEEDED, same version is already published
Package 68/375HostnameOS / ArchINSTALLBUILDCHECKBUILD BIN
consensusSeekeR 1.38.0  (landing page)
Astrid DeschĆŖnes
git_last_commit: 0f072df
git_last_commit_date: 2025-10-29 10:28:45 -0400
nebbiolo2Linux (Ubuntu 24.04.3 LTS) / x86_64  OK    OK    OK  UNNEEDED, same version is already published
lconwaymacOS 12.7.6 Monterey / x86_64  OK    OK    OK    OK  UNNEEDED, same version is already published
kjohnson3macOS 13.7.7 Ventura / arm64  OK    OK    OK    OK  UNNEEDED, same version is already published
Package 69/375HostnameOS / ArchINSTALLBUILDCHECKBUILD BIN
consICA 2.8.0  (landing page)
Petr V. Nazarov
git_last_commit: e606646
git_last_commit_date: 2025-10-29 11:18:38 -0400
nebbiolo2Linux (Ubuntu 24.04.3 LTS) / x86_64  OK    OK    OK  UNNEEDED, same version is already published
lconwaymacOS 12.7.6 Monterey / x86_64  OK    OK    OK    OK  UNNEEDED, same version is already published
kjohnson3macOS 13.7.7 Ventura / arm64  OK    OK    OK    OK  UNNEEDED, same version is already published
Package 70/375HostnameOS / ArchINSTALLBUILDCHECKBUILD BIN
Coralysis 1.0.0  (landing page)
António Sousa
git_last_commit: 146372a
git_last_commit_date: 2025-10-29 11:36:31 -0400
nebbiolo2Linux (Ubuntu 24.04.3 LTS) / x86_64  OK    OK    OK  UNNEEDED, same version is already published
lconwaymacOS 12.7.6 Monterey / x86_64  OK    OK    OK    OK  UNNEEDED, same version is already published
kjohnson3macOS 13.7.7 Ventura / arm64  OK    OK    OK    OK  UNNEEDED, same version is already published
Package 71/375HostnameOS / ArchINSTALLBUILDCHECKBUILD BIN
CoreGx 2.14.0  (landing page)
Benjamin Haibe-Kains
git_last_commit: d18e3bb
git_last_commit_date: 2025-10-29 10:59:21 -0400
nebbiolo2Linux (Ubuntu 24.04.3 LTS) / x86_64  OK    OK    OK  UNNEEDED, same version is already published
lconwaymacOS 12.7.6 Monterey / x86_64  OK    OK    OK    OK  UNNEEDED, same version is already published
kjohnson3macOS 13.7.7 Ventura / arm64  OK    OK    OK    OK  UNNEEDED, same version is already published
Package 72/375HostnameOS / ArchINSTALLBUILDCHECKBUILD BIN
coseq 1.34.0  (landing page)
Andrea Rau
git_last_commit: c25dfae
git_last_commit_date: 2025-10-29 10:36:16 -0400
nebbiolo2Linux (Ubuntu 24.04.3 LTS) / x86_64  OK    OK    OK  UNNEEDED, same version is already published
lconwaymacOS 12.7.6 Monterey / x86_64  OK    OK    OK    OK  UNNEEDED, same version is already published
kjohnson3macOS 13.7.7 Ventura / arm64  OK    OK    OK    OK  UNNEEDED, same version is already published
Package 73/375HostnameOS / ArchINSTALLBUILDCHECKBUILD BIN
cpvSNP 1.42.0  (landing page)
Caitlin McHugh
git_last_commit: 31700af
git_last_commit_date: 2025-10-29 10:23:10 -0400
nebbiolo2Linux (Ubuntu 24.04.3 LTS) / x86_64  OK    OK    OK  UNNEEDED, same version is already published
lconwaymacOS 12.7.6 Monterey / x86_64  OK    OK    OK    OK  UNNEEDED, same version is already published
kjohnson3macOS 13.7.7 Ventura / arm64  OK    OK    OK    OK  UNNEEDED, same version is already published
Package 74/375HostnameOS / ArchINSTALLBUILDCHECKBUILD BIN
CrispRVariants 1.38.0  (landing page)
Helen Lindsay
git_last_commit: d78780f
git_last_commit_date: 2025-10-29 10:29:17 -0400
nebbiolo2Linux (Ubuntu 24.04.3 LTS) / x86_64  OK    OK    WARNINGS  UNNEEDED, same version is already published
lconwaymacOS 12.7.6 Monterey / x86_64  OK    OK    WARNINGS    OK  UNNEEDED, same version is already published
kjohnson3macOS 13.7.7 Ventura / arm64  OK    OK    WARNINGS    OK  UNNEEDED, same version is already published
Package 75/375HostnameOS / ArchINSTALLBUILDCHECKBUILD BIN
crupR 1.2.0  (landing page)
Persia Akbari Omgba
git_last_commit: 01667b7
git_last_commit_date: 2025-10-29 11:36:29 -0400
nebbiolo2Linux (Ubuntu 24.04.3 LTS) / x86_64  OK    OK    OK  UNNEEDED, same version is already published
lconwaymacOS 12.7.6 Monterey / x86_64  OK    OK    OK    OK  UNNEEDED, same version is already published
kjohnson3macOS 13.7.7 Ventura / arm64  OK    OK    OK    OK  UNNEEDED, same version is already published
Package 76/375HostnameOS / ArchINSTALLBUILDCHECKBUILD BIN
csaw 1.44.0  (landing page)
Aaron Lun
git_last_commit: 592497a
git_last_commit_date: 2025-10-29 10:22:21 -0400
nebbiolo2Linux (Ubuntu 24.04.3 LTS) / x86_64  OK    OK    OK  UNNEEDED, same version is already published
lconwaymacOS 12.7.6 Monterey / x86_64  OK    OK    OK    OK  UNNEEDED, same version is already published
kjohnson3macOS 13.7.7 Ventura / arm64  OK    OK    WARNINGS    OK  UNNEEDED, same version is already published
Package 77/375HostnameOS / ArchINSTALLBUILDCHECKBUILD BIN
CTSV 1.12.0  (landing page)
Jinge Yu Developer
git_last_commit: 862c792
git_last_commit_date: 2025-10-29 11:17:28 -0400
nebbiolo2Linux (Ubuntu 24.04.3 LTS) / x86_64  OK    OK    OK  UNNEEDED, same version is already published
lconwaymacOS 12.7.6 Monterey / x86_64  OK    OK    OK    OK  UNNEEDED, same version is already published
kjohnson3macOS 13.7.7 Ventura / arm64  OK    OK    OK    OK  UNNEEDED, same version is already published
Package 78/375HostnameOS / ArchINSTALLBUILDCHECKBUILD BIN
cydar 1.34.0  (landing page)
Aaron Lun
git_last_commit: 92bf565
git_last_commit_date: 2025-10-29 10:37:34 -0400
nebbiolo2Linux (Ubuntu 24.04.3 LTS) / x86_64  OK    OK    OK  UNNEEDED, same version is already published
lconwaymacOS 12.7.6 Monterey / x86_64  OK    OK    OK    OK  UNNEEDED, same version is already published
kjohnson3macOS 13.7.7 Ventura / arm64  OK    OK    OK    OK  UNNEEDED, same version is already published
Package 79/375HostnameOS / ArchINSTALLBUILDCHECKBUILD BIN
cypress 1.6.0  (landing page)
Shilin Yu
git_last_commit: 2c7153e
git_last_commit_date: 2025-10-29 11:29:05 -0400
nebbiolo2Linux (Ubuntu 24.04.3 LTS) / x86_64  OK    OK    OK  UNNEEDED, same version is already published
lconwaymacOS 12.7.6 Monterey / x86_64  OK    OK    OK    OK  UNNEEDED, same version is already published
kjohnson3macOS 13.7.7 Ventura / arm64  OK    OK    OK    OK  UNNEEDED, same version is already published
Package 80/375HostnameOS / ArchINSTALLBUILDCHECKBUILD BIN
CytoGLMM 1.18.0  (landing page)
Christof Seiler
git_last_commit: e50528b
git_last_commit_date: 2025-10-29 11:07:44 -0400
nebbiolo2Linux (Ubuntu 24.04.3 LTS) / x86_64  OK    OK    OK  UNNEEDED, same version is already published
lconwaymacOS 12.7.6 Monterey / x86_64  OK    OK    OK    OK  UNNEEDED, same version is already published
kjohnson3macOS 13.7.7 Ventura / arm64  OK    OK    OK    OK  UNNEEDED, same version is already published
Package 81/375HostnameOS / ArchINSTALLBUILDCHECKBUILD BIN
cytoKernel 1.16.0  (landing page)
Tusharkanti Ghosh
git_last_commit: 3fcbac3
git_last_commit_date: 2025-10-29 11:12:20 -0400
nebbiolo2Linux (Ubuntu 24.04.3 LTS) / x86_64  OK    OK    OK  UNNEEDED, same version is already published
lconwaymacOS 12.7.6 Monterey / x86_64  OK    OK    OK    OK  UNNEEDED, same version is already published
kjohnson3macOS 13.7.7 Ventura / arm64  OK    OK    OK    OK  UNNEEDED, same version is already published
Package 82/375HostnameOS / ArchINSTALLBUILDCHECKBUILD BIN
cytomapper 1.22.0  (landing page)
Lasse Meyer
git_last_commit: 0d3160a
git_last_commit_date: 2025-10-29 10:57:59 -0400
nebbiolo2Linux (Ubuntu 24.04.3 LTS) / x86_64  OK    OK    OK  UNNEEDED, same version is already published
lconwaymacOS 12.7.6 Monterey / x86_64  OK    OK    OK    OK  UNNEEDED, same version is already published
kjohnson3macOS 13.7.7 Ventura / arm64  OK    OK    OK    OK  UNNEEDED, same version is already published
Package 83/375HostnameOS / ArchINSTALLBUILDCHECKBUILD BIN
CytoMDS 1.6.0  (landing page)
Philippe Hauchamps
git_last_commit: 778219a
git_last_commit_date: 2025-10-29 11:28:49 -0400
nebbiolo2Linux (Ubuntu 24.04.3 LTS) / x86_64  OK    OK    OK  UNNEEDED, same version is already published
lconwaymacOS 12.7.6 Monterey / x86_64  OK    OK    OK    OK  UNNEEDED, same version is already published
kjohnson3macOS 13.7.7 Ventura / arm64  OK    OK    OK    OK  UNNEEDED, same version is already published
Package 84/375HostnameOS / ArchINSTALLBUILDCHECKBUILD BIN
CytoPipeline 1.10.0  (landing page)
Philippe Hauchamps
git_last_commit: 4cb0101
git_last_commit_date: 2025-10-29 11:20:49 -0400
nebbiolo2Linux (Ubuntu 24.04.3 LTS) / x86_64  OK    OK    OK  UNNEEDED, same version is already published
lconwaymacOS 12.7.6 Monterey / x86_64  OK    OK    OK    OK  UNNEEDED, same version is already published
kjohnson3macOS 13.7.7 Ventura / arm64  OK    OK    OK    OK  UNNEEDED, same version is already published
Package 85/375HostnameOS / ArchINSTALLBUILDCHECKBUILD BIN
dcGSA 1.38.0  (landing page)
Jiehuan sun
git_last_commit: 5013bd3
git_last_commit_date: 2025-10-29 10:29:05 -0400
nebbiolo2Linux (Ubuntu 24.04.3 LTS) / x86_64  OK    OK    WARNINGS  UNNEEDED, same version is already published
lconwaymacOS 12.7.6 Monterey / x86_64  OK    OK    WARNINGS    OK  UNNEEDED, same version is already published
kjohnson3macOS 13.7.7 Ventura / arm64  OK    OK    WARNINGS    OK  UNNEEDED, same version is already published
Package 86/375HostnameOS / ArchINSTALLBUILDCHECKBUILD BIN
debCAM 1.28.0  (landing page)
Lulu Chen
git_last_commit: 300a06d
git_last_commit_date: 2025-10-29 10:54:19 -0400
nebbiolo2Linux (Ubuntu 24.04.3 LTS) / x86_64  ERROR    ERROR  skipped
lconwaymacOS 12.7.6 Monterey / x86_64  ERROR    ERROR  skippedskipped
kjohnson3macOS 13.7.7 Ventura / arm64  ERROR    ERROR  skippedskipped
Package 87/375HostnameOS / ArchINSTALLBUILDCHECKBUILD BIN
decoupleR 2.16.0  (landing page)
Pau Badia-i-Mompel
git_last_commit: ff3aa1d
git_last_commit_date: 2025-10-29 11:09:41 -0400
nebbiolo2Linux (Ubuntu 24.04.3 LTS) / x86_64  OK    OK    WARNINGS  UNNEEDED, same version is already published
lconwaymacOS 12.7.6 Monterey / x86_64  OK    OK    WARNINGS    OK  UNNEEDED, same version is already published
kjohnson3macOS 13.7.7 Ventura / arm64  OK    OK    ERROR    OK  
Package 88/375HostnameOS / ArchINSTALLBUILDCHECKBUILD BIN
DeepTarget 1.4.0  (landing page)
Trinh Nguyen
git_last_commit: 5b8241e
git_last_commit_date: 2025-10-29 11:30:45 -0400
nebbiolo2Linux (Ubuntu 24.04.3 LTS) / x86_64  OK    OK    OK  UNNEEDED, same version is already published
lconwaymacOS 12.7.6 Monterey / x86_64  OK    OK    OK    OK  UNNEEDED, same version is already published
kjohnson3macOS 13.7.7 Ventura / arm64  OK    OK    OK    OK  UNNEEDED, same version is already published
Package 89/375HostnameOS / ArchINSTALLBUILDCHECKBUILD BIN
DegCre 1.6.0  (landing page)
Brian S. Roberts
git_last_commit: b521002
git_last_commit_date: 2025-10-29 11:28:34 -0400
nebbiolo2Linux (Ubuntu 24.04.3 LTS) / x86_64  OK    OK    OK  UNNEEDED, same version is already published
lconwaymacOS 12.7.6 Monterey / x86_64  OK    OK    OK    OK  UNNEEDED, same version is already published
kjohnson3macOS 13.7.7 Ventura / arm64  OK    OK    OK    OK  UNNEEDED, same version is already published
Package 90/375HostnameOS / ArchINSTALLBUILDCHECKBUILD BIN
DepInfeR 1.14.0  (landing page)
Junyan Lu
git_last_commit: ce2b9fb
git_last_commit_date: 2025-10-29 11:15:57 -0400
nebbiolo2Linux (Ubuntu 24.04.3 LTS) / x86_64  OK    OK    OK  UNNEEDED, same version is already published
lconwaymacOS 12.7.6 Monterey / x86_64  OK    OK    OK    OK  UNNEEDED, same version is already published
kjohnson3macOS 13.7.7 Ventura / arm64  OK    OK    OK    OK  UNNEEDED, same version is already published
Package 91/375HostnameOS / ArchINSTALLBUILDCHECKBUILD BIN
derfinder 1.44.0  (landing page)
Leonardo Collado-Torres
git_last_commit: 7fd222b
git_last_commit_date: 2025-10-29 10:21:48 -0400
nebbiolo2Linux (Ubuntu 24.04.3 LTS) / x86_64  OK    OK    OK  UNNEEDED, same version is already published
lconwaymacOS 12.7.6 Monterey / x86_64  OK    OK    OK    OK  UNNEEDED, same version is already published
kjohnson3macOS 13.7.7 Ventura / arm64  OK    OK    OK    OK  UNNEEDED, same version is already published
Package 92/375HostnameOS / ArchINSTALLBUILDCHECKBUILD BIN
DEScan2 1.30.0  (landing page)
Dario Righelli
git_last_commit: 5e4b7c2
git_last_commit_date: 2025-10-29 10:43:47 -0400
nebbiolo2Linux (Ubuntu 24.04.3 LTS) / x86_64  OK    OK    OK  UNNEEDED, same version is already published
lconwaymacOS 12.7.6 Monterey / x86_64  OK    OK    OK    OK  UNNEEDED, same version is already published
kjohnson3macOS 13.7.7 Ventura / arm64  OK    OK    OK    OK  UNNEEDED, same version is already published
Package 93/375HostnameOS / ArchINSTALLBUILDCHECKBUILD BIN
DESeq2 1.50.0  (landing page)
Michael Love
git_last_commit: adf0634
git_last_commit_date: 2025-10-29 10:13:48 -0400
nebbiolo2Linux (Ubuntu 24.04.3 LTS) / x86_64  OK    OK    OK  UNNEEDED, same version is already published
lconwaymacOS 12.7.6 Monterey / x86_64  OK    OK    OK    OK  UNNEEDED, same version is already published
kjohnson3macOS 13.7.7 Ventura / arm64  OK    OK    OK    OK  UNNEEDED, same version is already published
Package 94/375HostnameOS / ArchINSTALLBUILDCHECKBUILD BIN
DEsingle 1.30.0  (landing page)
Zhun Miao
git_last_commit: c41f24a
git_last_commit_date: 2025-10-29 10:44:27 -0400
nebbiolo2Linux (Ubuntu 24.04.3 LTS) / x86_64  OK    OK    OK  UNNEEDED, same version is already published
lconwaymacOS 12.7.6 Monterey / x86_64  OK    OK    OK    OK  UNNEEDED, same version is already published
kjohnson3macOS 13.7.7 Ventura / arm64  OK    OK    OK    OK  UNNEEDED, same version is already published
Package 95/375HostnameOS / ArchINSTALLBUILDCHECKBUILD BIN
DESpace 2.2.1  (landing page)
Peiying Cai
git_last_commit: 90141ee
git_last_commit_date: 2025-10-31 08:20:25 -0400
nebbiolo2Linux (Ubuntu 24.04.3 LTS) / x86_64  OK    OK    OK  YES
lconwaymacOS 12.7.6 Monterey / x86_64  OK    OK    OK    OK  YES
kjohnson3macOS 13.7.7 Ventura / arm64  OK    OK    OK    OK  YES
Package 96/375HostnameOS / ArchINSTALLBUILDCHECKBUILD BIN
DEWSeq 1.24.0  (landing page)
bioinformatics team Hentze
git_last_commit: 02e5ed4
git_last_commit_date: 2025-10-29 10:55:18 -0400
nebbiolo2Linux (Ubuntu 24.04.3 LTS) / x86_64  OK    OK    OK  UNNEEDED, same version is already published
lconwaymacOS 12.7.6 Monterey / x86_64  OK    OK    OK    OK  UNNEEDED, same version is already published
kjohnson3macOS 13.7.7 Ventura / arm64  OK    OK    OK    OK  UNNEEDED, same version is already published
Package 97/375HostnameOS / ArchINSTALLBUILDCHECKBUILD BIN
DEXSeq 1.56.0  (landing page)
Alejandro Reyes
git_last_commit: 0f430e0
git_last_commit_date: 2025-10-29 10:07:54 -0400
nebbiolo2Linux (Ubuntu 24.04.3 LTS) / x86_64  OK    OK    OK  UNNEEDED, same version is already published
lconwaymacOS 12.7.6 Monterey / x86_64  OK    OK    OK    OK  UNNEEDED, same version is already published
kjohnson3macOS 13.7.7 Ventura / arm64  OK    OK    OK    OK  UNNEEDED, same version is already published
Package 98/375HostnameOS / ArchINSTALLBUILDCHECKBUILD BIN
DiffBind 3.20.0  (landing page)
Rory Stark
git_last_commit: fc696a0
git_last_commit_date: 2025-10-29 10:08:58 -0400
nebbiolo2Linux (Ubuntu 24.04.3 LTS) / x86_64  OK    OK    OK  UNNEEDED, same version is already published
lconwaymacOS 12.7.6 Monterey / x86_64  OK    OK    OK    OK  UNNEEDED, same version is already published
kjohnson3macOS 13.7.7 Ventura / arm64  OK    OK    OK    OK  UNNEEDED, same version is already published
Package 99/375HostnameOS / ArchINSTALLBUILDCHECKBUILD BIN
Dino 1.16.0  (landing page)
Jared Brown
git_last_commit: 479c993
git_last_commit_date: 2025-10-29 11:10:41 -0400
nebbiolo2Linux (Ubuntu 24.04.3 LTS) / x86_64  OK    OK    OK  UNNEEDED, same version is already published
lconwaymacOS 12.7.6 Monterey / x86_64  OK    OK    OK    OK  UNNEEDED, same version is already published
kjohnson3macOS 13.7.7 Ventura / arm64  OK    OK    OK    OK  UNNEEDED, same version is already published
Package 100/375HostnameOS / ArchINSTALLBUILDCHECKBUILD BIN
DMCFB 1.24.0  (landing page)
Farhad Shokoohi
git_last_commit: 0f829bf
git_last_commit_date: 2025-10-29 10:54:42 -0400
nebbiolo2Linux (Ubuntu 24.04.3 LTS) / x86_64  OK    OK    OK  UNNEEDED, same version is already published
lconwaymacOS 12.7.6 Monterey / x86_64  OK    OK    OK    OK  UNNEEDED, same version is already published
kjohnson3macOS 13.7.7 Ventura / arm64  OK    OK    OK    OK  UNNEEDED, same version is already published
Package 101/375HostnameOS / ArchINSTALLBUILDCHECKBUILD BIN
DMCHMM 1.32.0  (landing page)
Farhad Shokoohi
git_last_commit: 8994431
git_last_commit_date: 2025-10-29 10:40:26 -0400
nebbiolo2Linux (Ubuntu 24.04.3 LTS) / x86_64  OK    OK    OK  UNNEEDED, same version is already published
lconwaymacOS 12.7.6 Monterey / x86_64  OK    OK    OK    OK  UNNEEDED, same version is already published
kjohnson3macOS 13.7.7 Ventura / arm64  OK    OK    OK    OK  UNNEEDED, same version is already published
Package 102/375HostnameOS / ArchINSTALLBUILDCHECKBUILD BIN
DMRcaller 1.42.0  (landing page)
Nicolae Radu Zabet
git_last_commit: ba466d4
git_last_commit_date: 2025-10-29 10:25:12 -0400
nebbiolo2Linux (Ubuntu 24.04.3 LTS) / x86_64  OK    OK    OK  UNNEEDED, same version is already published
lconwaymacOS 12.7.6 Monterey / x86_64  OK    OK    OK    OK  UNNEEDED, same version is already published
kjohnson3macOS 13.7.7 Ventura / arm64  OK    OK    OK    OK  UNNEEDED, same version is already published
Package 103/375HostnameOS / ArchINSTALLBUILDCHECKBUILD BIN
dmrseq 1.30.0  (landing page)
Keegan Korthauer
git_last_commit: 10b6432
git_last_commit_date: 2025-10-29 10:43:32 -0400
nebbiolo2Linux (Ubuntu 24.04.3 LTS) / x86_64  OK    OK    OK  UNNEEDED, same version is already published
lconwaymacOS 12.7.6 Monterey / x86_64  OK    OK    OK    OK  UNNEEDED, same version is already published
kjohnson3macOS 13.7.7 Ventura / arm64  OK    OK    OK    OK  UNNEEDED, same version is already published
Package 104/375HostnameOS / ArchINSTALLBUILDCHECKBUILD BIN
DNEA 1.0.0  (landing page)
Christopher Patsalis
git_last_commit: a831e55
git_last_commit_date: 2025-10-29 11:36:34 -0400
nebbiolo2Linux (Ubuntu 24.04.3 LTS) / x86_64  OK    OK    OK  UNNEEDED, same version is already published
lconwaymacOS 12.7.6 Monterey / x86_64  OK    OK    OK    OK  UNNEEDED, same version is already published
kjohnson3macOS 13.7.7 Ventura / arm64  OK    OK    OK    OK  UNNEEDED, same version is already published
Package 105/375HostnameOS / ArchINSTALLBUILDCHECKBUILD BIN
doppelgangR 1.38.0  (landing page)
Levi Waldron
git_last_commit: deddc39
git_last_commit_date: 2025-10-29 10:30:40 -0400
nebbiolo2Linux (Ubuntu 24.04.3 LTS) / x86_64  OK    OK    OK  UNNEEDED, same version is already published
lconwaymacOS 12.7.6 Monterey / x86_64  OK    OK    OK    OK  UNNEEDED, same version is already published
kjohnson3macOS 13.7.7 Ventura / arm64  OK    OK    OK    OK  UNNEEDED, same version is already published
Package 106/375HostnameOS / ArchINSTALLBUILDCHECKBUILD BIN
DOSE 4.4.0  (landing page)
Guangchuang Yu
git_last_commit: 963047a
git_last_commit_date: 2025-10-29 10:07:51 -0400
nebbiolo2Linux (Ubuntu 24.04.3 LTS) / x86_64  OK    OK    OK  UNNEEDED, same version is already published
lconwaymacOS 12.7.6 Monterey / x86_64  OK    OK    OK    OK  UNNEEDED, same version is already published
kjohnson3macOS 13.7.7 Ventura / arm64  OK    OK    OK    OK  UNNEEDED, same version is already published
Package 107/375HostnameOS / ArchINSTALLBUILDCHECKBUILD BIN
dreamlet 1.8.0  (landing page)
Gabriel Hoffman
git_last_commit: 1eb467d
git_last_commit_date: 2025-10-29 11:25:03 -0400
nebbiolo2Linux (Ubuntu 24.04.3 LTS) / x86_64  OK    OK    OK  UNNEEDED, same version is already published
lconwaymacOS 12.7.6 Monterey / x86_64  OK    OK    OK    OK  UNNEEDED, same version is already published
kjohnson3macOS 13.7.7 Ventura / arm64  OK    OK    OK    OK  UNNEEDED, same version is already published
Package 108/375HostnameOS / ArchINSTALLBUILDCHECKBUILD BIN
DRIMSeq 1.38.0  (landing page)
Malgorzata Nowicka
git_last_commit: 7fdbd09
git_last_commit_date: 2025-10-29 10:30:52 -0400
nebbiolo2Linux (Ubuntu 24.04.3 LTS) / x86_64  OK    OK    WARNINGS  UNNEEDED, same version is already published
lconwaymacOS 12.7.6 Monterey / x86_64  OK    OK    WARNINGS    OK  UNNEEDED, same version is already published
kjohnson3macOS 13.7.7 Ventura / arm64  OK    OK    WARNINGS    OK  UNNEEDED, same version is already published
Package 109/375HostnameOS / ArchINSTALLBUILDCHECKBUILD BIN
DropletUtils 1.30.0  (landing page)
Jonathan Griffiths
git_last_commit: 6ef5eaa
git_last_commit_date: 2025-10-29 10:42:43 -0400
nebbiolo2Linux (Ubuntu 24.04.3 LTS) / x86_64  OK    OK    WARNINGS  UNNEEDED, same version is already published
lconwaymacOS 12.7.6 Monterey / x86_64  OK    OK    WARNINGS    OK  UNNEEDED, same version is already published
kjohnson3macOS 13.7.7 Ventura / arm64  OK    OK    WARNINGS    OK  UNNEEDED, same version is already published
Package 110/375HostnameOS / ArchINSTALLBUILDCHECKBUILD BIN
DSS 2.58.0  (landing page)
Hao Wu , Hao Feng
git_last_commit: 11b2949
git_last_commit_date: 2025-10-29 10:11:20 -0400
nebbiolo2Linux (Ubuntu 24.04.3 LTS) / x86_64  OK    OK    WARNINGS  UNNEEDED, same version is already published
lconwaymacOS 12.7.6 Monterey / x86_64  OK    OK    WARNINGS    OK  UNNEEDED, same version is already published
kjohnson3macOS 13.7.7 Ventura / arm64  OK    OK    WARNINGS    OK  UNNEEDED, same version is already published
Package 111/375HostnameOS / ArchINSTALLBUILDCHECKBUILD BIN
Dune 1.22.0  (landing page)
Hector Roux de Bezieux
git_last_commit: a0ee144
git_last_commit_date: 2025-10-29 10:57:43 -0400
nebbiolo2Linux (Ubuntu 24.04.3 LTS) / x86_64  OK    OK    OK  UNNEEDED, same version is already published
lconwaymacOS 12.7.6 Monterey / x86_64  OK    OK    OK    OK  UNNEEDED, same version is already published
kjohnson3macOS 13.7.7 Ventura / arm64  OK    OK    ERROR    OK  
Package 112/375HostnameOS / ArchINSTALLBUILDCHECKBUILD BIN
easier 1.16.0  (landing page)
Oscar Lapuente-Santana
git_last_commit: 7e059da
git_last_commit_date: 2025-10-29 11:13:51 -0400
nebbiolo2Linux (Ubuntu 24.04.3 LTS) / x86_64  OK    OK    OK  UNNEEDED, same version is already published
lconwaymacOS 12.7.6 Monterey / x86_64  OK    OK    OK    OK  UNNEEDED, same version is already published
kjohnson3macOS 13.7.7 Ventura / arm64  OK    OK    OK    OK  UNNEEDED, same version is already published
Package 113/375HostnameOS / ArchINSTALLBUILDCHECKBUILD BIN
easyRNASeq 2.46.0  (landing page)
Nicolas Delhomme
git_last_commit: e268573
git_last_commit_date: 2025-10-29 10:10:00 -0400
nebbiolo2Linux (Ubuntu 24.04.3 LTS) / x86_64  OK    OK    WARNINGS  UNNEEDED, same version is already published
lconwaymacOS 12.7.6 Monterey / x86_64  OK    OK    WARNINGS    OK  UNNEEDED, same version is already published
kjohnson3macOS 13.7.7 Ventura / arm64  OK    OK    WARNINGS    OK  UNNEEDED, same version is already published
Package 114/375HostnameOS / ArchINSTALLBUILDCHECKBUILD BIN
EMDomics 2.40.0  (landing page)
Sadhika Malladi and Daniel Schmolze
git_last_commit: 6076ee9
git_last_commit_date: 2025-10-29 10:26:01 -0400
nebbiolo2Linux (Ubuntu 24.04.3 LTS) / x86_64  OK    OK    OK  UNNEEDED, same version is already published
lconwaymacOS 12.7.6 Monterey / x86_64  OK    OK    OK    OK  UNNEEDED, same version is already published
kjohnson3macOS 13.7.7 Ventura / arm64  OK    OK    OK    OK  UNNEEDED, same version is already published
Package 115/375HostnameOS / ArchINSTALLBUILDCHECKBUILD BIN
enhancerHomologSearch 1.16.0  (landing page)
Jianhong Ou
git_last_commit: a7e3e8d
git_last_commit_date: 2025-10-29 11:11:19 -0400
nebbiolo2Linux (Ubuntu 24.04.3 LTS) / x86_64  OK    OK    OK  UNNEEDED, same version is already published
lconwaymacOS 12.7.6 Monterey / x86_64  OK    OK    OK    OK  UNNEEDED, same version is already published
kjohnson3macOS 13.7.7 Ventura / arm64  OK    OK    OK    OK  UNNEEDED, same version is already published
Package 116/375HostnameOS / ArchINSTALLBUILDCHECKBUILD BIN
epimutacions 1.14.0  (landing page)
Dolors Pelegri-Siso
git_last_commit: b56f6f9
git_last_commit_date: 2025-10-29 11:16:20 -0400
nebbiolo2Linux (Ubuntu 24.04.3 LTS) / x86_64  OK    OK    OK  UNNEEDED, same version is already published
lconwaymacOS 12.7.6 Monterey / x86_64  OK    OK    OK    OK  UNNEEDED, same version is already published
kjohnson3macOS 13.7.7 Ventura / arm64  OK    OK    OK    OK  UNNEEDED, same version is already published
Package 117/375HostnameOS / ArchINSTALLBUILDCHECKBUILD BIN
epiregulon 2.0.0  (landing page)
Xiaosai Yao
git_last_commit: d431343
git_last_commit_date: 2025-10-29 11:30:12 -0400
nebbiolo2Linux (Ubuntu 24.04.3 LTS) / x86_64  OK    OK    OK  UNNEEDED, same version is already published
lconwaymacOS 12.7.6 Monterey / x86_64  OK    OK    OK    OK  UNNEEDED, same version is already published
kjohnson3macOS 13.7.7 Ventura / arm64  OK    OK    OK    OK  UNNEEDED, same version is already published
Package 118/375HostnameOS / ArchINSTALLBUILDCHECKBUILD BIN
epistasisGA 1.12.0  (landing page)
Michael Nodzenski
git_last_commit: f898c7a
git_last_commit_date: 2025-10-29 11:19:08 -0400
nebbiolo2Linux (Ubuntu 24.04.3 LTS) / x86_64  OK    OK    WARNINGS  UNNEEDED, same version is already published
lconwaymacOS 12.7.6 Monterey / x86_64  OK    OK    WARNINGS    OK  UNNEEDED, same version is already published
kjohnson3macOS 13.7.7 Ventura / arm64  OK    OK    WARNINGS    OK  UNNEEDED, same version is already published
Package 119/375HostnameOS / ArchINSTALLBUILDCHECKBUILD BIN
ERSSA 1.28.0  (landing page)
Zixuan Shao
git_last_commit: d746337
git_last_commit_date: 2025-10-29 10:47:37 -0400
nebbiolo2Linux (Ubuntu 24.04.3 LTS) / x86_64  OK    OK    OK  UNNEEDED, same version is already published
lconwaymacOS 12.7.6 Monterey / x86_64  OK    OK    OK    OK  UNNEEDED, same version is already published
kjohnson3macOS 13.7.7 Ventura / arm64  OK    OK    OK    OK  UNNEEDED, same version is already published
Package 120/375HostnameOS / ArchINSTALLBUILDCHECKBUILD BIN
EWCE 1.18.0  (landing page)
Hiranyamaya Dash
git_last_commit: 413c045
git_last_commit_date: 2025-10-29 11:08:07 -0400
nebbiolo2Linux (Ubuntu 24.04.3 LTS) / x86_64  OK    OK    OK  UNNEEDED, same version is already published
lconwaymacOS 12.7.6 Monterey / x86_64  OK    OK    OK    OK  UNNEEDED, same version is already published
kjohnson3macOS 13.7.7 Ventura / arm64  OK    OK    OK    OK  UNNEEDED, same version is already published
Package 121/375HostnameOS / ArchINSTALLBUILDCHECKBUILD BIN
extraChIPs 1.14.0  (landing page)
Stevie Pederson
git_last_commit: 9b0567a
git_last_commit_date: 2025-10-29 11:16:32 -0400
nebbiolo2Linux (Ubuntu 24.04.3 LTS) / x86_64  OK    OK    OK  UNNEEDED, same version is already published
lconwaymacOS 12.7.6 Monterey / x86_64  OK    OK    OK    OK  UNNEEDED, same version is already published
kjohnson3macOS 13.7.7 Ventura / arm64  OK    OK    OK    OK  UNNEEDED, same version is already published
Package 122/375HostnameOS / ArchINSTALLBUILDCHECKBUILD BIN
factR 1.12.0  (landing page)
Fursham Hamid
git_last_commit: 1edd734
git_last_commit_date: 2025-10-29 11:17:33 -0400
nebbiolo2Linux (Ubuntu 24.04.3 LTS) / x86_64  OK    OK    OK  NO, package depends on 'drawProteins' which is not available
lconwaymacOS 12.7.6 Monterey / x86_64  OK    OK    OK    OK  NO, package depends on 'drawProteins' which is not available
kjohnson3macOS 13.7.7 Ventura / arm64  OK    OK    OK    OK  NO, package depends on 'drawProteins' which is not available
Package 123/375HostnameOS / ArchINSTALLBUILDCHECKBUILD BIN
faers 1.6.0  (landing page)
Yun Peng
git_last_commit: c149fa3
git_last_commit_date: 2025-10-29 11:27:55 -0400
nebbiolo2Linux (Ubuntu 24.04.3 LTS) / x86_64  OK    OK    ERROR  
lconwaymacOS 12.7.6 Monterey / x86_64  OK    OK    OK    OK  UNNEEDED, same version is already published
kjohnson3macOS 13.7.7 Ventura / arm64  OK    OK    OK    OK  UNNEEDED, same version is already published
Package 124/375HostnameOS / ArchINSTALLBUILDCHECKBUILD BIN
FEAST 1.18.0  (landing page)
Kenong Su
git_last_commit: ebbe15f
git_last_commit_date: 2025-10-29 11:08:37 -0400
nebbiolo2Linux (Ubuntu 24.04.3 LTS) / x86_64  OK    OK    OK  UNNEEDED, same version is already published
lconwaymacOS 12.7.6 Monterey / x86_64  OK    OK    OK    OK  UNNEEDED, same version is already published
kjohnson3macOS 13.7.7 Ventura / arm64  OK    OK    OK    OK  UNNEEDED, same version is already published
Package 125/375HostnameOS / ArchINSTALLBUILDCHECKBUILD BIN
fgsea 1.36.0  (landing page)
Alexey Sergushichev
git_last_commit: 1adab01
git_last_commit_date: 2025-10-29 10:32:59 -0400
nebbiolo2Linux (Ubuntu 24.04.3 LTS) / x86_64  OK    OK    OK  UNNEEDED, same version is already published
lconwaymacOS 12.7.6 Monterey / x86_64  OK    OK    OK    OK  UNNEEDED, same version is already published
kjohnson3macOS 13.7.7 Ventura / arm64  OK    OK    OK    OK  UNNEEDED, same version is already published
Package 126/375HostnameOS / ArchINSTALLBUILDCHECKBUILD BIN
findIPs 1.6.0  (landing page)
Shuo Wang
git_last_commit: b043ffe
git_last_commit_date: 2025-10-29 11:30:10 -0400
nebbiolo2Linux (Ubuntu 24.04.3 LTS) / x86_64  OK    OK    OK  UNNEEDED, same version is already published
lconwaymacOS 12.7.6 Monterey / x86_64  OK    OK    OK    OK  UNNEEDED, same version is already published
kjohnson3macOS 13.7.7 Ventura / arm64  OK    OK    OK    OK  UNNEEDED, same version is already published
Package 127/375HostnameOS / ArchINSTALLBUILDCHECKBUILD BIN
FindIT2 1.16.0  (landing page)
Guandong Shang
git_last_commit: 4bef48e
git_last_commit_date: 2025-10-29 11:10:30 -0400
nebbiolo2Linux (Ubuntu 24.04.3 LTS) / x86_64  OK    OK    OK  UNNEEDED, same version is already published
lconwaymacOS 12.7.6 Monterey / x86_64  OK    OK    OK    OK  UNNEEDED, same version is already published
kjohnson3macOS 13.7.7 Ventura / arm64  OK    OK    OK    OK  UNNEEDED, same version is already published
Package 128/375HostnameOS / ArchINSTALLBUILDCHECKBUILD BIN
FLAMES 2.4.1  (landing page)
Changqing Wang
git_last_commit: 41bbd55
git_last_commit_date: 2025-10-31 01:50:56 -0400
nebbiolo2Linux (Ubuntu 24.04.3 LTS) / x86_64  OK    OK    OK  YES
lconwaymacOS 12.7.6 Monterey / x86_64  OK    OK    OK    OK  YES
kjohnson3macOS 13.7.7 Ventura / arm64  OK    OK    OK    OK  YES
Package 129/375HostnameOS / ArchINSTALLBUILDCHECKBUILD BIN
flowcatchR 1.44.0  (landing page)
Federico Marini
git_last_commit: d670991
git_last_commit_date: 2025-10-29 10:22:08 -0400
nebbiolo2Linux (Ubuntu 24.04.3 LTS) / x86_64  OK    OK    OK  UNNEEDED, same version is already published
lconwaymacOS 12.7.6 Monterey / x86_64  OK    OK    OK    OK  UNNEEDED, same version is already published
kjohnson3macOS 13.7.7 Ventura / arm64  OK    OK    OK    OK  UNNEEDED, same version is already published
Package 130/375HostnameOS / ArchINSTALLBUILDCHECKBUILD BIN
flowSpecs 1.24.0  (landing page)
Jakob Theorell
git_last_commit: 2da6fa3
git_last_commit_date: 2025-10-29 10:54:23 -0400
nebbiolo2Linux (Ubuntu 24.04.3 LTS) / x86_64  OK    OK    OK  UNNEEDED, same version is already published
lconwaymacOS 12.7.6 Monterey / x86_64  OK    OK    OK    OK  UNNEEDED, same version is already published
kjohnson3macOS 13.7.7 Ventura / arm64  OK    OK    OK    OK  UNNEEDED, same version is already published
Package 131/375HostnameOS / ArchINSTALLBUILDCHECKBUILD BIN
FRASER 2.6.0  (landing page)
Christian Mertes
git_last_commit: b8faec2
git_last_commit_date: 2025-10-29 10:58:54 -0400
nebbiolo2Linux (Ubuntu 24.04.3 LTS) / x86_64  OK    OK    OK  UNNEEDED, same version is already published
lconwaymacOS 12.7.6 Monterey / x86_64  OK    OK    OK    OK  UNNEEDED, same version is already published
kjohnson3macOS 13.7.7 Ventura / arm64  OK    OK    OK    OK  UNNEEDED, same version is already published
Package 132/375HostnameOS / ArchINSTALLBUILDCHECKBUILD BIN
GDCRNATools 1.30.0  (landing page)
Ruidong Li
git_last_commit: 5237ba8
git_last_commit_date: 2025-10-29 10:42:54 -0400
nebbiolo2Linux (Ubuntu 24.04.3 LTS) / x86_64  OK    OK    OK  UNNEEDED, same version is already published
lconwaymacOS 12.7.6 Monterey / x86_64  OK    OK    OK    OK  UNNEEDED, same version is already published
kjohnson3macOS 13.7.7 Ventura / arm64  OK    OK    OK    OK  UNNEEDED, same version is already published
Package 133/375HostnameOS / ArchINSTALLBUILDCHECKBUILD BIN
gDNAx 1.8.0  (landing page)
Robert Castelo
git_last_commit: b09db45
git_last_commit_date: 2025-10-29 11:24:57 -0400
nebbiolo2Linux (Ubuntu 24.04.3 LTS) / x86_64  OK    OK    OK  UNNEEDED, same version is already published
lconwaymacOS 12.7.6 Monterey / x86_64  OK    OK    OK    OK  UNNEEDED, same version is already published
kjohnson3macOS 13.7.7 Ventura / arm64  OK    OK    OK    OK  UNNEEDED, same version is already published
Package 134/375HostnameOS / ArchINSTALLBUILDCHECKBUILD BIN
gDRcore 1.8.0  (landing page)
Arkadiusz Gladki
git_last_commit: 632e500
git_last_commit_date: 2025-10-29 11:24:07 -0400
nebbiolo2Linux (Ubuntu 24.04.3 LTS) / x86_64  OK    OK    OK  UNNEEDED, same version is already published
lconwaymacOS 12.7.6 Monterey / x86_64  OK    OK    OK    OK  UNNEEDED, same version is already published
kjohnson3macOS 13.7.7 Ventura / arm64  OK    OK    OK    OK  UNNEEDED, same version is already published
Package 135/375HostnameOS / ArchINSTALLBUILDCHECKBUILD BIN
gDRutils 1.8.0  (landing page)
Arkadiusz Gladki
git_last_commit: b7dd34b
git_last_commit_date: 2025-10-29 11:23:43 -0400
nebbiolo2Linux (Ubuntu 24.04.3 LTS) / x86_64  OK    OK    OK  UNNEEDED, same version is already published
lconwaymacOS 12.7.6 Monterey / x86_64  OK    OK    OK    OK  UNNEEDED, same version is already published
kjohnson3macOS 13.7.7 Ventura / arm64  OK    OK    OK    OK  UNNEEDED, same version is already published
Package 136/375HostnameOS / ArchINSTALLBUILDCHECKBUILD BIN
GeDi 1.6.0  (landing page)
Annekathrin Nedwed
git_last_commit: 308bc6a
git_last_commit_date: 2025-10-29 11:29:41 -0400
nebbiolo2Linux (Ubuntu 24.04.3 LTS) / x86_64  OK    OK    ERROR  
lconwaymacOS 12.7.6 Monterey / x86_64  OK    OK    ERROR    OK  
kjohnson3macOS 13.7.7 Ventura / arm64  OK    OK    ERROR    OK  
Package 137/375HostnameOS / ArchINSTALLBUILDCHECKBUILD BIN
GENESIS 2.40.0  (landing page)
Stephanie M. Gogarten
git_last_commit: 3637b1b
git_last_commit_date: 2025-10-29 10:24:42 -0400
nebbiolo2Linux (Ubuntu 24.04.3 LTS) / x86_64  OK    OK    OK  UNNEEDED, same version is already published
lconwaymacOS 12.7.6 Monterey / x86_64  OK    OK    OK    OK  UNNEEDED, same version is already published
kjohnson3macOS 13.7.7 Ventura / arm64  OK    OK    OK    OK  UNNEEDED, same version is already published
Package 138/375HostnameOS / ArchINSTALLBUILDCHECKBUILD BIN
GenomAutomorphism 1.12.0  (landing page)
Robersy Sanchez
git_last_commit: bb13ab8
git_last_commit_date: 2025-10-29 11:17:59 -0400
nebbiolo2Linux (Ubuntu 24.04.3 LTS) / x86_64  OK    OK    OK  UNNEEDED, same version is already published
lconwaymacOS 12.7.6 Monterey / x86_64  OK    OK    OK    OK  UNNEEDED, same version is already published
kjohnson3macOS 13.7.7 Ventura / arm64  OK    OK    OK    OK  UNNEEDED, same version is already published
Package 139/375HostnameOS / ArchINSTALLBUILDCHECKBUILD BIN
GenomicAlignments 1.46.0  (landing page)
Hervé Pagès
git_last_commit: 4bd0167
git_last_commit_date: 2025-10-29 13:50:18 -0400
nebbiolo2Linux (Ubuntu 24.04.3 LTS) / x86_64  OK    OK    OK  UNNEEDED, same version is already published
lconwaymacOS 12.7.6 Monterey / x86_64  OK    OK    OK    OK  UNNEEDED, same version is already published
kjohnson3macOS 13.7.7 Ventura / arm64  OK    OK    OK    OK  UNNEEDED, same version is already published
Package 140/375HostnameOS / ArchINSTALLBUILDCHECKBUILD BIN
GenomicFiles 1.46.0  (landing page)
Bioconductor Package Maintainer
git_last_commit: a7f3143
git_last_commit_date: 2025-10-29 10:19:18 -0400
nebbiolo2Linux (Ubuntu 24.04.3 LTS) / x86_64  OK    OK    OK  UNNEEDED, same version is already published
lconwaymacOS 12.7.6 Monterey / x86_64  OK    OK    OK    OK  UNNEEDED, same version is already published
kjohnson3macOS 13.7.7 Ventura / arm64  OK    OK    OK    OK  UNNEEDED, same version is already published
Package 141/375HostnameOS / ArchINSTALLBUILDCHECKBUILD BIN
gINTomics 1.6.0  (landing page)
Angelo Velle
git_last_commit: d433a6d
git_last_commit_date: 2025-10-29 11:30:01 -0400
nebbiolo2Linux (Ubuntu 24.04.3 LTS) / x86_64  OK    OK    OK  NO, package depends on 'OmnipathR' which is not available
lconwaymacOS 12.7.6 Monterey / x86_64  OK    OK    OK    OK  NO, package depends on 'OmnipathR' which is not available
kjohnson3macOS 13.7.7 Ventura / arm64  OK    OK    OK    OK  NO, package depends on 'OmnipathR' which is not available
Package 142/375HostnameOS / ArchINSTALLBUILDCHECKBUILD BIN
GloScope 2.0.0  (landing page)
William Torous
git_last_commit: 81cd950
git_last_commit_date: 2025-10-29 11:25:16 -0400
nebbiolo2Linux (Ubuntu 24.04.3 LTS) / x86_64  OK    OK    ERROR  
lconwaymacOS 12.7.6 Monterey / x86_64  OK    OK    ERROR    OK  
kjohnson3macOS 13.7.7 Ventura / arm64  OK    OK    ERROR    OK  
Package 143/375HostnameOS / ArchINSTALLBUILDCHECKBUILD BIN
gmapR 1.52.0  (landing page)
Michael Lawrence
git_last_commit: 10d6080
git_last_commit_date: 2025-10-29 10:11:34 -0400
nebbiolo2Linux (Ubuntu 24.04.3 LTS) / x86_64  OK    ERROR  skipped
lconwaymacOS 12.7.6 Monterey / x86_64  OK    ERROR  skippedskipped
kjohnson3macOS 13.7.7 Ventura / arm64  ERROR    ERROR  skippedskipped
Package 144/375HostnameOS / ArchINSTALLBUILDCHECKBUILD BIN
gscreend 1.24.0  (landing page)
Katharina Imkeller
git_last_commit: 3d8d358
git_last_commit_date: 2025-10-29 10:54:53 -0400
nebbiolo2Linux (Ubuntu 24.04.3 LTS) / x86_64  OK    OK    OK  UNNEEDED, same version is already published
lconwaymacOS 12.7.6 Monterey / x86_64  OK    OK    OK    OK  UNNEEDED, same version is already published
kjohnson3macOS 13.7.7 Ventura / arm64  OK    OK    OK    OK  UNNEEDED, same version is already published
Package 145/375HostnameOS / ArchINSTALLBUILDCHECKBUILD BIN
GSEABenchmarkeR 1.30.0  (landing page)
Ludwig Geistlinger
git_last_commit: 7ab14b8
git_last_commit_date: 2025-10-29 10:44:06 -0400
nebbiolo2Linux (Ubuntu 24.04.3 LTS) / x86_64  OK    OK    OK  UNNEEDED, same version is already published
lconwaymacOS 12.7.6 Monterey / x86_64  OK    OK    OK    OK  UNNEEDED, same version is already published
kjohnson3macOS 13.7.7 Ventura / arm64  OK    OK    OK    OK  UNNEEDED, same version is already published
Package 146/375HostnameOS / ArchINSTALLBUILDCHECKBUILD BIN
GSVA 2.4.0  (landing page)
Robert Castelo
git_last_commit: ab6d8f1
git_last_commit_date: 2025-10-29 10:07:40 -0400
nebbiolo2Linux (Ubuntu 24.04.3 LTS) / x86_64  OK    OK    OK  UNNEEDED, same version is already published
lconwaymacOS 12.7.6 Monterey / x86_64  OK    OK    OK    OK  UNNEEDED, same version is already published
kjohnson3macOS 13.7.7 Ventura / arm64  OK    OK    OK    OK  UNNEEDED, same version is already published
Package 147/375HostnameOS / ArchINSTALLBUILDCHECKBUILD BIN
h5vc 2.44.0  (landing page)
Paul Theodor Pyl
git_last_commit: 159497f
git_last_commit_date: 2025-10-29 10:17:13 -0400
nebbiolo2Linux (Ubuntu 24.04.3 LTS) / x86_64  OK    OK    WARNINGS  UNNEEDED, same version is already published
lconwaymacOS 12.7.6 Monterey / x86_64  OK    OK    WARNINGS    OK  UNNEEDED, same version is already published
kjohnson3macOS 13.7.7 Ventura / arm64  OK    OK    WARNINGS    OK  UNNEEDED, same version is already published
Package 148/375HostnameOS / ArchINSTALLBUILDCHECKBUILD BIN
HicAggR 1.6.0  (landing page)
Olivier Cuvier
git_last_commit: 8551a70
git_last_commit_date: 2025-10-29 11:30:21 -0400
nebbiolo2Linux (Ubuntu 24.04.3 LTS) / x86_64  OK    OK    WARNINGS  UNNEEDED, same version is already published
lconwaymacOS 12.7.6 Monterey / x86_64  OK    OK    WARNINGS    OK  UNNEEDED, same version is already published
kjohnson3macOS 13.7.7 Ventura / arm64  OK    OK    WARNINGS    OK  UNNEEDED, same version is already published
Package 149/375HostnameOS / ArchINSTALLBUILDCHECKBUILD BIN
HiCBricks 1.28.0  (landing page)
Koustav Pal
git_last_commit: 3296656
git_last_commit_date: 2025-10-29 10:48:17 -0400
nebbiolo2Linux (Ubuntu 24.04.3 LTS) / x86_64  OK    OK    OK  UNNEEDED, same version is already published
lconwaymacOS 12.7.6 Monterey / x86_64  OK    OK    OK    OK  UNNEEDED, same version is already published
kjohnson3macOS 13.7.7 Ventura / arm64  OK    OK    OK    OK  UNNEEDED, same version is already published
Package 150/375HostnameOS / ArchINSTALLBUILDCHECKBUILD BIN
HiCcompare 1.32.0  (landing page)
Mikhail Dozmorov
git_last_commit: 9add140
git_last_commit_date: 2025-10-29 10:39:45 -0400
nebbiolo2Linux (Ubuntu 24.04.3 LTS) / x86_64  OK    OK    OK  UNNEEDED, same version is already published
lconwaymacOS 12.7.6 Monterey / x86_64  OK    OK    OK    OK  UNNEEDED, same version is already published
kjohnson3macOS 13.7.7 Ventura / arm64  OK    OK    OK    OK  UNNEEDED, same version is already published
Package 151/375HostnameOS / ArchINSTALLBUILDCHECKBUILD BIN
HiCDOC 1.12.0  (landing page)
MaignĆ© Ɖlise
git_last_commit: 814d8c7
git_last_commit_date: 2025-10-29 11:17:41 -0400
nebbiolo2Linux (Ubuntu 24.04.3 LTS) / x86_64  OK    OK    OK  UNNEEDED, same version is already published
lconwaymacOS 12.7.6 Monterey / x86_64  OK    OK    OK    OK  UNNEEDED, same version is already published
kjohnson3macOS 13.7.7 Ventura / arm64  OK    OK    OK    OK  UNNEEDED, same version is already published
Package 152/375HostnameOS / ArchINSTALLBUILDCHECKBUILD BIN
HiCExperiment 1.10.0  (landing page)
Jacques Serizay
git_last_commit: 7a770a4
git_last_commit_date: 2025-10-29 11:21:02 -0400
nebbiolo2Linux (Ubuntu 24.04.3 LTS) / x86_64  OK    OK    OK  UNNEEDED, same version is already published
lconwaymacOS 12.7.6 Monterey / x86_64  OK    OK    OK    OK  UNNEEDED, same version is already published
kjohnson3macOS 13.7.7 Ventura / arm64  OK    OK    OK    OK  UNNEEDED, same version is already published
Package 153/375HostnameOS / ArchINSTALLBUILDCHECKBUILD BIN
HiContacts 1.12.0  (landing page)
Jacques Serizay
git_last_commit: 16d8499
git_last_commit_date: 2025-10-29 11:18:51 -0400
nebbiolo2Linux (Ubuntu 24.04.3 LTS) / x86_64  OK    OK    OK  UNNEEDED, same version is already published
lconwaymacOS 12.7.6 Monterey / x86_64  OK    OK    OK    OK  UNNEEDED, same version is already published
kjohnson3macOS 13.7.7 Ventura / arm64  OK    OK    OK    OK  UNNEEDED, same version is already published
Package 154/375HostnameOS / ArchINSTALLBUILDCHECKBUILD BIN
hiReadsProcessor 1.46.0  (landing page)
Nirav V Malani
git_last_commit: 8ccca6d
git_last_commit_date: 2025-10-29 10:21:04 -0400
nebbiolo2Linux (Ubuntu 24.04.3 LTS) / x86_64  OK    OK    ERROR  
lconwaymacOS 12.7.6 Monterey / x86_64  OK    OK    ERROR    OK  
kjohnson3macOS 13.7.7 Ventura / arm64  OK    OK    ERROR    OK  
Package 155/375HostnameOS / ArchINSTALLBUILDCHECKBUILD BIN
HTSFilter 1.50.0  (landing page)
Andrea Rau
git_last_commit: bc11c10
git_last_commit_date: 2025-10-29 10:13:32 -0400
nebbiolo2Linux (Ubuntu 24.04.3 LTS) / x86_64  OK    OK    OK  UNNEEDED, same version is already published
lconwaymacOS 12.7.6 Monterey / x86_64  OK    OK    OK    OK  UNNEEDED, same version is already published
kjohnson3macOS 13.7.7 Ventura / arm64  OK    OK    OK    OK  UNNEEDED, same version is already published
Package 156/375HostnameOS / ArchINSTALLBUILDCHECKBUILD BIN
HybridExpress 1.6.0  (landing page)
Fabricio Almeida-Silva
git_last_commit: b3f2227
git_last_commit_date: 2025-10-29 11:28:44 -0400
nebbiolo2Linux (Ubuntu 24.04.3 LTS) / x86_64  OK    OK    OK  UNNEEDED, same version is already published
lconwaymacOS 12.7.6 Monterey / x86_64  OK    OK    OK    OK  UNNEEDED, same version is already published
kjohnson3macOS 13.7.7 Ventura / arm64  OK    OK    OK    OK  UNNEEDED, same version is already published
Package 157/375HostnameOS / ArchINSTALLBUILDCHECKBUILD BIN
iasva 1.28.0  (landing page)
Donghyung Lee , Anthony Cheng
git_last_commit: 2a8ca9c
git_last_commit_date: 2025-10-29 10:45:37 -0400
nebbiolo2Linux (Ubuntu 24.04.3 LTS) / x86_64  OK    OK    OK  UNNEEDED, same version is already published
lconwaymacOS 12.7.6 Monterey / x86_64  OK    OK    OK    OK  UNNEEDED, same version is already published
kjohnson3macOS 13.7.7 Ventura / arm64  OK    OK    OK    OK  UNNEEDED, same version is already published
Package 158/375HostnameOS / ArchINSTALLBUILDCHECKBUILD BIN
icetea 1.28.0  (landing page)
Vivek Bhardwaj
git_last_commit: f7f280d
git_last_commit_date: 2025-10-29 10:45:57 -0400
nebbiolo2Linux (Ubuntu 24.04.3 LTS) / x86_64  OK    OK    WARNINGS  UNNEEDED, same version is already published
lconwaymacOS 12.7.6 Monterey / x86_64  OK    OK    WARNINGS    OK  UNNEEDED, same version is already published
kjohnson3macOS 13.7.7 Ventura / arm64  OK    OK    WARNINGS    OK  UNNEEDED, same version is already published
Package 159/375HostnameOS / ArchINSTALLBUILDCHECKBUILD BIN
ideal 2.4.0  (landing page)
Federico Marini
git_last_commit: ed2684d
git_last_commit_date: 2025-10-29 10:38:28 -0400
nebbiolo2Linux (Ubuntu 24.04.3 LTS) / x86_64  OK    OK    OK  UNNEEDED, same version is already published
lconwaymacOS 12.7.6 Monterey / x86_64  OK    OK    OK    OK  UNNEEDED, same version is already published
kjohnson3macOS 13.7.7 Ventura / arm64  OK    OK    OK    OK  UNNEEDED, same version is already published
Package 160/375HostnameOS / ArchINSTALLBUILDCHECKBUILD BIN
IMAS 1.34.0  (landing page)
Seonggyun Han
git_last_commit: ec268ac
git_last_commit_date: 2025-10-29 10:38:10 -0400
nebbiolo2Linux (Ubuntu 24.04.3 LTS) / x86_64  OK    ERROR  skipped
lconwaymacOS 12.7.6 Monterey / x86_64  OK    ERROR  skippedskipped
kjohnson3macOS 13.7.7 Ventura / arm64  OK    ERROR  skippedskipped
Package 161/375HostnameOS / ArchINSTALLBUILDCHECKBUILD BIN
imcRtools 1.16.0  (landing page)
Daniel Schulz
git_last_commit: 13fa3df
git_last_commit_date: 2025-10-29 11:12:28 -0400
nebbiolo2Linux (Ubuntu 24.04.3 LTS) / x86_64  OK    OK    OK  UNNEEDED, same version is already published
lconwaymacOS 12.7.6 Monterey / x86_64  OK    OK    OK    OK  UNNEEDED, same version is already published
kjohnson3macOS 13.7.7 Ventura / arm64  OK    OK    OK    OK  UNNEEDED, same version is already published
Package 162/375HostnameOS / ArchINSTALLBUILDCHECKBUILD BIN
INSPEcT 1.40.0  (landing page)
Stefano de Pretis
git_last_commit: c9f5ce1
git_last_commit_date: 2025-10-29 10:26:37 -0400
nebbiolo2Linux (Ubuntu 24.04.3 LTS) / x86_64  OK    OK    OK  UNNEEDED, same version is already published
lconwaymacOS 12.7.6 Monterey / x86_64  OK    OK    OK    OK  UNNEEDED, same version is already published
kjohnson3macOS 13.7.7 Ventura / arm64  OK    OK    OK    OK  UNNEEDED, same version is already published
Package 163/375HostnameOS / ArchINSTALLBUILDCHECKBUILD BIN
IntEREst 1.34.0  (landing page)
Ali Oghabian
git_last_commit: 8a4b0c3
git_last_commit_date: 2025-10-29 10:37:18 -0400
nebbiolo2Linux (Ubuntu 24.04.3 LTS) / x86_64  OK    OK    OK  UNNEEDED, same version is already published
lconwaymacOS 12.7.6 Monterey / x86_64  OK    OK    OK    OK  UNNEEDED, same version is already published
kjohnson3macOS 13.7.7 Ventura / arm64  OK    OK    OK    OK  UNNEEDED, same version is already published
Package 164/375HostnameOS / ArchINSTALLBUILDCHECKBUILD BIN
IONiseR 2.34.0  (landing page)
Mike Smith
git_last_commit: 25723cd
git_last_commit_date: 2025-10-29 10:26:28 -0400
nebbiolo2Linux (Ubuntu 24.04.3 LTS) / x86_64  OK    OK    OK  UNNEEDED, same version is already published
lconwaymacOS 12.7.6 Monterey / x86_64  OK    OK    OK    OK  UNNEEDED, same version is already published
kjohnson3macOS 13.7.7 Ventura / arm64  OK    OK    OK    OK  UNNEEDED, same version is already published
Package 165/375HostnameOS / ArchINSTALLBUILDCHECKBUILD BIN
iPath 1.16.0  (landing page)
Kenong Su
git_last_commit: 3e3fdf1
git_last_commit_date: 2025-10-29 11:10:58 -0400
nebbiolo2Linux (Ubuntu 24.04.3 LTS) / x86_64  OK    ERROR  skipped
lconwaymacOS 12.7.6 Monterey / x86_64  OK    ERROR  skippedskipped
kjohnson3macOS 13.7.7 Ventura / arm64  OK    ERROR  skippedskipped
Package 166/375HostnameOS / ArchINSTALLBUILDCHECKBUILD BIN
IPO 1.36.0  (landing page)
Thomas Lieb
git_last_commit: 94c7d49
git_last_commit_date: 2025-10-29 10:33:40 -0400
nebbiolo2Linux (Ubuntu 24.04.3 LTS) / x86_64  OK    OK    OK  UNNEEDED, same version is already published
lconwaymacOS 12.7.6 Monterey / x86_64  OK    ERROR  skippedskipped
kjohnson3macOS 13.7.7 Ventura / arm64  OK    ERROR  skippedskipped
Package 167/375HostnameOS / ArchINSTALLBUILDCHECKBUILD BIN
ISLET 1.12.0  (landing page)
Hao Feng
git_last_commit: ab9b785
git_last_commit_date: 2025-10-29 11:18:35 -0400
nebbiolo2Linux (Ubuntu 24.04.3 LTS) / x86_64  OK    OK    OK  UNNEEDED, same version is already published
lconwaymacOS 12.7.6 Monterey / x86_64  OK    OK    OK    OK  UNNEEDED, same version is already published
kjohnson3macOS 13.7.7 Ventura / arm64  OK    OK    OK    OK  UNNEEDED, same version is already published
Package 168/375HostnameOS / ArchINSTALLBUILDCHECKBUILD BIN
IsoformSwitchAnalyzeR 2.10.0  (landing page)
Kristoffer Vitting-Seerup
git_last_commit: 34e7c83
git_last_commit_date: 2025-10-29 10:38:58 -0400
nebbiolo2Linux (Ubuntu 24.04.3 LTS) / x86_64  OK    OK    OK  UNNEEDED, same version is already published
lconwaymacOS 12.7.6 Monterey / x86_64  OK    OK    OK    OK  UNNEEDED, same version is already published
kjohnson3macOS 13.7.7 Ventura / arm64  OK    OK    OK    OK  UNNEEDED, same version is already published
Package 169/375HostnameOS / ArchINSTALLBUILDCHECKBUILD BIN
IVAS 2.30.0  (landing page)
Seonggyun Han
git_last_commit: 5aaa72a
git_last_commit_date: 2025-10-29 10:23:46 -0400
nebbiolo2Linux (Ubuntu 24.04.3 LTS) / x86_64  OK    OK    WARNINGS  UNNEEDED, same version is already published
lconwaymacOS 12.7.6 Monterey / x86_64  OK    OK    WARNINGS    OK  UNNEEDED, same version is already published
kjohnson3macOS 13.7.7 Ventura / arm64  OK    OK    WARNINGS    OK  UNNEEDED, same version is already published
Package 170/375HostnameOS / ArchINSTALLBUILDCHECKBUILD BIN
jazzPanda 1.2.0  (landing page)
Melody Jin
git_last_commit: 8e3c90a
git_last_commit_date: 2025-10-29 11:34:53 -0400
nebbiolo2Linux (Ubuntu 24.04.3 LTS) / x86_64  OK    OK    OK  UNNEEDED, same version is already published
lconwaymacOS 12.7.6 Monterey / x86_64  OK    OK    OK    OK  UNNEEDED, same version is already published
kjohnson3macOS 13.7.7 Ventura / arm64  OK    OK    OK    OK  UNNEEDED, same version is already published
Package 171/375HostnameOS / ArchINSTALLBUILDCHECKBUILD BIN
katdetectr 1.12.0  (landing page)
Daan Hazelaar
git_last_commit: 3e318d9
git_last_commit_date: 2025-10-29 11:17:25 -0400
nebbiolo2Linux (Ubuntu 24.04.3 LTS) / x86_64  OK    OK    OK  UNNEEDED, same version is already published
lconwaymacOS 12.7.6 Monterey / x86_64  OK    OK    OK    OK  UNNEEDED, same version is already published
kjohnson3macOS 13.7.7 Ventura / arm64  OK    OK    OK    OK  UNNEEDED, same version is already published
Package 172/375HostnameOS / ArchINSTALLBUILDCHECKBUILD BIN
KinSwingR 1.28.0  (landing page)
Ashley J. Waardenberg
git_last_commit: 5de1986
git_last_commit_date: 2025-10-29 10:48:05 -0400
nebbiolo2Linux (Ubuntu 24.04.3 LTS) / x86_64  OK    OK    OK  UNNEEDED, same version is already published
lconwaymacOS 12.7.6 Monterey / x86_64  OK    OK    OK    OK  UNNEEDED, same version is already published
kjohnson3macOS 13.7.7 Ventura / arm64  OK    OK    OK    OK  UNNEEDED, same version is already published
Package 173/375HostnameOS / ArchINSTALLBUILDCHECKBUILD BIN
LimROTS 1.2.0  (landing page)
Ali Mostafa Anwar
git_last_commit: a9ce432
git_last_commit_date: 2025-10-29 11:33:21 -0400
nebbiolo2Linux (Ubuntu 24.04.3 LTS) / x86_64  OK    OK    OK  UNNEEDED, same version is already published
lconwaymacOS 12.7.6 Monterey / x86_64  OK    OK    OK    OK  UNNEEDED, same version is already published
kjohnson3macOS 13.7.7 Ventura / arm64  OK    OK    OK    OK  UNNEEDED, same version is already published
Package 174/375HostnameOS / ArchINSTALLBUILDCHECKBUILD BIN
lisaClust 1.18.0  (landing page)
Ellis Patrick
git_last_commit: 8ecd502
git_last_commit_date: 2025-10-29 11:06:59 -0400
nebbiolo2Linux (Ubuntu 24.04.3 LTS) / x86_64  OK    OK    OK  UNNEEDED, same version is already published
lconwaymacOS 12.7.6 Monterey / x86_64  OK    OK    OK    OK  UNNEEDED, same version is already published
kjohnson3macOS 13.7.7 Ventura / arm64  OK    OK    OK    OK  UNNEEDED, same version is already published
Package 175/375HostnameOS / ArchINSTALLBUILDCHECKBUILD BIN
loci2path 1.30.0  (landing page)
Tianlei Xu
git_last_commit: ce699f6
git_last_commit_date: 2025-10-29 10:42:22 -0400
nebbiolo2Linux (Ubuntu 24.04.3 LTS) / x86_64  OK    OK    OK  UNNEEDED, same version is already published
lconwaymacOS 12.7.6 Monterey / x86_64  OK    OK    OK    OK  UNNEEDED, same version is already published
kjohnson3macOS 13.7.7 Ventura / arm64  OK    OK    OK    OK  UNNEEDED, same version is already published
Package 176/375HostnameOS / ArchINSTALLBUILDCHECKBUILD BIN
LRcell 1.18.0  (landing page)
Wenjing Ma
git_last_commit: de409ff
git_last_commit_date: 2025-10-29 11:07:47 -0400
nebbiolo2Linux (Ubuntu 24.04.3 LTS) / x86_64  OK    OK    OK  UNNEEDED, same version is already published
lconwaymacOS 12.7.6 Monterey / x86_64  OK    OK    OK    OK  UNNEEDED, same version is already published
kjohnson3macOS 13.7.7 Ventura / arm64  OK    OK    OK    OK  UNNEEDED, same version is already published
Package 177/375HostnameOS / ArchINSTALLBUILDCHECKBUILD BIN
Macarron 1.14.0  (landing page)
Sagun Maharjan
git_last_commit: 28010af
git_last_commit_date: 2025-10-29 11:16:43 -0400
nebbiolo2Linux (Ubuntu 24.04.3 LTS) / x86_64  OK    ERROR  skipped
lconwaymacOS 12.7.6 Monterey / x86_64  OK    ERROR  skippedskipped
kjohnson3macOS 13.7.7 Ventura / arm64  OK    ERROR  skippedskipped
Package 178/375HostnameOS / ArchINSTALLBUILDCHECKBUILD BIN
magpie 1.10.0  (landing page)
Daoyu Duan
git_last_commit: 0afc3bf
git_last_commit_date: 2025-10-29 11:21:48 -0400
nebbiolo2Linux (Ubuntu 24.04.3 LTS) / x86_64  OK    OK    WARNINGS  UNNEEDED, same version is already published
lconwaymacOS 12.7.6 Monterey / x86_64  OK    OK    WARNINGS    OK  UNNEEDED, same version is already published
kjohnson3macOS 13.7.7 Ventura / arm64  OK    OK    WARNINGS    OK  UNNEEDED, same version is already published
Package 179/375HostnameOS / ArchINSTALLBUILDCHECKBUILD BIN
magrene 1.12.0  (landing page)
FabrĆ­cio Almeida-Silva
git_last_commit: 48a1be6
git_last_commit_date: 2025-10-29 11:19:02 -0400
nebbiolo2Linux (Ubuntu 24.04.3 LTS) / x86_64  OK    OK    OK  UNNEEDED, same version is already published
lconwaymacOS 12.7.6 Monterey / x86_64  OK    OK    OK    OK  UNNEEDED, same version is already published
kjohnson3macOS 13.7.7 Ventura / arm64  OK    OK    OK    OK  UNNEEDED, same version is already published
Package 180/375HostnameOS / ArchINSTALLBUILDCHECKBUILD BIN
mariner 1.10.0  (landing page)
Eric Davis
git_last_commit: 0e27ac7
git_last_commit_date: 2025-10-29 11:23:11 -0400
nebbiolo2Linux (Ubuntu 24.04.3 LTS) / x86_64  OK    OK    OK  UNNEEDED, same version is already published
lconwaymacOS 12.7.6 Monterey / x86_64  OK    OK    OK    OK  UNNEEDED, same version is already published
kjohnson3macOS 13.7.7 Ventura / arm64  OK    OK    OK    OK  UNNEEDED, same version is already published
Package 181/375HostnameOS / ArchINSTALLBUILDCHECKBUILD BIN
matter 2.12.0  (landing page)
Kylie A. Bemis
git_last_commit: 42b13d8
git_last_commit_date: 2025-10-29 10:34:59 -0400
nebbiolo2Linux (Ubuntu 24.04.3 LTS) / x86_64  OK    OK    OK  UNNEEDED, same version is already published
lconwaymacOS 12.7.6 Monterey / x86_64  OK    OK    ERROR    OK  
kjohnson3macOS 13.7.7 Ventura / arm64  OK    OK    OK    OK  UNNEEDED, same version is already published
Package 182/375HostnameOS / ArchINSTALLBUILDCHECKBUILD BIN
MBASED 1.44.0  (landing page)
Oleg Mayba
git_last_commit: 3039beb
git_last_commit_date: 2025-10-29 10:21:07 -0400
nebbiolo2Linux (Ubuntu 24.04.3 LTS) / x86_64  OK    OK    OK  UNNEEDED, same version is already published
lconwaymacOS 12.7.6 Monterey / x86_64  OK    OK    OK    OK  UNNEEDED, same version is already published
kjohnson3macOS 13.7.7 Ventura / arm64  OK    OK    OK    OK  UNNEEDED, same version is already published
Package 183/375HostnameOS / ArchINSTALLBUILDCHECKBUILD BIN
mbkmeans 1.26.0  (landing page)
Davide Risso
git_last_commit: 4dc9338
git_last_commit_date: 2025-10-29 10:51:15 -0400
nebbiolo2Linux (Ubuntu 24.04.3 LTS) / x86_64  OK    OK    OK  UNNEEDED, same version is already published
lconwaymacOS 12.7.6 Monterey / x86_64  OK    OK    OK    OK  UNNEEDED, same version is already published
kjohnson3macOS 13.7.7 Ventura / arm64  OK    OK    OK    OK  UNNEEDED, same version is already published
Package 184/375HostnameOS / ArchINSTALLBUILDCHECKBUILD BIN
MCbiclust 1.34.0  (landing page)
Robert Bentham
git_last_commit: 68eea3e
git_last_commit_date: 2025-10-29 10:36:44 -0400
nebbiolo2Linux (Ubuntu 24.04.3 LTS) / x86_64  OK    OK    OK  UNNEEDED, same version is already published
lconwaymacOS 12.7.6 Monterey / x86_64  OK    OK    OK    OK  UNNEEDED, same version is already published
kjohnson3macOS 13.7.7 Ventura / arm64  OK    OK    OK    OK  UNNEEDED, same version is already published
Package 185/375HostnameOS / ArchINSTALLBUILDCHECKBUILD BIN
MetaboAnnotation 1.14.0  (landing page)
Johannes Rainer
git_last_commit: 790d88f
git_last_commit_date: 2025-10-29 11:14:44 -0400
nebbiolo2Linux (Ubuntu 24.04.3 LTS) / x86_64  OK    OK    OK  UNNEEDED, same version is already published
lconwaymacOS 12.7.6 Monterey / x86_64  OK    OK    OK    OK  UNNEEDED, same version is already published
kjohnson3macOS 13.7.7 Ventura / arm64  OK    OK    OK    OK  UNNEEDED, same version is already published
Package 186/375HostnameOS / ArchINSTALLBUILDCHECKBUILD BIN
MetaboCoreUtils 1.18.0  (landing page)
Johannes Rainer
git_last_commit: c4fa33d
git_last_commit_date: 2025-10-29 11:06:05 -0400
nebbiolo2Linux (Ubuntu 24.04.3 LTS) / x86_64  OK    OK    OK  UNNEEDED, same version is already published
lconwaymacOS 12.7.6 Monterey / x86_64  OK    OK    OK    OK  UNNEEDED, same version is already published
kjohnson3macOS 13.7.7 Ventura / arm64  OK    OK    OK    OK  UNNEEDED, same version is already published
Package 187/375HostnameOS / ArchINSTALLBUILDCHECKBUILD BIN
metabomxtr 1.44.0  (landing page)
Michael Nodzenski
git_last_commit: db88c37
git_last_commit_date: 2025-10-29 10:20:39 -0400
nebbiolo2Linux (Ubuntu 24.04.3 LTS) / x86_64  OK    OK    OK  UNNEEDED, same version is already published
lconwaymacOS 12.7.6 Monterey / x86_64  OK    OK    OK    OK  UNNEEDED, same version is already published
kjohnson3macOS 13.7.7 Ventura / arm64  OK    OK    OK    OK  UNNEEDED, same version is already published
Package 188/375HostnameOS / ArchINSTALLBUILDCHECKBUILD BIN
metagene2 1.26.0  (landing page)
Eric Fournier
git_last_commit: 6ab755a
git_last_commit_date: 2025-10-29 10:52:02 -0400
nebbiolo2Linux (Ubuntu 24.04.3 LTS) / x86_64  OK    OK    WARNINGS  UNNEEDED, same version is already published
lconwaymacOS 12.7.6 Monterey / x86_64  OK    OK    WARNINGS    OK  UNNEEDED, same version is already published
kjohnson3macOS 13.7.7 Ventura / arm64  OK    OK    WARNINGS    OK  UNNEEDED, same version is already published
Package 189/375HostnameOS / ArchINSTALLBUILDCHECKBUILD BIN
metapone 1.16.0  (landing page)
Tianwei Yu
git_last_commit: 1bdf6f5
git_last_commit_date: 2025-10-29 11:11:56 -0400
nebbiolo2Linux (Ubuntu 24.04.3 LTS) / x86_64  OK    OK    OK  UNNEEDED, same version is already published
lconwaymacOS 12.7.6 Monterey / x86_64  OK    OK    OK    OK  UNNEEDED, same version is already published
kjohnson3macOS 13.7.7 Ventura / arm64  OK    OK    OK    OK  UNNEEDED, same version is already published
Package 190/375HostnameOS / ArchINSTALLBUILDCHECKBUILD BIN
metaseqR2 1.22.0  (landing page)
Panagiotis Moulos
git_last_commit: e5e7809
git_last_commit_date: 2025-10-29 10:59:18 -0400
nebbiolo2Linux (Ubuntu 24.04.3 LTS) / x86_64  OK    OK    OK  UNNEEDED, same version is already published
lconwaymacOS 12.7.6 Monterey / x86_64  OK    OK    OK    OK  UNNEEDED, same version is already published
kjohnson3macOS 13.7.7 Ventura / arm64  OK    OK    OK    OK  UNNEEDED, same version is already published
Package 191/375HostnameOS / ArchINSTALLBUILDCHECKBUILD BIN
methodical 1.6.0  (landing page)
Richard Heery
git_last_commit: ebf4ab4
git_last_commit_date: 2025-10-29 11:27:18 -0400
nebbiolo2Linux (Ubuntu 24.04.3 LTS) / x86_64  OK    OK    WARNINGS  UNNEEDED, same version is already published
lconwaymacOS 12.7.6 Monterey / x86_64  OK    OK    WARNINGS    OK  UNNEEDED, same version is already published
kjohnson3macOS 13.7.7 Ventura / arm64  OK    OK    WARNINGS    OK  UNNEEDED, same version is already published
Package 192/375HostnameOS / ArchINSTALLBUILDCHECKBUILD BIN
MethylAid 1.44.0  (landing page)
L.J.Sinke
git_last_commit: b29b803
git_last_commit_date: 2025-10-29 10:19:42 -0400
nebbiolo2Linux (Ubuntu 24.04.3 LTS) / x86_64  OK    OK    OK  UNNEEDED, same version is already published
lconwaymacOS 12.7.6 Monterey / x86_64  OK    OK    OK    OK  UNNEEDED, same version is already published
kjohnson3macOS 13.7.7 Ventura / arm64  OK    OK    OK    OK  UNNEEDED, same version is already published
Package 193/375HostnameOS / ArchINSTALLBUILDCHECKBUILD BIN
methylGSA 1.28.0  (landing page)
Xu Ren
git_last_commit: 66c5dc9
git_last_commit_date: 2025-10-29 10:46:15 -0400
nebbiolo2Linux (Ubuntu 24.04.3 LTS) / x86_64  OK    OK    OK  UNNEEDED, same version is already published
lconwaymacOS 12.7.6 Monterey / x86_64  OK    OK    OK    OK  UNNEEDED, same version is already published
kjohnson3macOS 13.7.7 Ventura / arm64  OK    OK    OK    OK  UNNEEDED, same version is already published
Package 194/375HostnameOS / ArchINSTALLBUILDCHECKBUILD BIN
methyLImp2 1.6.0  (landing page)
Anna Plaksienko
git_last_commit: 58cc470
git_last_commit_date: 2025-10-29 11:28:39 -0400
nebbiolo2Linux (Ubuntu 24.04.3 LTS) / x86_64  OK    OK    OK  UNNEEDED, same version is already published
lconwaymacOS 12.7.6 Monterey / x86_64  OK    OK    OK    OK  UNNEEDED, same version is already published
kjohnson3macOS 13.7.7 Ventura / arm64  OK    OK    OK    OK  UNNEEDED, same version is already published
Package 195/375HostnameOS / ArchINSTALLBUILDCHECKBUILD BIN
methylInheritance 1.34.0  (landing page)
Astrid DeschĆŖnes
git_last_commit: 43a28dd
git_last_commit_date: 2025-10-29 10:38:16 -0400
nebbiolo2Linux (Ubuntu 24.04.3 LTS) / x86_64  OK    OK    OK  UNNEEDED, same version is already published
lconwaymacOS 12.7.6 Monterey / x86_64  OK    OK    OK    OK  UNNEEDED, same version is already published
kjohnson3macOS 13.7.7 Ventura / arm64  OK    OK    OK    OK  UNNEEDED, same version is already published
Package 196/375HostnameOS / ArchINSTALLBUILDCHECKBUILD BIN
methylscaper 1.18.0  (landing page)
Bacher Rhonda
git_last_commit: 10fab04
git_last_commit_date: 2025-10-29 11:07:12 -0400
nebbiolo2Linux (Ubuntu 24.04.3 LTS) / x86_64  OK    OK    OK  UNNEEDED, same version is already published
lconwaymacOS 12.7.6 Monterey / x86_64  OK    OK    OK    OK  UNNEEDED, same version is already published
kjohnson3macOS 13.7.7 Ventura / arm64  OK    OK    OK    OK  UNNEEDED, same version is already published
Package 197/375HostnameOS / ArchINSTALLBUILDCHECKBUILD BIN
MetNet 1.28.0  (landing page)
Thomas Naake
git_last_commit: ac9d855
git_last_commit_date: 2025-10-29 10:47:00 -0400
nebbiolo2Linux (Ubuntu 24.04.3 LTS) / x86_64  OK    OK    OK  UNNEEDED, same version is already published
lconwaymacOS 12.7.6 Monterey / x86_64  OK    OK    OK    OK  UNNEEDED, same version is already published
kjohnson3macOS 13.7.7 Ventura / arm64  OK    OK    OK    OK  UNNEEDED, same version is already published
Package 198/375HostnameOS / ArchINSTALLBUILDCHECKBUILD BIN
mia 1.18.0  (landing page)
Tuomas Borman
git_last_commit: ad28035
git_last_commit_date: 2025-10-29 11:07:20 -0400
nebbiolo2Linux (Ubuntu 24.04.3 LTS) / x86_64  OK    OK    OK  UNNEEDED, same version is already published
lconwaymacOS 12.7.6 Monterey / x86_64  OK    OK    TIMEOUT    OK  
kjohnson3macOS 13.7.7 Ventura / arm64  OK    OK    ERROR    OK  
Package 199/375HostnameOS / ArchINSTALLBUILDCHECKBUILD BIN
miaViz 1.18.0  (landing page)
Tuomas Borman
git_last_commit: 3d494da
git_last_commit_date: 2025-10-29 11:07:33 -0400
nebbiolo2Linux (Ubuntu 24.04.3 LTS) / x86_64  OK    OK    OK  UNNEEDED, same version is already published
lconwaymacOS 12.7.6 Monterey / x86_64  OK    OK    OK    OK  NO, package depends on 'mia' which is only available as a source package that needs compilation
kjohnson3macOS 13.7.7 Ventura / arm64  OK    OK    OK    OK  NO, package depends on 'mia' which is only available as a source package that needs compilation
Package 200/375HostnameOS / ArchINSTALLBUILDCHECKBUILD BIN
microSTASIS 1.10.0  (landing page)
Pedro SƔnchez-SƔnchez
git_last_commit: f0b0cd8
git_last_commit_date: 2025-10-29 11:20:08 -0400
nebbiolo2Linux (Ubuntu 24.04.3 LTS) / x86_64  OK    OK    ERROR  
lconwaymacOS 12.7.6 Monterey / x86_64  OK    OK    ERROR    OK  
kjohnson3macOS 13.7.7 Ventura / arm64  OK    OK    ERROR    OK  
Package 201/375HostnameOS / ArchINSTALLBUILDCHECKBUILD BIN
MICSQTL 1.8.0  (landing page)
Qian Li
git_last_commit: d51e216
git_last_commit_date: 2025-10-29 11:24:12 -0400
nebbiolo2Linux (Ubuntu 24.04.3 LTS) / x86_64  OK    OK    OK  UNNEEDED, same version is already published
lconwaymacOS 12.7.6 Monterey / x86_64  OK    OK    OK    OK  UNNEEDED, same version is already published
kjohnson3macOS 13.7.7 Ventura / arm64  OK    OK    OK    OK  UNNEEDED, same version is already published
Package 202/375HostnameOS / ArchINSTALLBUILDCHECKBUILD BIN
miloR 2.6.0  (landing page)
Mike Morgan
git_last_commit: 374663b
git_last_commit_date: 2025-10-29 11:08:58 -0400
nebbiolo2Linux (Ubuntu 24.04.3 LTS) / x86_64  OK    OK    OK  UNNEEDED, same version is already published
lconwaymacOS 12.7.6 Monterey / x86_64  OK    OK    OK    OK  UNNEEDED, same version is already published
kjohnson3macOS 13.7.7 Ventura / arm64  OK    OK    OK    OK  UNNEEDED, same version is already published
Package 203/375HostnameOS / ArchINSTALLBUILDCHECKBUILD BIN
minfi 1.56.0  (landing page)
Kasper Daniel Hansen
git_last_commit: e6780b4
git_last_commit_date: 2025-10-29 10:09:18 -0400
nebbiolo2Linux (Ubuntu 24.04.3 LTS) / x86_64  OK    OK    OK  UNNEEDED, same version is already published
lconwaymacOS 12.7.6 Monterey / x86_64  OK    OK    OK    OK  UNNEEDED, same version is already published
kjohnson3macOS 13.7.7 Ventura / arm64  OK    OK    OK    OK  UNNEEDED, same version is already published
Package 204/375HostnameOS / ArchINSTALLBUILDCHECKBUILD BIN
MIRit 1.6.0  (landing page)
Jacopo Ronchi
git_last_commit: 2274523
git_last_commit_date: 2025-10-29 11:27:39 -0400
nebbiolo2Linux (Ubuntu 24.04.3 LTS) / x86_64  OK    OK    OK  UNNEEDED, same version is already published
lconwaymacOS 12.7.6 Monterey / x86_64  OK    OK    OK    OK  UNNEEDED, same version is already published
kjohnson3macOS 13.7.7 Ventura / arm64  OK    OK    OK    OK  UNNEEDED, same version is already published
Package 205/375HostnameOS / ArchINSTALLBUILDCHECKBUILD BIN
mist 1.2.0  (landing page)
Daoyu Duan
git_last_commit: 2a8026a
git_last_commit_date: 2025-10-29 11:33:35 -0400
nebbiolo2Linux (Ubuntu 24.04.3 LTS) / x86_64  OK    OK    WARNINGS  UNNEEDED, same version is already published
lconwaymacOS 12.7.6 Monterey / x86_64  OK    OK    WARNINGS    OK  UNNEEDED, same version is already published
kjohnson3macOS 13.7.7 Ventura / arm64  OK    OK    WARNINGS    OK  UNNEEDED, same version is already published
Package 206/375HostnameOS / ArchINSTALLBUILDCHECKBUILD BIN
mixOmics 6.34.0  (landing page)
Eva Hamrud
git_last_commit: 553e6cc
git_last_commit_date: 2025-10-29 10:48:48 -0400
nebbiolo2Linux (Ubuntu 24.04.3 LTS) / x86_64  OK    OK    OK  UNNEEDED, same version is already published
lconwaymacOS 12.7.6 Monterey / x86_64  OK    OK    OK    OK  UNNEEDED, same version is already published
kjohnson3macOS 13.7.7 Ventura / arm64  OK    OK    OK    OK  UNNEEDED, same version is already published
Package 207/375HostnameOS / ArchINSTALLBUILDCHECKBUILD BIN
MOGAMUN 1.20.0  (landing page)
Elva-MarĆ­a Novoa-del-Toro
git_last_commit: ca2045f
git_last_commit_date: 2025-10-29 11:03:44 -0400
nebbiolo2Linux (Ubuntu 24.04.3 LTS) / x86_64  OK    OK    OK  UNNEEDED, same version is already published
lconwaymacOS 12.7.6 Monterey / x86_64  OK    OK    OK    OK  UNNEEDED, same version is already published
kjohnson3macOS 13.7.7 Ventura / arm64  OK    OK    OK    OK  UNNEEDED, same version is already published
Package 208/375HostnameOS / ArchINSTALLBUILDCHECKBUILD BIN
MoleculeExperiment 1.10.0  (landing page)
Shila Ghazanfar
git_last_commit: b604184
git_last_commit_date: 2025-10-29 11:22:45 -0400
nebbiolo2Linux (Ubuntu 24.04.3 LTS) / x86_64  OK    OK    OK  UNNEEDED, same version is already published
lconwaymacOS 12.7.6 Monterey / x86_64  OK    OK    OK    OK  UNNEEDED, same version is already published
kjohnson3macOS 13.7.7 Ventura / arm64  OK    OK    OK    OK  UNNEEDED, same version is already published
Package 209/375HostnameOS / ArchINSTALLBUILDCHECKBUILD BIN
monaLisa 1.16.0  (landing page)
Michael Stadler
git_last_commit: fb7bf5b
git_last_commit_date: 2025-10-29 11:12:31 -0400
nebbiolo2Linux (Ubuntu 24.04.3 LTS) / x86_64  OK    OK    OK  UNNEEDED, same version is already published
lconwaymacOS 12.7.6 Monterey / x86_64  OK    OK    OK    OK  UNNEEDED, same version is already published
kjohnson3macOS 13.7.7 Ventura / arm64  OK    OK    OK    OK  UNNEEDED, same version is already published
Package 210/375HostnameOS / ArchINSTALLBUILDCHECKBUILD BIN
motifbreakR 2.24.0  (landing page)
Simon Gert Coetzee
git_last_commit: 79ca231
git_last_commit_date: 2025-10-29 10:27:43 -0400
nebbiolo2Linux (Ubuntu 24.04.3 LTS) / x86_64  OK    OK    WARNINGS  UNNEEDED, same version is already published
lconwaymacOS 12.7.6 Monterey / x86_64  OK    OK    WARNINGS    OK  UNNEEDED, same version is already published
kjohnson3macOS 13.7.7 Ventura / arm64  OK    OK    WARNINGS    OK  UNNEEDED, same version is already published
Package 211/375HostnameOS / ArchINSTALLBUILDCHECKBUILD BIN
MotifPeeker 1.2.0  (landing page)
Hiranyamaya Dash
git_last_commit: aee3e06
git_last_commit_date: 2025-10-29 11:33:15 -0400
nebbiolo2Linux (Ubuntu 24.04.3 LTS) / x86_64  OK    OK    OK  UNNEEDED, same version is already published
lconwaymacOS 12.7.6 Monterey / x86_64  OK    OK    OK    OK  UNNEEDED, same version is already published
kjohnson3macOS 13.7.7 Ventura / arm64  OK    OK    OK    OK  UNNEEDED, same version is already published
Package 212/375HostnameOS / ArchINSTALLBUILDCHECKBUILD BIN
MPAC 1.4.0  (landing page)
Peng Liu
git_last_commit: 778e22d
git_last_commit_date: 2025-10-29 11:30:37 -0400
nebbiolo2Linux (Ubuntu 24.04.3 LTS) / x86_64  OK    OK    OK  UNNEEDED, same version is already published
lconwaymacOS 12.7.6 Monterey / x86_64  OK    OK    OK    OK  UNNEEDED, same version is already published
kjohnson3macOS 13.7.7 Ventura / arm64  OK    OK    OK    OK  UNNEEDED, same version is already published
Package 213/375HostnameOS / ArchINSTALLBUILDCHECKBUILD BIN
MPRAnalyze 1.28.0  (landing page)
Tal Ashuach
git_last_commit: 6417179
git_last_commit_date: 2025-10-29 10:48:00 -0400
nebbiolo2Linux (Ubuntu 24.04.3 LTS) / x86_64  OK    OK    OK  UNNEEDED, same version is already published
lconwaymacOS 12.7.6 Monterey / x86_64  OK    OK    OK    OK  UNNEEDED, same version is already published
kjohnson3macOS 13.7.7 Ventura / arm64  OK    OK    OK    OK  UNNEEDED, same version is already published
Package 214/375HostnameOS / ArchINSTALLBUILDCHECKBUILD BIN
MsBackendMassbank 1.18.0  (landing page)
RforMassSpectrometry Package Maintainer
git_last_commit: 1be9f71
git_last_commit_date: 2025-10-29 11:06:30 -0400
nebbiolo2Linux (Ubuntu 24.04.3 LTS) / x86_64  OK    OK    OK  UNNEEDED, same version is already published
lconwaymacOS 12.7.6 Monterey / x86_64  OK    OK    OK    OK  UNNEEDED, same version is already published
kjohnson3macOS 13.7.7 Ventura / arm64  OK    OK    OK    OK  UNNEEDED, same version is already published
Package 215/375HostnameOS / ArchINSTALLBUILDCHECKBUILD BIN
MsBackendMgf 1.18.0  (landing page)
RforMassSpectrometry Package Maintainer
git_last_commit: 6656145
git_last_commit_date: 2025-10-29 11:06:57 -0400
nebbiolo2Linux (Ubuntu 24.04.3 LTS) / x86_64  OK    OK    OK  UNNEEDED, same version is already published
lconwaymacOS 12.7.6 Monterey / x86_64  OK    OK    OK    OK  UNNEEDED, same version is already published
kjohnson3macOS 13.7.7 Ventura / arm64  OK    OK    OK    OK  UNNEEDED, same version is already published
Package 216/375HostnameOS / ArchINSTALLBUILDCHECKBUILD BIN
MsBackendMsp 1.14.0  (landing page)
Johannes Rainer
git_last_commit: 58e9f8b
git_last_commit_date: 2025-10-29 11:15:06 -0400
nebbiolo2Linux (Ubuntu 24.04.3 LTS) / x86_64  OK    OK    OK  UNNEEDED, same version is already published
lconwaymacOS 12.7.6 Monterey / x86_64  OK    OK    OK    OK  UNNEEDED, same version is already published
kjohnson3macOS 13.7.7 Ventura / arm64  OK    OK    OK    OK  UNNEEDED, same version is already published
Package 217/375HostnameOS / ArchINSTALLBUILDCHECKBUILD BIN
MsBackendRawFileReader 1.16.0  (landing page)
Christian Panse
git_last_commit: 53064fe
git_last_commit_date: 2025-10-29 11:12:57 -0400
nebbiolo2Linux (Ubuntu 24.04.3 LTS) / x86_64  OK    OK    OK  UNNEEDED, same version is already published
lconwaymacOS 12.7.6 Monterey / x86_64  OK    OK    OK    OK  UNNEEDED, same version is already published
kjohnson3macOS 13.7.7 Ventura / arm64  OK    OK    OK    OK  UNNEEDED, same version is already published
Package 218/375HostnameOS / ArchINSTALLBUILDCHECKBUILD BIN
MsBackendSql 1.10.0  (landing page)
Johannes Rainer
git_last_commit: 1d3a770
git_last_commit_date: 2025-10-29 11:20:33 -0400
nebbiolo2Linux (Ubuntu 24.04.3 LTS) / x86_64  OK    OK    OK  UNNEEDED, same version is already published
lconwaymacOS 12.7.6 Monterey / x86_64  OK    OK    OK    OK  UNNEEDED, same version is already published
kjohnson3macOS 13.7.7 Ventura / arm64  OK    OK    OK    OK  UNNEEDED, same version is already published
Package 219/375HostnameOS / ArchINSTALLBUILDCHECKBUILD BIN
MSnbase 2.36.0  (landing page)
Laurent Gatto
git_last_commit: 5d00871
git_last_commit_date: 2025-10-29 10:06:57 -0400
nebbiolo2Linux (Ubuntu 24.04.3 LTS) / x86_64  OK    OK    OK  UNNEEDED, same version is already published
lconwaymacOS 12.7.6 Monterey / x86_64  OK    OK    OK    OK  UNNEEDED, same version is already published
kjohnson3macOS 13.7.7 Ventura / arm64  OK    OK    OK    OK  UNNEEDED, same version is already published
Package 220/375HostnameOS / ArchINSTALLBUILDCHECKBUILD BIN
msqrob2 1.18.0  (landing page)
Lieven Clement
git_last_commit: eb5e42c
git_last_commit_date: 2025-10-29 11:09:38 -0400
nebbiolo2Linux (Ubuntu 24.04.3 LTS) / x86_64  OK    OK    OK  UNNEEDED, same version is already published
lconwaymacOS 12.7.6 Monterey / x86_64  OK    OK    OK    OK  UNNEEDED, same version is already published
kjohnson3macOS 13.7.7 Ventura / arm64  OK    OK    OK    OK  UNNEEDED, same version is already published
Package 221/375HostnameOS / ArchINSTALLBUILDCHECKBUILD BIN
MsQuality 1.10.0  (landing page)
Thomas Naake
git_last_commit: 04fa814
git_last_commit_date: 2025-10-29 11:20:21 -0400
nebbiolo2Linux (Ubuntu 24.04.3 LTS) / x86_64  OK    OK    OK  UNNEEDED, same version is already published
lconwaymacOS 12.7.6 Monterey / x86_64  OK    OK    OK    OK  UNNEEDED, same version is already published
kjohnson3macOS 13.7.7 Ventura / arm64  OK    OK    OK    OK  UNNEEDED, same version is already published
Package 222/375HostnameOS / ArchINSTALLBUILDCHECKBUILD BIN
MSstatsResponse 1.0.0  (landing page)
Sarah Szvetecz
git_last_commit: 7b935df
git_last_commit_date: 2025-10-29 11:39:03 -0400
nebbiolo2Linux (Ubuntu 24.04.3 LTS) / x86_64  OK    OK    OK  UNNEEDED, same version is already published
lconwaymacOS 12.7.6 Monterey / x86_64  OK    OK    OK    OK  UNNEEDED, same version is already published
kjohnson3macOS 13.7.7 Ventura / arm64  OK    OK    OK    OK  UNNEEDED, same version is already published
Package 223/375HostnameOS / ArchINSTALLBUILDCHECKBUILD BIN
multiHiCcompare 1.28.0  (landing page)
Mikhail Dozmorov
git_last_commit: 5d0766c
git_last_commit_date: 2025-10-29 10:46:53 -0400
nebbiolo2Linux (Ubuntu 24.04.3 LTS) / x86_64  OK    OK    OK  UNNEEDED, same version is already published
lconwaymacOS 12.7.6 Monterey / x86_64  OK    OK    OK    OK  UNNEEDED, same version is already published
kjohnson3macOS 13.7.7 Ventura / arm64  OK    OK    OK    OK  UNNEEDED, same version is already published
Package 224/375HostnameOS / ArchINSTALLBUILDCHECKBUILD BIN
mumosa 1.18.0  (landing page)
Aaron Lun
git_last_commit: 18e57eb
git_last_commit_date: 2025-10-29 11:05:15 -0400
nebbiolo2Linux (Ubuntu 24.04.3 LTS) / x86_64  OK    OK    OK  UNNEEDED, same version is already published
lconwaymacOS 12.7.6 Monterey / x86_64  OK    OK    OK    OK  UNNEEDED, same version is already published
kjohnson3macOS 13.7.7 Ventura / arm64  OK    OK    OK    OK  UNNEEDED, same version is already published
Package 225/375HostnameOS / ArchINSTALLBUILDCHECKBUILD BIN
muscat 1.24.0  (landing page)
Helena L. Crowell
git_last_commit: a6749ec
git_last_commit_date: 2025-10-29 10:53:55 -0400
nebbiolo2Linux (Ubuntu 24.04.3 LTS) / x86_64  OK    OK    OK  UNNEEDED, same version is already published
lconwaymacOS 12.7.6 Monterey / x86_64  OK    OK    OK    OK  UNNEEDED, same version is already published
kjohnson3macOS 13.7.7 Ventura / arm64  OK    OK    OK    OK  UNNEEDED, same version is already published
Package 226/375HostnameOS / ArchINSTALLBUILDCHECKBUILD BIN
NBAMSeq 1.26.0  (landing page)
Xu Ren
git_last_commit: 4d8f91b
git_last_commit_date: 2025-10-29 10:51:23 -0400
nebbiolo2Linux (Ubuntu 24.04.3 LTS) / x86_64  OK    OK    OK  UNNEEDED, same version is already published
lconwaymacOS 12.7.6 Monterey / x86_64  OK    OK    OK    OK  UNNEEDED, same version is already published
kjohnson3macOS 13.7.7 Ventura / arm64  OK    OK    OK    OK  UNNEEDED, same version is already published
Package 227/375HostnameOS / ArchINSTALLBUILDCHECKBUILD BIN
ncGTW 1.24.0  (landing page)
Chiung-Ting Wu
git_last_commit: 2eb1b4f
git_last_commit_date: 2025-10-29 10:53:19 -0400
nebbiolo2Linux (Ubuntu 24.04.3 LTS) / x86_64  OK    OK    OK  UNNEEDED, same version is already published
lconwaymacOS 12.7.6 Monterey / x86_64  OK    OK    OK    OK  UNNEEDED, same version is already published
kjohnson3macOS 13.7.7 Ventura / arm64  OK    OK    OK    OK  UNNEEDED, same version is already published
Package 228/375HostnameOS / ArchINSTALLBUILDCHECKBUILD BIN
nnSVG 1.14.0  (landing page)
Lukas M. Weber
git_last_commit: f7af058
git_last_commit_date: 2025-10-29 11:15:43 -0400
nebbiolo2Linux (Ubuntu 24.04.3 LTS) / x86_64  OK    OK    OK  UNNEEDED, same version is already published
lconwaymacOS 12.7.6 Monterey / x86_64  OK    OK    OK    OK  UNNEEDED, same version is already published
kjohnson3macOS 13.7.7 Ventura / arm64  OK    OK    OK    OK  UNNEEDED, same version is already published
Package 229/375HostnameOS / ArchINSTALLBUILDCHECKBUILD BIN
notame 1.0.0  (landing page)
Vilhelm Suksi
git_last_commit: e9edc04
git_last_commit_date: 2025-10-29 11:38:23 -0400
nebbiolo2Linux (Ubuntu 24.04.3 LTS) / x86_64  OK    OK    OK  UNNEEDED, same version is already published
lconwaymacOS 12.7.6 Monterey / x86_64  OK    OK    OK    OK  UNNEEDED, same version is already published
kjohnson3macOS 13.7.7 Ventura / arm64  OK    OK    OK    OK  UNNEEDED, same version is already published
Package 230/375HostnameOS / ArchINSTALLBUILDCHECKBUILD BIN
notameStats 1.0.0  (landing page)
Vilhelm Suksi
git_last_commit: 58a6cb5
git_last_commit_date: 2025-10-29 11:38:32 -0400
nebbiolo2Linux (Ubuntu 24.04.3 LTS) / x86_64  OK    OK    OK  UNNEEDED, same version is already published
lconwaymacOS 12.7.6 Monterey / x86_64  OK    OK    OK    OK  UNNEEDED, same version is already published
kjohnson3macOS 13.7.7 Ventura / arm64  OK    OK    OK    OK  UNNEEDED, same version is already published
Package 231/375HostnameOS / ArchINSTALLBUILDCHECKBUILD BIN
NPARC 1.22.0  (landing page)
Nils Kurzawa
git_last_commit: 92e6972
git_last_commit_date: 2025-10-29 10:56:00 -0400
nebbiolo2Linux (Ubuntu 24.04.3 LTS) / x86_64  OK    OK    OK  UNNEEDED, same version is already published
lconwaymacOS 12.7.6 Monterey / x86_64  OK    OK    OK    OK  UNNEEDED, same version is already published
kjohnson3macOS 13.7.7 Ventura / arm64  OK    OK    OK    OK  UNNEEDED, same version is already published
Package 232/375HostnameOS / ArchINSTALLBUILDCHECKBUILD BIN
omicsGMF 1.0.0  (landing page)
Alexandre Segers
git_last_commit: 665af6c
git_last_commit_date: 2025-10-29 11:39:15 -0400
nebbiolo2Linux (Ubuntu 24.04.3 LTS) / x86_64  OK    OK    OK  UNNEEDED, same version is already published
lconwaymacOS 12.7.6 Monterey / x86_64  OK    OK    OK    OK  UNNEEDED, same version is already published
kjohnson3macOS 13.7.7 Ventura / arm64  OK    OK    OK    OK  UNNEEDED, same version is already published
Package 233/375HostnameOS / ArchINSTALLBUILDCHECKBUILD BIN
ORFik 1.30.0  (landing page)
Haakon Tjeldnes
git_last_commit: b860267
git_last_commit_date: 2025-10-29 10:45:22 -0400
nebbiolo2Linux (Ubuntu 24.04.3 LTS) / x86_64  OK    OK    OK  UNNEEDED, same version is already published
lconwaymacOS 12.7.6 Monterey / x86_64  OK    OK    OK    OK  UNNEEDED, same version is already published
kjohnson3macOS 13.7.7 Ventura / arm64  OK    OK    OK    OK  UNNEEDED, same version is already published
Package 234/375HostnameOS / ArchINSTALLBUILDCHECKBUILD BIN
orthos 1.8.0  (landing page)
Panagiotis Papasaikas
git_last_commit: 53e77e2
git_last_commit_date: 2025-10-29 11:24:17 -0400
nebbiolo2Linux (Ubuntu 24.04.3 LTS) / x86_64  OK    OK    OK  UNNEEDED, same version is already published
lconwaymacOS 12.7.6 Monterey / x86_64  OK    ERROR  skippedskipped
kjohnson3macOS 13.7.7 Ventura / arm64  OK    ERROR  skippedskipped
Package 235/375HostnameOS / ArchINSTALLBUILDCHECKBUILD BIN
Oscope 1.40.0  (landing page)
Ning Leng
git_last_commit: 2767f6a
git_last_commit_date: 2025-10-29 10:27:05 -0400
nebbiolo2Linux (Ubuntu 24.04.3 LTS) / x86_64  OK    OK    OK  UNNEEDED, same version is already published
lconwaymacOS 12.7.6 Monterey / x86_64  OK    OK    OK    OK  UNNEEDED, same version is already published
kjohnson3macOS 13.7.7 Ventura / arm64  OK    OK    OK    OK  UNNEEDED, same version is already published
Package 236/375HostnameOS / ArchINSTALLBUILDCHECKBUILD BIN
OUTRIDER 1.28.0  (landing page)
Christian Mertes
git_last_commit: 5a0b0f3
git_last_commit_date: 2025-10-29 10:46:21 -0400
nebbiolo2Linux (Ubuntu 24.04.3 LTS) / x86_64  OK    OK    OK  UNNEEDED, same version is already published
lconwaymacOS 12.7.6 Monterey / x86_64  OK    OK    OK    OK  UNNEEDED, same version is already published
kjohnson3macOS 13.7.7 Ventura / arm64  OK    OK    OK    OK  UNNEEDED, same version is already published
Package 237/375HostnameOS / ArchINSTALLBUILDCHECKBUILD BIN
OVESEG 1.26.0  (landing page)
Lulu Chen
git_last_commit: 67b37c3
git_last_commit_date: 2025-10-29 10:49:34 -0400
nebbiolo2Linux (Ubuntu 24.04.3 LTS) / x86_64  OK    OK    OK  UNNEEDED, same version is already published
lconwaymacOS 12.7.6 Monterey / x86_64  OK    OK    OK    OK  UNNEEDED, same version is already published
kjohnson3macOS 13.7.7 Ventura / arm64  OK    OK    OK    OK  UNNEEDED, same version is already published
Package 238/375HostnameOS / ArchINSTALLBUILDCHECKBUILD BIN
PAIRADISE 1.26.0  (landing page)
Qiang Hu , Levon Demirdjian
git_last_commit: d2d3a60
git_last_commit_date: 2025-10-29 10:49:32 -0400
nebbiolo2Linux (Ubuntu 24.04.3 LTS) / x86_64  OK    OK    OK  UNNEEDED, same version is already published
lconwaymacOS 12.7.6 Monterey / x86_64  OK    OK    OK    OK  UNNEEDED, same version is already published
kjohnson3macOS 13.7.7 Ventura / arm64  OK    OK    OK    OK  UNNEEDED, same version is already published
Package 239/375HostnameOS / ArchINSTALLBUILDCHECKBUILD BIN
pairedGSEA 1.10.0  (landing page)
SĆøren Helweg Dam
git_last_commit: 44e676a
git_last_commit_date: 2025-10-29 11:22:53 -0400
nebbiolo2Linux (Ubuntu 24.04.3 LTS) / x86_64  OK    OK    OK  UNNEEDED, same version is already published
lconwaymacOS 12.7.6 Monterey / x86_64  OK    OK    OK    OK  UNNEEDED, same version is already published
kjohnson3macOS 13.7.7 Ventura / arm64  OK    OK    OK    OK  UNNEEDED, same version is already published
Package 240/375HostnameOS / ArchINSTALLBUILDCHECKBUILD BIN
pathMED 1.2.0  (landing page)
Jordi Martorell-MarugƔn
git_last_commit: b17f51c
git_last_commit_date: 2025-10-29 11:36:06 -0400
nebbiolo2Linux (Ubuntu 24.04.3 LTS) / x86_64  OK    OK    OK  UNNEEDED, same version is already published
lconwaymacOS 12.7.6 Monterey / x86_64  OK    OK    ERROR    OK  
kjohnson3macOS 13.7.7 Ventura / arm64  OK    OK    ERROR    OK  
Package 241/375HostnameOS / ArchINSTALLBUILDCHECKBUILD BIN
PCAN 1.38.0  (landing page)
Matthew Page and Patrice Godard
git_last_commit: 97b34b0
git_last_commit_date: 2025-10-29 10:30:42 -0400
nebbiolo2Linux (Ubuntu 24.04.3 LTS) / x86_64  OK    OK    OK  UNNEEDED, same version is already published
lconwaymacOS 12.7.6 Monterey / x86_64  OK    OK    OK    OK  UNNEEDED, same version is already published
kjohnson3macOS 13.7.7 Ventura / arm64  OK    OK    OK    OK  UNNEEDED, same version is already published
Package 242/375HostnameOS / ArchINSTALLBUILDCHECKBUILD BIN
PCAtools 2.22.0  (landing page)
Kevin Blighe
git_last_commit: 8a2f16a
git_last_commit_date: 2025-10-29 10:49:30 -0400
nebbiolo2Linux (Ubuntu 24.04.3 LTS) / x86_64  OK    ERROR  skipped
lconwaymacOS 12.7.6 Monterey / x86_64  OK    ERROR  skippedskipped
kjohnson3macOS 13.7.7 Ventura / arm64  OK    ERROR  skippedskipped
Package 243/375HostnameOS / ArchINSTALLBUILDCHECKBUILD BIN
PDATK 1.18.0  (landing page)
Benjamin Haibe-Kains
git_last_commit: d15fa15
git_last_commit_date: 2025-10-29 11:06:35 -0400
nebbiolo2Linux (Ubuntu 24.04.3 LTS) / x86_64  OK    OK    WARNINGS  UNNEEDED, same version is already published
lconwaymacOS 12.7.6 Monterey / x86_64  OK    OK    WARNINGS    OK  UNNEEDED, same version is already published
kjohnson3macOS 13.7.7 Ventura / arm64  OK    OK    WARNINGS    OK  UNNEEDED, same version is already published
Package 244/375HostnameOS / ArchINSTALLBUILDCHECKBUILD BIN
pengls 1.16.0  (landing page)
Stijn Hawinkel
git_last_commit: 77f4c89
git_last_commit_date: 2025-10-29 11:13:45 -0400
nebbiolo2Linux (Ubuntu 24.04.3 LTS) / x86_64  OK    OK    OK  UNNEEDED, same version is already published
lconwaymacOS 12.7.6 Monterey / x86_64  OK    OK    OK    OK  UNNEEDED, same version is already published
kjohnson3macOS 13.7.7 Ventura / arm64  OK    OK    OK    OK  UNNEEDED, same version is already published
Package 245/375HostnameOS / ArchINSTALLBUILDCHECKBUILD BIN
periodicDNA 1.20.0  (landing page)
Jacques Serizay
git_last_commit: 4feee90
git_last_commit_date: 2025-10-29 11:01:58 -0400
nebbiolo2Linux (Ubuntu 24.04.3 LTS) / x86_64  OK    OK    WARNINGS  UNNEEDED, same version is already published
lconwaymacOS 12.7.6 Monterey / x86_64  OK    OK    WARNINGS    OK  UNNEEDED, same version is already published
kjohnson3macOS 13.7.7 Ventura / arm64  OK    OK    WARNINGS    OK  UNNEEDED, same version is already published
Package 246/375HostnameOS / ArchINSTALLBUILDCHECKBUILD BIN
PharmacoGx 3.14.0  (landing page)
Benjamin Haibe-Kains
git_last_commit: 96dc940
git_last_commit_date: 2025-10-29 10:33:56 -0400
nebbiolo2Linux (Ubuntu 24.04.3 LTS) / x86_64  OK    OK    OK  UNNEEDED, same version is already published
lconwaymacOS 12.7.6 Monterey / x86_64  OK    OK    OK    OK  UNNEEDED, same version is already published
kjohnson3macOS 13.7.7 Ventura / arm64  OK    OK    OK    OK  UNNEEDED, same version is already published
Package 247/375HostnameOS / ArchINSTALLBUILDCHECKBUILD BIN
pipeComp 1.20.0  (landing page)
Pierre-Luc Germain
git_last_commit: e37c3d3
git_last_commit_date: 2025-10-29 11:00:19 -0400
nebbiolo2Linux (Ubuntu 24.04.3 LTS) / x86_64  OK    OK    OK  UNNEEDED, same version is already published
lconwaymacOS 12.7.6 Monterey / x86_64  OK    OK    OK    OK  UNNEEDED, same version is already published
kjohnson3macOS 13.7.7 Ventura / arm64  OK    OK    OK    OK  UNNEEDED, same version is already published
Package 248/375HostnameOS / ArchINSTALLBUILDCHECKBUILD BIN
poem 1.2.0  (landing page)
Siyuan Luo
git_last_commit: e248fd3
git_last_commit_date: 2025-10-29 11:34:48 -0400
nebbiolo2Linux (Ubuntu 24.04.3 LTS) / x86_64  OK    OK    OK  UNNEEDED, same version is already published
lconwaymacOS 12.7.6 Monterey / x86_64  OK    OK    OK    OK  UNNEEDED, same version is already published
kjohnson3macOS 13.7.7 Ventura / arm64  OK    OK    OK    OK  UNNEEDED, same version is already published
Package 249/375HostnameOS / ArchINSTALLBUILDCHECKBUILD BIN
pram 1.26.0  (landing page)
Peng Liu
git_last_commit: 18e4eb0
git_last_commit_date: 2025-10-29 10:50:34 -0400
nebbiolo2Linux (Ubuntu 24.04.3 LTS) / x86_64  OK    OK    OK  UNNEEDED, same version is already published
lconwaymacOS 12.7.6 Monterey / x86_64  OK    OK    OK    OK  UNNEEDED, same version is already published
kjohnson3macOS 13.7.7 Ventura / arm64  OK    OK    OK    OK  UNNEEDED, same version is already published
Package 250/375HostnameOS / ArchINSTALLBUILDCHECKBUILD BIN
proActiv 1.20.0  (landing page)
Joseph Lee
git_last_commit: 69c3302
git_last_commit_date: 2025-10-29 11:02:09 -0400
nebbiolo2Linux (Ubuntu 24.04.3 LTS) / x86_64  OK    OK    OK  UNNEEDED, same version is already published
lconwaymacOS 12.7.6 Monterey / x86_64  OK    OK    OK    OK  UNNEEDED, same version is already published
kjohnson3macOS 13.7.7 Ventura / arm64  OK    OK    OK    OK  UNNEEDED, same version is already published
Package 251/375HostnameOS / ArchINSTALLBUILDCHECKBUILD BIN
profileplyr 1.26.0  (landing page)
Tom Carroll , Doug Barrows
git_last_commit: b8113ee
git_last_commit_date: 2025-10-29 10:51:25 -0400
nebbiolo2Linux (Ubuntu 24.04.3 LTS) / x86_64  OK    OK    OK  NO, package depends on 'soGGi' which is not available
lconwaymacOS 12.7.6 Monterey / x86_64  OK    OK    OK    OK  NO, package depends on 'soGGi' which is not available
kjohnson3macOS 13.7.7 Ventura / arm64  OK    OK    OK    OK  NO, package depends on 'soGGi' which is not available
Package 252/375HostnameOS / ArchINSTALLBUILDCHECKBUILD BIN
pRoloc 1.50.0  (landing page)
Lisa Breckels
git_last_commit: 264a1bf
git_last_commit_date: 2025-10-29 10:12:55 -0400
nebbiolo2Linux (Ubuntu 24.04.3 LTS) / x86_64  OK    OK    WARNINGS  UNNEEDED, same version is already published
lconwaymacOS 12.7.6 Monterey / x86_64  OK    OK    WARNINGS    OK  UNNEEDED, same version is already published
kjohnson3macOS 13.7.7 Ventura / arm64  OK    OK    WARNINGS    OK  UNNEEDED, same version is already published
Package 253/375HostnameOS / ArchINSTALLBUILDCHECKBUILD BIN
ProteoDisco 1.16.0  (landing page)
Job van Riet
git_last_commit: d4be16c
git_last_commit_date: 2025-10-29 11:11:51 -0400
nebbiolo2Linux (Ubuntu 24.04.3 LTS) / x86_64  OK    OK    WARNINGS  UNNEEDED, same version is already published
lconwaymacOS 12.7.6 Monterey / x86_64  OK    OK    WARNINGS    OK  UNNEEDED, same version is already published
kjohnson3macOS 13.7.7 Ventura / arm64  OK    OK    WARNINGS    OK  UNNEEDED, same version is already published
Package 254/375HostnameOS / ArchINSTALLBUILDCHECKBUILD BIN
PSMatch 1.14.0  (landing page)
Laurent Gatto
git_last_commit: eedaf3a
git_last_commit_date: 2025-10-29 11:15:29 -0400
nebbiolo2Linux (Ubuntu 24.04.3 LTS) / x86_64  OK    OK    OK  UNNEEDED, same version is already published
lconwaymacOS 12.7.6 Monterey / x86_64  OK    OK    OK    OK  UNNEEDED, same version is already published
kjohnson3macOS 13.7.7 Ventura / arm64  OK    OK    OK    OK  UNNEEDED, same version is already published
Package 255/375HostnameOS / ArchINSTALLBUILDCHECKBUILD BIN
qpgraph 2.44.0  (landing page)
Robert Castelo
git_last_commit: 7de7e0c
git_last_commit_date: 2025-10-29 10:02:10 -0400
nebbiolo2Linux (Ubuntu 24.04.3 LTS) / x86_64  OK    OK    OK  UNNEEDED, same version is already published
lconwaymacOS 12.7.6 Monterey / x86_64  OK    OK    OK    OK  UNNEEDED, same version is already published
kjohnson3macOS 13.7.7 Ventura / arm64  OK    OK    OK    OK  UNNEEDED, same version is already published
Package 256/375HostnameOS / ArchINSTALLBUILDCHECKBUILD BIN
QRscore 1.2.0  (landing page)
Fanding Zhou
git_last_commit: 89dd601
git_last_commit_date: 2025-10-29 11:36:23 -0400
nebbiolo2Linux (Ubuntu 24.04.3 LTS) / x86_64  OK    OK    WARNINGS  UNNEEDED, same version is already published
lconwaymacOS 12.7.6 Monterey / x86_64  OK    OK    WARNINGS    OK  UNNEEDED, same version is already published
kjohnson3macOS 13.7.7 Ventura / arm64  OK    OK    WARNINGS    OK  UNNEEDED, same version is already published
Package 257/375HostnameOS / ArchINSTALLBUILDCHECKBUILD BIN
qsea 1.36.0  (landing page)
Matthias Lienhard
git_last_commit: a9ac816
git_last_commit_date: 2025-10-29 10:32:56 -0400
nebbiolo2Linux (Ubuntu 24.04.3 LTS) / x86_64  OK    OK    WARNINGS  UNNEEDED, same version is already published
lconwaymacOS 12.7.6 Monterey / x86_64  ERROR    ERROR  skippedskipped
kjohnson3macOS 13.7.7 Ventura / arm64  ERROR    ERROR  skippedskipped
Package 258/375HostnameOS / ArchINSTALLBUILDCHECKBUILD BIN
QuasR 1.50.0  (landing page)
Michael Stadler
git_last_commit: 3274f2d
git_last_commit_date: 2025-10-29 10:13:16 -0400
nebbiolo2Linux (Ubuntu 24.04.3 LTS) / x86_64  OK    OK    WARNINGS  UNNEEDED, same version is already published
lconwaymacOS 12.7.6 Monterey / x86_64  OK    OK    WARNINGS    OK  UNNEEDED, same version is already published
kjohnson3macOS 13.7.7 Ventura / arm64  OK    OK    WARNINGS    OK  UNNEEDED, same version is already published
Package 259/375HostnameOS / ArchINSTALLBUILDCHECKBUILD BIN
RadioGx 2.14.0  (landing page)
Benjamin Haibe-Kains
git_last_commit: 0605239
git_last_commit_date: 2025-10-29 11:00:09 -0400
nebbiolo2Linux (Ubuntu 24.04.3 LTS) / x86_64  OK    OK    OK  UNNEEDED, same version is already published
lconwaymacOS 12.7.6 Monterey / x86_64  OK    OK    OK    OK  UNNEEDED, same version is already published
kjohnson3macOS 13.7.7 Ventura / arm64  OK    OK    OK    OK  UNNEEDED, same version is already published
Package 260/375HostnameOS / ArchINSTALLBUILDCHECKBUILD BIN
raer 1.8.0  (landing page)
Kent Riemondy
git_last_commit: 1e83c0c
git_last_commit_date: 2025-10-29 11:26:05 -0400
nebbiolo2Linux (Ubuntu 24.04.3 LTS) / x86_64  OK    OK    OK  UNNEEDED, same version is already published
lconwaymacOS 12.7.6 Monterey / x86_64  OK    OK    OK    OK  UNNEEDED, same version is already published
kjohnson3macOS 13.7.7 Ventura / arm64  OK    OK    OK    OK  UNNEEDED, same version is already published
Package 261/375HostnameOS / ArchINSTALLBUILDCHECKBUILD BIN
rawDiag 1.6.0  (landing page)
Christian Panse
git_last_commit: e72968b
git_last_commit_date: 2025-10-29 11:28:12 -0400
nebbiolo2Linux (Ubuntu 24.04.3 LTS) / x86_64  OK    OK    OK  UNNEEDED, same version is already published
lconwaymacOS 12.7.6 Monterey / x86_64  OK    OK    OK    OK  UNNEEDED, same version is already published
kjohnson3macOS 13.7.7 Ventura / arm64  OK    OK    OK    OK  UNNEEDED, same version is already published
Package 262/375HostnameOS / ArchINSTALLBUILDCHECKBUILD BIN
Rcwl 1.26.0  (landing page)
Qiang Hu
git_last_commit: 0b6281a
git_last_commit_date: 2025-10-29 10:50:00 -0400
nebbiolo2Linux (Ubuntu 24.04.3 LTS) / x86_64  OK    OK    OK  UNNEEDED, same version is already published
lconwaymacOS 12.7.6 Monterey / x86_64  OK    ERROR  skippedskipped
kjohnson3macOS 13.7.7 Ventura / arm64  OK    ERROR  skippedskipped
Package 263/375HostnameOS / ArchINSTALLBUILDCHECKBUILD BIN
recount 1.36.0  (landing page)
Leonardo Collado-Torres
git_last_commit: 42cbd6e
git_last_commit_date: 2025-10-29 10:33:35 -0400
nebbiolo2Linux (Ubuntu 24.04.3 LTS) / x86_64  OK    OK    OK  UNNEEDED, same version is already published
lconwaymacOS 12.7.6 Monterey / x86_64  OK    OK    OK    OK  UNNEEDED, same version is already published
kjohnson3macOS 13.7.7 Ventura / arm64  OK    OK    OK    OK  UNNEEDED, same version is already published
Package 264/375HostnameOS / ArchINSTALLBUILDCHECKBUILD BIN
RedisParam 1.12.0  (landing page)
Martin Morgan
git_last_commit: 5d13359
git_last_commit_date: 2025-10-29 11:17:49 -0400
nebbiolo2Linux (Ubuntu 24.04.3 LTS) / x86_64  OK    OK    OK  UNNEEDED, same version is already published
lconwaymacOS 12.7.6 Monterey / x86_64  OK    OK    OK    OK  UNNEEDED, same version is already published
kjohnson3macOS 13.7.7 Ventura / arm64  OK    OK    OK    OK  UNNEEDED, same version is already published
Package 265/375HostnameOS / ArchINSTALLBUILDCHECKBUILD BIN
ReducedExperiment 1.2.0  (landing page)
Jack Gisby
git_last_commit: 5622222
git_last_commit_date: 2025-10-29 11:33:37 -0400
nebbiolo2Linux (Ubuntu 24.04.3 LTS) / x86_64  OK    OK    OK  UNNEEDED, same version is already published
lconwaymacOS 12.7.6 Monterey / x86_64  OK    OK    OK    OK  UNNEEDED, same version is already published
kjohnson3macOS 13.7.7 Ventura / arm64  OK    OK    OK    OK  UNNEEDED, same version is already published
Package 266/375HostnameOS / ArchINSTALLBUILDCHECKBUILD BIN
RegEnrich 1.20.0  (landing page)
Weiyang Tao
git_last_commit: 4833032
git_last_commit_date: 2025-10-29 11:00:04 -0400
nebbiolo2Linux (Ubuntu 24.04.3 LTS) / x86_64  OK    OK    OK  UNNEEDED, same version is already published
lconwaymacOS 12.7.6 Monterey / x86_64  OK    OK    OK    OK  UNNEEDED, same version is already published
kjohnson3macOS 13.7.7 Ventura / arm64  OK    OK    OK    OK  UNNEEDED, same version is already published
Package 267/375HostnameOS / ArchINSTALLBUILDCHECKBUILD BIN
REMP 1.34.0  (landing page)
Yinan Zheng
git_last_commit: 7f2a04f
git_last_commit_date: 2025-10-29 10:36:53 -0400
nebbiolo2Linux (Ubuntu 24.04.3 LTS) / x86_64  OK    OK    OK  UNNEEDED, same version is already published
lconwaymacOS 12.7.6 Monterey / x86_64  OK    OK    OK    OK  UNNEEDED, same version is already published
kjohnson3macOS 13.7.7 Ventura / arm64  OK    OK    OK    OK  UNNEEDED, same version is already published
Package 268/375HostnameOS / ArchINSTALLBUILDCHECKBUILD BIN
RiboCrypt 1.16.0  (landing page)
Michal Swirski
git_last_commit: e202b8e
git_last_commit_date: 2025-10-29 11:13:40 -0400
nebbiolo2Linux (Ubuntu 24.04.3 LTS) / x86_64  OK    OK    OK  UNNEEDED, same version is already published
lconwaymacOS 12.7.6 Monterey / x86_64  OK    OK    OK    OK  UNNEEDED, same version is already published
kjohnson3macOS 13.7.7 Ventura / arm64  OK    OK    OK    OK  UNNEEDED, same version is already published
Package 269/375HostnameOS / ArchINSTALLBUILDCHECKBUILD BIN
RJMCMCNucleosomes 1.34.0  (landing page)
Astrid DeschĆŖnes
git_last_commit: 91e1b58
git_last_commit_date: 2025-10-29 10:36:10 -0400
nebbiolo2Linux (Ubuntu 24.04.3 LTS) / x86_64  OK    OK    OK  UNNEEDED, same version is already published
lconwaymacOS 12.7.6 Monterey / x86_64  OK    OK    OK    OK  UNNEEDED, same version is already published
kjohnson3macOS 13.7.7 Ventura / arm64  OK    OK    OK    OK  UNNEEDED, same version is already published
Package 270/375HostnameOS / ArchINSTALLBUILDCHECKBUILD BIN
RNAmodR 1.24.0  (landing page)
Felix G.M. Ernst
git_last_commit: 683b357
git_last_commit_date: 2025-10-29 10:52:38 -0400
nebbiolo2Linux (Ubuntu 24.04.3 LTS) / x86_64  OK    OK    OK  UNNEEDED, same version is already published
lconwaymacOS 12.7.6 Monterey / x86_64  OK    OK    OK    OK  UNNEEDED, same version is already published
kjohnson3macOS 13.7.7 Ventura / arm64  OK    OK    OK    OK  UNNEEDED, same version is already published
Package 271/375HostnameOS / ArchINSTALLBUILDCHECKBUILD BIN
RNAseqCovarImpute 1.8.0  (landing page)
Brennan Baker
git_last_commit: 2d5c9bb
git_last_commit_date: 2025-10-29 11:25:57 -0400
nebbiolo2Linux (Ubuntu 24.04.3 LTS) / x86_64  OK    OK    OK  UNNEEDED, same version is already published
lconwaymacOS 12.7.6 Monterey / x86_64  OK    OK    OK    OK  UNNEEDED, same version is already published
kjohnson3macOS 13.7.7 Ventura / arm64  OK    OK    OK    OK  UNNEEDED, same version is already published
Package 272/375HostnameOS / ArchINSTALLBUILDCHECKBUILD BIN
ROTS 2.2.0  (landing page)
Tomi Suomi
git_last_commit: 214afc1
git_last_commit_date: 2025-10-29 10:29:44 -0400
nebbiolo2Linux (Ubuntu 24.04.3 LTS) / x86_64  OK    OK    OK  UNNEEDED, same version is already published
lconwaymacOS 12.7.6 Monterey / x86_64  OK    OK    OK    OK  UNNEEDED, same version is already published
kjohnson3macOS 13.7.7 Ventura / arm64  OK    OK    OK    OK  UNNEEDED, same version is already published
Package 273/375HostnameOS / ArchINSTALLBUILDCHECKBUILD BIN
Rqc 1.44.0  (landing page)
Welliton Souza
git_last_commit: e28c456
git_last_commit_date: 2025-10-29 10:22:46 -0400
nebbiolo2Linux (Ubuntu 24.04.3 LTS) / x86_64  OK    OK    OK  UNNEEDED, same version is already published
lconwaymacOS 12.7.6 Monterey / x86_64  OK    OK    OK    OK  UNNEEDED, same version is already published
kjohnson3macOS 13.7.7 Ventura / arm64  OK    OK    OK    OK  UNNEEDED, same version is already published
Package 274/375HostnameOS / ArchINSTALLBUILDCHECKBUILD BIN
Rsamtools 2.26.0  (landing page)
Bioconductor Package Maintainer
git_last_commit: ea99fb0
git_last_commit_date: 2025-10-29 10:04:41 -0400
nebbiolo2Linux (Ubuntu 24.04.3 LTS) / x86_64  OK    OK    WARNINGS  UNNEEDED, same version is already published
lconwaymacOS 12.7.6 Monterey / x86_64  OK    OK    WARNINGS    OK  UNNEEDED, same version is already published
kjohnson3macOS 13.7.7 Ventura / arm64  OK    OK    WARNINGS    OK  UNNEEDED, same version is already published
Package 275/375HostnameOS / ArchINSTALLBUILDCHECKBUILD BIN
RUVcorr 1.42.0  (landing page)
Saskia Freytag
git_last_commit: e7ec9c7
git_last_commit_date: 2025-10-29 10:25:20 -0400
nebbiolo2Linux (Ubuntu 24.04.3 LTS) / x86_64  OK    OK    WARNINGS  UNNEEDED, same version is already published
lconwaymacOS 12.7.6 Monterey / x86_64  OK    OK    WARNINGS    OK  UNNEEDED, same version is already published
kjohnson3macOS 13.7.7 Ventura / arm64  OK    OK    WARNINGS    OK  UNNEEDED, same version is already published
Package 276/375HostnameOS / ArchINSTALLBUILDCHECKBUILD BIN
SanityR 1.0.0  (landing page)
Teo Sakel
git_last_commit: c64a735
git_last_commit_date: 2025-10-29 11:37:07 -0400
nebbiolo2Linux (Ubuntu 24.04.3 LTS) / x86_64  OK    OK    OK  UNNEEDED, same version is already published
lconwaymacOS 12.7.6 Monterey / x86_64  OK    OK    OK    OK  UNNEEDED, same version is already published
kjohnson3macOS 13.7.7 Ventura / arm64  OK    OK    OK    OK  UNNEEDED, same version is already published
Package 277/375HostnameOS / ArchINSTALLBUILDCHECKBUILD BIN
saseR 1.6.0  (landing page)
Alexandre Segers
git_last_commit: 8ee3ecc
git_last_commit_date: 2025-10-29 11:27:12 -0400
nebbiolo2Linux (Ubuntu 24.04.3 LTS) / x86_64  OK    OK    WARNINGS  UNNEEDED, same version is already published
lconwaymacOS 12.7.6 Monterey / x86_64  OK    OK    WARNINGS    OK  UNNEEDED, same version is already published
kjohnson3macOS 13.7.7 Ventura / arm64  OK    OK    WARNINGS    OK  UNNEEDED, same version is already published
Package 278/375HostnameOS / ArchINSTALLBUILDCHECKBUILD BIN
satuRn 1.18.0  (landing page)
Jeroen Gilis
git_last_commit: 20071e7
git_last_commit_date: 2025-10-29 11:06:23 -0400
nebbiolo2Linux (Ubuntu 24.04.3 LTS) / x86_64  OK    OK    OK  UNNEEDED, same version is already published
lconwaymacOS 12.7.6 Monterey / x86_64  OK    OK    OK    OK  UNNEEDED, same version is already published
kjohnson3macOS 13.7.7 Ventura / arm64  OK    OK    OK    OK  UNNEEDED, same version is already published
Package 279/375HostnameOS / ArchINSTALLBUILDCHECKBUILD BIN
scanMiR 1.16.0  (landing page)
Pierre-Luc Germain
git_last_commit: fa9b00a
git_last_commit_date: 2025-10-29 11:10:43 -0400
nebbiolo2Linux (Ubuntu 24.04.3 LTS) / x86_64  OK    OK    OK  UNNEEDED, same version is already published
lconwaymacOS 12.7.6 Monterey / x86_64  OK    OK    OK    OK  UNNEEDED, same version is already published
kjohnson3macOS 13.7.7 Ventura / arm64  OK    OK    OK    OK  UNNEEDED, same version is already published
Package 280/375HostnameOS / ArchINSTALLBUILDCHECKBUILD BIN
scanMiRApp 1.16.0  (landing page)
Pierre-Luc Germain
git_last_commit: bd87b89
git_last_commit_date: 2025-10-29 11:11:11 -0400
nebbiolo2Linux (Ubuntu 24.04.3 LTS) / x86_64  OK    OK    OK  UNNEEDED, same version is already published
lconwaymacOS 12.7.6 Monterey / x86_64  OK    OK    OK    OK  UNNEEDED, same version is already published
kjohnson3macOS 13.7.7 Ventura / arm64  OK    OK    OK    OK  UNNEEDED, same version is already published
Package 281/375HostnameOS / ArchINSTALLBUILDCHECKBUILD BIN
SCArray 1.18.0  (landing page)
Xiuwen Zheng
git_last_commit: f7d874a
git_last_commit_date: 2025-10-29 11:05:31 -0400
nebbiolo2Linux (Ubuntu 24.04.3 LTS) / x86_64  OK    OK    OK  UNNEEDED, same version is already published
lconwaymacOS 12.7.6 Monterey / x86_64  OK    OK    OK    OK  UNNEEDED, same version is already published
kjohnson3macOS 13.7.7 Ventura / arm64  OK    OK    OK    OK  UNNEEDED, same version is already published
Package 282/375HostnameOS / ArchINSTALLBUILDCHECKBUILD BIN
SCArray.sat 1.10.0  (landing page)
Xiuwen Zheng
git_last_commit: f783501
git_last_commit_date: 2025-10-29 11:22:05 -0400
nebbiolo2Linux (Ubuntu 24.04.3 LTS) / x86_64  OK    ERROR  skipped
lconwaymacOS 12.7.6 Monterey / x86_64  OK    ERROR  skippedskipped
kjohnson3macOS 13.7.7 Ventura / arm64  OK    ERROR  skippedskipped
Package 283/375HostnameOS / ArchINSTALLBUILDCHECKBUILD BIN
scater 1.38.0  (landing page)
Alan O'Callaghan
git_last_commit: 64e2b5e
git_last_commit_date: 2025-10-29 10:30:01 -0400
nebbiolo2Linux (Ubuntu 24.04.3 LTS) / x86_64  OK    OK    OK  UNNEEDED, same version is already published
lconwaymacOS 12.7.6 Monterey / x86_64  OK    OK    OK    OK  UNNEEDED, same version is already published
kjohnson3macOS 13.7.7 Ventura / arm64  OK    OK    ERROR    OK  
Package 284/375HostnameOS / ArchINSTALLBUILDCHECKBUILD BIN
scBubbletree 1.12.0  (landing page)
Simo Kitanovski
git_last_commit: 46c4478
git_last_commit_date: 2025-10-29 11:19:00 -0400
nebbiolo2Linux (Ubuntu 24.04.3 LTS) / x86_64  OK    OK    OK  UNNEEDED, same version is already published
lconwaymacOS 12.7.6 Monterey / x86_64  OK    OK    OK    OK  UNNEEDED, same version is already published
kjohnson3macOS 13.7.7 Ventura / arm64  OK    OK    OK    OK  UNNEEDED, same version is already published
Package 285/375HostnameOS / ArchINSTALLBUILDCHECKBUILD BIN
scClassify 1.22.0  (landing page)
Yingxin Lin
git_last_commit: b85cf96
git_last_commit_date: 2025-10-29 10:58:49 -0400
nebbiolo2Linux (Ubuntu 24.04.3 LTS) / x86_64  OK    OK    OK  UNNEEDED, same version is already published
lconwaymacOS 12.7.6 Monterey / x86_64  OK    OK    OK    OK  UNNEEDED, same version is already published
kjohnson3macOS 13.7.7 Ventura / arm64  OK    OK    OK    OK  UNNEEDED, same version is already published
Package 286/375HostnameOS / ArchINSTALLBUILDCHECKBUILD BIN
scDblFinder 1.24.0  (landing page)
Pierre-Luc Germain
git_last_commit: 0336756
git_last_commit_date: 2025-10-29 10:55:23 -0400
nebbiolo2Linux (Ubuntu 24.04.3 LTS) / x86_64  OK    OK    OK  UNNEEDED, same version is already published
lconwaymacOS 12.7.6 Monterey / x86_64  OK    OK    OK    OK  UNNEEDED, same version is already published
kjohnson3macOS 13.7.7 Ventura / arm64  OK    OK    OK    OK  UNNEEDED, same version is already published
Package 287/375HostnameOS / ArchINSTALLBUILDCHECKBUILD BIN
scDD 1.34.0  (landing page)
Keegan Korthauer
git_last_commit: 924aec4
git_last_commit_date: 2025-10-29 10:36:02 -0400
nebbiolo2Linux (Ubuntu 24.04.3 LTS) / x86_64  OK    OK    OK  UNNEEDED, same version is already published
lconwaymacOS 12.7.6 Monterey / x86_64  OK    OK    OK    OK  UNNEEDED, same version is already published
kjohnson3macOS 13.7.7 Ventura / arm64  OK    OK    OK    OK  UNNEEDED, same version is already published
Package 288/375HostnameOS / ArchINSTALLBUILDCHECKBUILD BIN
scDDboost 1.12.0  (landing page)
Xiuyu Ma
git_last_commit: 2aff65c
git_last_commit_date: 2025-10-29 11:17:12 -0400
nebbiolo2Linux (Ubuntu 24.04.3 LTS) / x86_64  OK    OK    OK  UNNEEDED, same version is already published
lconwaymacOS 12.7.6 Monterey / x86_64  OK    OK    OK    OK  UNNEEDED, same version is already published
kjohnson3macOS 13.7.7 Ventura / arm64  OK    OK    OK    OK  UNNEEDED, same version is already published
Package 289/375HostnameOS / ArchINSTALLBUILDCHECKBUILD BIN
scde 2.38.0  (landing page)
Evan Biederstedt
git_last_commit: fc608d5
git_last_commit_date: 2025-10-29 10:28:40 -0400
nebbiolo2Linux (Ubuntu 24.04.3 LTS) / x86_64  OK    OK    WARNINGS  UNNEEDED, same version is already published
lconwaymacOS 12.7.6 Monterey / x86_64  OK    OK    WARNINGS    OK  UNNEEDED, same version is already published
kjohnson3macOS 13.7.7 Ventura / arm64  OK    OK    WARNINGS    OK  UNNEEDED, same version is already published
Package 290/375HostnameOS / ArchINSTALLBUILDCHECKBUILD BIN
scDesign3 1.8.0  (landing page)
Dongyuan Song
git_last_commit: 47185c0
git_last_commit_date: 2025-10-29 11:26:29 -0400
nebbiolo2Linux (Ubuntu 24.04.3 LTS) / x86_64  OK    OK    OK  UNNEEDED, same version is already published
lconwaymacOS 12.7.6 Monterey / x86_64  OK    OK    OK    OK  UNNEEDED, same version is already published
kjohnson3macOS 13.7.7 Ventura / arm64  OK    OK    OK    OK  UNNEEDED, same version is already published
Package 291/375HostnameOS / ArchINSTALLBUILDCHECKBUILD BIN
SCFA 1.20.0  (landing page)
Duc Tran
git_last_commit: 00e97f9
git_last_commit_date: 2025-10-29 11:03:49 -0400
nebbiolo2Linux (Ubuntu 24.04.3 LTS) / x86_64  OK    OK    OK  UNNEEDED, same version is already published
lconwaymacOS 12.7.6 Monterey / x86_64  OK    OK    OK    OK  UNNEEDED, same version is already published
kjohnson3macOS 13.7.7 Ventura / arm64  OK    OK    OK    OK  UNNEEDED, same version is already published
Package 292/375HostnameOS / ArchINSTALLBUILDCHECKBUILD BIN
scFeatures 1.10.0  (landing page)
Yue Cao
git_last_commit: 6a2b3d3
git_last_commit_date: 2025-10-29 11:20:52 -0400
nebbiolo2Linux (Ubuntu 24.04.3 LTS) / x86_64  OK    OK    ERROR  
lconwaymacOS 12.7.6 Monterey / x86_64  OK    OK    ERROR    OK  
kjohnson3macOS 13.7.7 Ventura / arm64  OK    OK    ERROR    OK  
Package 293/375HostnameOS / ArchINSTALLBUILDCHECKBUILD BIN
scGraphVerse 1.0.0  (landing page)
Francesco Cecere
git_last_commit: 425f2dc
git_last_commit_date: 2025-10-29 11:38:49 -0400
nebbiolo2Linux (Ubuntu 24.04.3 LTS) / x86_64  OK    OK    OK  UNNEEDED, same version is already published
lconwaymacOS 12.7.6 Monterey / x86_64  OK    OK    OK    OK  UNNEEDED, same version is already published
kjohnson3macOS 13.7.7 Ventura / arm64  OK    OK    OK    OK  UNNEEDED, same version is already published
Package 294/375HostnameOS / ArchINSTALLBUILDCHECKBUILD BIN
scHiCcompare 1.2.0  (landing page)
My Nguyen
git_last_commit: bb3c095
git_last_commit_date: 2025-10-29 11:36:12 -0400
nebbiolo2Linux (Ubuntu 24.04.3 LTS) / x86_64  OK    OK    WARNINGS  UNNEEDED, same version is already published
lconwaymacOS 12.7.6 Monterey / x86_64  OK    OK    WARNINGS    OK  UNNEEDED, same version is already published
kjohnson3macOS 13.7.7 Ventura / arm64  OK    OK    WARNINGS    OK  UNNEEDED, same version is already published
Package 295/375HostnameOS / ArchINSTALLBUILDCHECKBUILD BIN
scHOT 1.22.0  (landing page)
Shila Ghazanfar
git_last_commit: a61146b
git_last_commit_date: 2025-10-29 10:58:22 -0400
nebbiolo2Linux (Ubuntu 24.04.3 LTS) / x86_64  OK    OK    OK  UNNEEDED, same version is already published
lconwaymacOS 12.7.6 Monterey / x86_64  OK    OK    OK    OK  UNNEEDED, same version is already published
kjohnson3macOS 13.7.7 Ventura / arm64  OK    OK    OK    OK  UNNEEDED, same version is already published
Package 296/375HostnameOS / ArchINSTALLBUILDCHECKBUILD BIN
scMerge 1.26.0  (landing page)
Yingxin Lin
git_last_commit: d9249c9
git_last_commit_date: 2025-10-29 10:51:54 -0400
nebbiolo2Linux (Ubuntu 24.04.3 LTS) / x86_64  OK    OK    OK  UNNEEDED, same version is already published
lconwaymacOS 12.7.6 Monterey / x86_64  OK    OK    OK    OK  UNNEEDED, same version is already published
kjohnson3macOS 13.7.7 Ventura / arm64  OK    OK    OK    OK  UNNEEDED, same version is already published
Package 297/375HostnameOS / ArchINSTALLBUILDCHECKBUILD BIN
scMultiSim 1.6.0  (landing page)
Hechen Li
git_last_commit: 6add3c1
git_last_commit_date: 2025-10-29 11:29:36 -0400
nebbiolo2Linux (Ubuntu 24.04.3 LTS) / x86_64  OK    OK    OK  UNNEEDED, same version is already published
lconwaymacOS 12.7.6 Monterey / x86_64  OK    OK    OK    OK  UNNEEDED, same version is already published
kjohnson3macOS 13.7.7 Ventura / arm64  OK    OK    OK    OK  UNNEEDED, same version is already published
Package 298/375HostnameOS / ArchINSTALLBUILDCHECKBUILD BIN
SCnorm 1.32.0  (landing page)
Rhonda Bacher
git_last_commit: e86e3a7
git_last_commit_date: 2025-10-29 10:39:47 -0400
nebbiolo2Linux (Ubuntu 24.04.3 LTS) / x86_64  OK    OK    OK  UNNEEDED, same version is already published
lconwaymacOS 12.7.6 Monterey / x86_64  OK    OK    OK    OK  UNNEEDED, same version is already published
kjohnson3macOS 13.7.7 Ventura / arm64  OK    OK    OK    OK  UNNEEDED, same version is already published
Package 299/375HostnameOS / ArchINSTALLBUILDCHECKBUILD BIN
scone 1.34.0  (landing page)
Davide Risso
git_last_commit: a2184ae
git_last_commit_date: 2025-10-29 10:36:05 -0400
nebbiolo2Linux (Ubuntu 24.04.3 LTS) / x86_64  OK    OK    OK  UNNEEDED, same version is already published
lconwaymacOS 12.7.6 Monterey / x86_64  OK    OK    OK    OK  UNNEEDED, same version is already published
kjohnson3macOS 13.7.7 Ventura / arm64  OK    OK    OK    OK  UNNEEDED, same version is already published
Package 300/375HostnameOS / ArchINSTALLBUILDCHECKBUILD BIN
scoreInvHap 1.32.0  (landing page)
Dolors Pelegri-Siso
git_last_commit: 3779f3d
git_last_commit_date: 2025-10-29 10:39:17 -0400
nebbiolo2Linux (Ubuntu 24.04.3 LTS) / x86_64  OK    OK    OK  UNNEEDED, same version is already published
lconwaymacOS 12.7.6 Monterey / x86_64  OK    OK    OK    OK  UNNEEDED, same version is already published
kjohnson3macOS 13.7.7 Ventura / arm64  OK    OK    OK    OK  UNNEEDED, same version is already published
Package 301/375HostnameOS / ArchINSTALLBUILDCHECKBUILD BIN
scPCA 1.24.0  (landing page)
Philippe Boileau
git_last_commit: 49d6aeb
git_last_commit_date: 2025-10-29 10:55:26 -0400
nebbiolo2Linux (Ubuntu 24.04.3 LTS) / x86_64  OK    OK    OK  UNNEEDED, same version is already published
lconwaymacOS 12.7.6 Monterey / x86_64  OK    OK    OK    OK  UNNEEDED, same version is already published
kjohnson3macOS 13.7.7 Ventura / arm64  OK    OK    OK    OK  UNNEEDED, same version is already published
Package 302/375HostnameOS / ArchINSTALLBUILDCHECKBUILD BIN
scran 1.38.0  (landing page)
Aaron Lun
git_last_commit: 50cb1ba
git_last_commit_date: 2025-10-29 10:31:34 -0400
nebbiolo2Linux (Ubuntu 24.04.3 LTS) / x86_64  OK    OK    WARNINGS  UNNEEDED, same version is already published
lconwaymacOS 12.7.6 Monterey / x86_64  OK    OK    WARNINGS    OK  UNNEEDED, same version is already published
kjohnson3macOS 13.7.7 Ventura / arm64  OK    OK    WARNINGS    OK  UNNEEDED, same version is already published
Package 303/375HostnameOS / ArchINSTALLBUILDCHECKBUILD BIN
scRecover 1.26.0  (landing page)
Zhun Miao
git_last_commit: 4850584
git_last_commit_date: 2025-10-29 10:51:38 -0400
nebbiolo2Linux (Ubuntu 24.04.3 LTS) / x86_64  OK    OK    OK  UNNEEDED, same version is already published
lconwaymacOS 12.7.6 Monterey / x86_64  OK    OK    OK    OK  UNNEEDED, same version is already published
kjohnson3macOS 13.7.7 Ventura / arm64  OK    OK    OK    OK  UNNEEDED, same version is already published
Package 304/375HostnameOS / ArchINSTALLBUILDCHECKBUILD BIN
screenCounter 1.10.0  (landing page)
Aaron Lun
git_last_commit: 008d705
git_last_commit_date: 2025-10-29 11:23:00 -0400
nebbiolo2Linux (Ubuntu 24.04.3 LTS) / x86_64  OK    OK    OK  UNNEEDED, same version is already published
lconwaymacOS 12.7.6 Monterey / x86_64  OK    OK    OK    OK  UNNEEDED, same version is already published
kjohnson3macOS 13.7.7 Ventura / arm64  OK    OK    OK    OK  UNNEEDED, same version is already published
Package 305/375HostnameOS / ArchINSTALLBUILDCHECKBUILD BIN
scruff 1.28.0  (landing page)
Zhe Wang
git_last_commit: 085152e
git_last_commit_date: 2025-10-29 10:46:27 -0400
nebbiolo2Linux (Ubuntu 24.04.3 LTS) / x86_64  OK    OK    OK  UNNEEDED, same version is already published
lconwaymacOS 12.7.6 Monterey / x86_64  OK    OK    OK    OK  UNNEEDED, same version is already published
kjohnson3macOS 13.7.7 Ventura / arm64  OK    OK    OK    OK  UNNEEDED, same version is already published
Package 306/375HostnameOS / ArchINSTALLBUILDCHECKBUILD BIN
scShapes 1.16.0  (landing page)
Malindrie Dharmaratne
git_last_commit: 8def801
git_last_commit_date: 2025-10-29 11:10:49 -0400
nebbiolo2Linux (Ubuntu 24.04.3 LTS) / x86_64  OK    OK    OK  UNNEEDED, same version is already published
lconwaymacOS 12.7.6 Monterey / x86_64  OK    OK    OK    OK  UNNEEDED, same version is already published
kjohnson3macOS 13.7.7 Ventura / arm64  OK    OK    OK    OK  UNNEEDED, same version is already published
Package 307/375HostnameOS / ArchINSTALLBUILDCHECKBUILD BIN
scTHI 1.22.0  (landing page)
Michele Ceccarelli
git_last_commit: f8c5d18
git_last_commit_date: 2025-10-29 10:57:17 -0400
nebbiolo2Linux (Ubuntu 24.04.3 LTS) / x86_64  OK    OK    OK  UNNEEDED, same version is already published
lconwaymacOS 12.7.6 Monterey / x86_64  OK    OK    OK    OK  UNNEEDED, same version is already published
kjohnson3macOS 13.7.7 Ventura / arm64  OK    OK    OK    OK  UNNEEDED, same version is already published
Package 308/375HostnameOS / ArchINSTALLBUILDCHECKBUILD BIN
scuttle 1.20.0  (landing page)
Aaron Lun
git_last_commit: 2796dbd
git_last_commit_date: 2025-10-29 10:59:47 -0400
nebbiolo2Linux (Ubuntu 24.04.3 LTS) / x86_64  OK    OK    OK  UNNEEDED, same version is already published
lconwaymacOS 12.7.6 Monterey / x86_64  OK    OK    OK    OK  UNNEEDED, same version is already published
kjohnson3macOS 13.7.7 Ventura / arm64  OK    OK    OK    OK  UNNEEDED, same version is already published
Package 309/375HostnameOS / ArchINSTALLBUILDCHECKBUILD BIN
seqArchR 1.14.0  (landing page)
Sarvesh Nikumbh
git_last_commit: 232572b
git_last_commit_date: 2025-10-29 11:15:54 -0400
nebbiolo2Linux (Ubuntu 24.04.3 LTS) / x86_64  OK    OK    ERROR  
lconwaymacOS 12.7.6 Monterey / x86_64  OK    OK    ERROR    OK  
kjohnson3macOS 13.7.7 Ventura / arm64  OK    OK    ERROR    OK  
Package 310/375HostnameOS / ArchINSTALLBUILDCHECKBUILD BIN
seqArchRplus 1.10.0  (landing page)
Sarvesh Nikumbh
git_last_commit: 7ad13f0
git_last_commit_date: 2025-10-29 11:20:15 -0400
nebbiolo2Linux (Ubuntu 24.04.3 LTS) / x86_64  OK    OK    ERROR  
lconwaymacOS 12.7.6 Monterey / x86_64  OK    OK    ERROR    OK  
kjohnson3macOS 13.7.7 Ventura / arm64  OK    OK    ERROR    OK  
Package 311/375HostnameOS / ArchINSTALLBUILDCHECKBUILD BIN
SEraster 1.2.0  (landing page)
Gohta Aihara
git_last_commit: 804b492
git_last_commit_date: 2025-10-29 11:35:58 -0400
nebbiolo2Linux (Ubuntu 24.04.3 LTS) / x86_64  OK    OK    OK  UNNEEDED, same version is already published
lconwaymacOS 12.7.6 Monterey / x86_64  OK    OK    OK    OK  UNNEEDED, same version is already published
kjohnson3macOS 13.7.7 Ventura / arm64  OK    OK    OK    OK  UNNEEDED, same version is already published
Package 312/375HostnameOS / ArchINSTALLBUILDCHECKBUILD BIN
sesame 1.28.0  (landing page)
Wanding Zhou
git_last_commit: f0f05cb
git_last_commit_date: 2025-10-29 10:46:05 -0400
nebbiolo2Linux (Ubuntu 24.04.3 LTS) / x86_64  OK    OK    OK  UNNEEDED, same version is already published
lconwaymacOS 12.7.6 Monterey / x86_64  OK    OK    OK    OK  UNNEEDED, same version is already published
kjohnson3macOS 13.7.7 Ventura / arm64  OK    OK    OK    OK  UNNEEDED, same version is already published
Package 313/375HostnameOS / ArchINSTALLBUILDCHECKBUILD BIN
SEtools 1.24.0  (landing page)
Pierre-Luc Germain
git_last_commit: 06b3955
git_last_commit_date: 2025-10-29 10:54:13 -0400
nebbiolo2Linux (Ubuntu 24.04.3 LTS) / x86_64  OK    OK    OK  UNNEEDED, same version is already published
lconwaymacOS 12.7.6 Monterey / x86_64  OK    OK    OK    OK  UNNEEDED, same version is already published
kjohnson3macOS 13.7.7 Ventura / arm64  OK    OK    OK    OK  UNNEEDED, same version is already published
Package 314/375HostnameOS / ArchINSTALLBUILDCHECKBUILD BIN
ShortRead 1.68.0  (landing page)
Bioconductor Package Maintainer
git_last_commit: df90c87
git_last_commit_date: 2025-10-29 10:00:34 -0400
nebbiolo2Linux (Ubuntu 24.04.3 LTS) / x86_64  OK    OK    WARNINGS  UNNEEDED, same version is already published
lconwaymacOS 12.7.6 Monterey / x86_64  OK    OK    WARNINGS    OK  UNNEEDED, same version is already published
kjohnson3macOS 13.7.7 Ventura / arm64  OK    OK    WARNINGS    OK  UNNEEDED, same version is already published
Package 315/375HostnameOS / ArchINSTALLBUILDCHECKBUILD BIN
SigCheck 2.42.0  (landing page)
Rory Stark
git_last_commit: 5d4b11a
git_last_commit_date: 2025-10-29 10:22:19 -0400
nebbiolo2Linux (Ubuntu 24.04.3 LTS) / x86_64  OK    OK    OK  UNNEEDED, same version is already published
lconwaymacOS 12.7.6 Monterey / x86_64  OK    OK    OK    OK  UNNEEDED, same version is already published
kjohnson3macOS 13.7.7 Ventura / arm64  OK    OK    OK    OK  UNNEEDED, same version is already published
Package 316/375HostnameOS / ArchINSTALLBUILDCHECKBUILD BIN
sigFeature 1.28.0  (landing page)
Pijush Das Developer
git_last_commit: f80d75f
git_last_commit_date: 2025-10-29 10:45:32 -0400
nebbiolo2Linux (Ubuntu 24.04.3 LTS) / x86_64  OK    OK    WARNINGS  UNNEEDED, same version is already published
lconwaymacOS 12.7.6 Monterey / x86_64  OK    OK    WARNINGS    OK  UNNEEDED, same version is already published
kjohnson3macOS 13.7.7 Ventura / arm64  OK    OK    WARNINGS    OK  UNNEEDED, same version is already published
Package 317/375HostnameOS / ArchINSTALLBUILDCHECKBUILD BIN
signatureSearch 1.24.0  (landing page)
Brendan Gongol
git_last_commit: ce6ab95
git_last_commit_date: 2025-10-29 10:55:44 -0400
nebbiolo2Linux (Ubuntu 24.04.3 LTS) / x86_64  OK    OK    OK  UNNEEDED, same version is already published
lconwaymacOS 12.7.6 Monterey / x86_64  OK    OK    OK    OK  UNNEEDED, same version is already published
kjohnson3macOS 13.7.7 Ventura / arm64  OK    OK    OK    OK  UNNEEDED, same version is already published
Package 318/375HostnameOS / ArchINSTALLBUILDCHECKBUILD BIN
SimBu 1.12.0  (landing page)
Alexander Dietrich
git_last_commit: c0333a2
git_last_commit_date: 2025-10-29 11:18:10 -0400
nebbiolo2Linux (Ubuntu 24.04.3 LTS) / x86_64  OK    OK    OK  UNNEEDED, same version is already published
lconwaymacOS 12.7.6 Monterey / x86_64  OK    OK    OK    OK  UNNEEDED, same version is already published
kjohnson3macOS 13.7.7 Ventura / arm64  OK    OK    OK    OK  UNNEEDED, same version is already published
Package 319/375HostnameOS / ArchINSTALLBUILDCHECKBUILD BIN
simpleSeg 1.12.0  (landing page)
Ellis Patrick
git_last_commit: 2b63ec0
git_last_commit_date: 2025-10-29 11:19:44 -0400
nebbiolo2Linux (Ubuntu 24.04.3 LTS) / x86_64  OK    OK    OK  UNNEEDED, same version is already published
lconwaymacOS 12.7.6 Monterey / x86_64  OK    OK    OK    OK  UNNEEDED, same version is already published
kjohnson3macOS 13.7.7 Ventura / arm64  OK    OK    OK    OK  UNNEEDED, same version is already published
Package 320/375HostnameOS / ArchINSTALLBUILDCHECKBUILD BIN
SingleCellAlleleExperiment 1.6.0  (landing page)
Jonas Schuck
git_last_commit: f2f4799
git_last_commit_date: 2025-10-29 11:30:07 -0400
nebbiolo2Linux (Ubuntu 24.04.3 LTS) / x86_64  OK    OK    OK  UNNEEDED, same version is already published
lconwaymacOS 12.7.6 Monterey / x86_64  OK    OK    OK    OK  UNNEEDED, same version is already published
kjohnson3macOS 13.7.7 Ventura / arm64  OK    OK    OK    OK  UNNEEDED, same version is already published
Package 321/375HostnameOS / ArchINSTALLBUILDCHECKBUILD BIN
singleCellTK 2.20.0  (landing page)
Joshua David Campbell
git_last_commit: e2bff7b
git_last_commit_date: 2025-10-29 11:29:49 -0400
nebbiolo2Linux (Ubuntu 24.04.3 LTS) / x86_64  OK    OK    OK  UNNEEDED, same version is already published
lconwaymacOS 12.7.6 Monterey / x86_64  OK    OK    OK    OK  UNNEEDED, same version is already published
kjohnson3macOS 13.7.7 Ventura / arm64  OK    OK    OK    OK  UNNEEDED, same version is already published
Package 322/375HostnameOS / ArchINSTALLBUILDCHECKBUILD BIN
SingleR 2.12.0  (landing page)
Aaron Lun
git_last_commit: 39ca8d4
git_last_commit_date: 2025-10-29 10:54:00 -0400
nebbiolo2Linux (Ubuntu 24.04.3 LTS) / x86_64  OK    OK    OK  UNNEEDED, same version is already published
lconwaymacOS 12.7.6 Monterey / x86_64  OK    OK    OK    OK  UNNEEDED, same version is already published
kjohnson3macOS 13.7.7 Ventura / arm64  OK    OK    OK    OK  UNNEEDED, same version is already published
Package 323/375HostnameOS / ArchINSTALLBUILDCHECKBUILD BIN
singscore 1.30.0  (landing page)
Malvika Kharbanda
git_last_commit: 5bc304d
git_last_commit_date: 2025-10-29 10:45:11 -0400
nebbiolo2Linux (Ubuntu 24.04.3 LTS) / x86_64  OK    OK    OK  UNNEEDED, same version is already published
lconwaymacOS 12.7.6 Monterey / x86_64  OK    OK    OK    OK  UNNEEDED, same version is already published
kjohnson3macOS 13.7.7 Ventura / arm64  OK    OK    OK    OK  UNNEEDED, same version is already published
Package 324/375HostnameOS / ArchINSTALLBUILDCHECKBUILD BIN
SmartPhos 1.0.0  (landing page)
Shubham Agrawal
git_last_commit: a7a52e6
git_last_commit_date: 2025-10-29 11:38:54 -0400
nebbiolo2Linux (Ubuntu 24.04.3 LTS) / x86_64  OK    OK    OK  UNNEEDED, same version is already published
lconwaymacOS 12.7.6 Monterey / x86_64  OK    OK    OK    OK  UNNEEDED, same version is already published
kjohnson3macOS 13.7.7 Ventura / arm64  OK    OK    OK    OK  UNNEEDED, same version is already published
Package 325/375HostnameOS / ArchINSTALLBUILDCHECKBUILD BIN
smoppix 1.2.0  (landing page)
Stijn Hawinkel
git_last_commit: ff312ee
git_last_commit_date: 2025-10-29 11:33:54 -0400
nebbiolo2Linux (Ubuntu 24.04.3 LTS) / x86_64  OK    OK    OK  UNNEEDED, same version is already published
lconwaymacOS 12.7.6 Monterey / x86_64  OK    OK    OK    OK  UNNEEDED, same version is already published
kjohnson3macOS 13.7.7 Ventura / arm64  OK    OK    OK    OK  UNNEEDED, same version is already published
Package 326/375HostnameOS / ArchINSTALLBUILDCHECKBUILD BIN
SNPhood 1.40.0  (landing page)
Christian Arnold
git_last_commit: 60c689c
git_last_commit_date: 2025-10-29 10:28:24 -0400
nebbiolo2Linux (Ubuntu 24.04.3 LTS) / x86_64  OK    OK    OK  UNNEEDED, same version is already published
lconwaymacOS 12.7.6 Monterey / x86_64  OK    OK    OK    OK  UNNEEDED, same version is already published
kjohnson3macOS 13.7.7 Ventura / arm64  OK    OK    OK    OK  UNNEEDED, same version is already published
Package 327/375HostnameOS / ArchINSTALLBUILDCHECKBUILD BIN
soGGi 1.42.0  (landing page)
Tom Carroll
git_last_commit: 857d021
git_last_commit_date: 2025-10-29 10:25:37 -0400
nebbiolo2Linux (Ubuntu 24.04.3 LTS) / x86_64  OK    OK    ERROR  
lconwaymacOS 12.7.6 Monterey / x86_64  OK    OK    ERROR    OK  
kjohnson3macOS 13.7.7 Ventura / arm64  OK    OK    ERROR    OK  
Package 328/375HostnameOS / ArchINSTALLBUILDCHECKBUILD BIN
spacexr 1.2.0  (landing page)
Gabriel Grajeda
git_last_commit: b6d81f6
git_last_commit_date: 2025-10-29 11:35:40 -0400
nebbiolo2Linux (Ubuntu 24.04.3 LTS) / x86_64  OK    OK    OK  UNNEEDED, same version is already published
lconwaymacOS 12.7.6 Monterey / x86_64  OK    OK    OK    OK  UNNEEDED, same version is already published
kjohnson3macOS 13.7.7 Ventura / arm64  OK    OK    OK    OK  UNNEEDED, same version is already published
Package 329/375HostnameOS / ArchINSTALLBUILDCHECKBUILD BIN
spARI 1.0.0  (landing page)
Yinqiao Yan
git_last_commit: 4a3384b
git_last_commit_date: 2025-10-29 11:37:24 -0400
nebbiolo2Linux (Ubuntu 24.04.3 LTS) / x86_64  OK    OK    OK  UNNEEDED, same version is already published
lconwaymacOS 12.7.6 Monterey / x86_64  OK    OK    OK    OK  UNNEEDED, same version is already published
kjohnson3macOS 13.7.7 Ventura / arm64  OK    OK    OK    OK  UNNEEDED, same version is already published
Package 330/375HostnameOS / ArchINSTALLBUILDCHECKBUILD BIN
sparrow 1.16.0  (landing page)
Steve Lianoglou
git_last_commit: fc1b95c
git_last_commit_date: 2025-10-29 11:12:41 -0400
nebbiolo2Linux (Ubuntu 24.04.3 LTS) / x86_64  OK    OK    OK  UNNEEDED, same version is already published
lconwaymacOS 12.7.6 Monterey / x86_64  OK    OK    OK    OK  UNNEEDED, same version is already published
kjohnson3macOS 13.7.7 Ventura / arm64  OK    OK    OK    OK  UNNEEDED, same version is already published
Package 331/375HostnameOS / ArchINSTALLBUILDCHECKBUILD BIN
SpatialFeatureExperiment 1.12.0  (landing page)
Lambda Moses
git_last_commit: ef58880
git_last_commit_date: 2025-10-29 11:19:11 -0400
nebbiolo2Linux (Ubuntu 24.04.3 LTS) / x86_64  OK    ERROR  skipped
lconwaymacOS 12.7.6 Monterey / x86_64  OK    ERROR  skippedskipped
kjohnson3macOS 13.7.7 Ventura / arm64  OK    ERROR  skippedskipped
Package 332/375HostnameOS / ArchINSTALLBUILDCHECKBUILD BIN
Spectra 1.20.0  (landing page)
RforMassSpectrometry Package Maintainer
git_last_commit: 60c9646
git_last_commit_date: 2025-10-29 11:01:49 -0400
nebbiolo2Linux (Ubuntu 24.04.3 LTS) / x86_64  OK    OK    OK  UNNEEDED, same version is already published
lconwaymacOS 12.7.6 Monterey / x86_64  OK    OK    OK    OK  UNNEEDED, same version is already published
kjohnson3macOS 13.7.7 Ventura / arm64  OK    OK    OK    OK  UNNEEDED, same version is already published
Package 333/375HostnameOS / ArchINSTALLBUILDCHECKBUILD BIN
SpectralTAD 1.26.0  (landing page)
Mikhail Dozmorov
git_last_commit: 1a597b5
git_last_commit_date: 2025-10-29 10:50:13 -0400
nebbiolo2Linux (Ubuntu 24.04.3 LTS) / x86_64  OK    OK    OK  UNNEEDED, same version is already published
lconwaymacOS 12.7.6 Monterey / x86_64  OK    OK    OK    OK  UNNEEDED, same version is already published
kjohnson3macOS 13.7.7 Ventura / arm64  OK    OK    OK    OK  UNNEEDED, same version is already published
Package 334/375HostnameOS / ArchINSTALLBUILDCHECKBUILD BIN
spicyR 1.22.0  (landing page)
Ellis Patrick
git_last_commit: a906b18
git_last_commit_date: 2025-10-29 10:57:53 -0400
nebbiolo2Linux (Ubuntu 24.04.3 LTS) / x86_64  OK    OK    OK  UNNEEDED, same version is already published
lconwaymacOS 12.7.6 Monterey / x86_64  OK    OK    OK    OK  UNNEEDED, same version is already published
kjohnson3macOS 13.7.7 Ventura / arm64  OK    OK    OK    OK  UNNEEDED, same version is already published
Package 335/375HostnameOS / ArchINSTALLBUILDCHECKBUILD BIN
splatter 1.34.0  (landing page)
Luke Zappia
git_last_commit: e9a1ee1
git_last_commit_date: 2025-10-29 10:36:34 -0400
nebbiolo2Linux (Ubuntu 24.04.3 LTS) / x86_64  OK    OK    OK  UNNEEDED, same version is already published
lconwaymacOS 12.7.6 Monterey / x86_64  OK    OK    OK    OK  UNNEEDED, same version is already published
kjohnson3macOS 13.7.7 Ventura / arm64  OK    OK    OK    OK  UNNEEDED, same version is already published
Package 336/375HostnameOS / ArchINSTALLBUILDCHECKBUILD BIN
SpliceWiz 1.12.0  (landing page)
Alex Chit Hei Wong
git_last_commit: 1767347
git_last_commit_date: 2025-10-29 11:17:35 -0400
nebbiolo2Linux (Ubuntu 24.04.3 LTS) / x86_64  OK    OK    WARNINGS  UNNEEDED, same version is already published
lconwaymacOS 12.7.6 Monterey / x86_64  OK    OK    WARNINGS    OK  UNNEEDED, same version is already published
kjohnson3macOS 13.7.7 Ventura / arm64  OK    OK    WARNINGS    OK  UNNEEDED, same version is already published
Package 337/375HostnameOS / ArchINSTALLBUILDCHECKBUILD BIN
SplicingGraphs 1.50.0  (landing page)
H. PagĆØs
git_last_commit: 91028d7
git_last_commit_date: 2025-10-29 10:14:47 -0400
nebbiolo2Linux (Ubuntu 24.04.3 LTS) / x86_64  OK    ERROR  skipped
lconwaymacOS 12.7.6 Monterey / x86_64  OK    ERROR  skippedskipped
kjohnson3macOS 13.7.7 Ventura / arm64  OK    ERROR  skippedskipped
Package 338/375HostnameOS / ArchINSTALLBUILDCHECKBUILD BIN
spoon 1.6.0  (landing page)
Kinnary Shah
git_last_commit: c2a5b85
git_last_commit_date: 2025-10-29 11:28:09 -0400
nebbiolo2Linux (Ubuntu 24.04.3 LTS) / x86_64  OK    OK    OK  UNNEEDED, same version is already published
lconwaymacOS 12.7.6 Monterey / x86_64  OK    OK    OK    OK  UNNEEDED, same version is already published
kjohnson3macOS 13.7.7 Ventura / arm64  OK    OK    OK    OK  UNNEEDED, same version is already published
Package 339/375HostnameOS / ArchINSTALLBUILDCHECKBUILD BIN
SpotSweeper 1.6.0  (landing page)
Michael Totty
git_last_commit: 2a9e4a7
git_last_commit_date: 2025-10-29 11:29:53 -0400
nebbiolo2Linux (Ubuntu 24.04.3 LTS) / x86_64  OK    OK    OK  UNNEEDED, same version is already published
lconwaymacOS 12.7.6 Monterey / x86_64  OK    OK    OK    OK  UNNEEDED, same version is already published
kjohnson3macOS 13.7.7 Ventura / arm64  OK    OK    OK    OK  UNNEEDED, same version is already published
Package 340/375HostnameOS / ArchINSTALLBUILDCHECKBUILD BIN
srnadiff 1.30.0  (landing page)
Zytnicki Matthias
git_last_commit: 809d1c9
git_last_commit_date: 2025-10-29 10:43:01 -0400
nebbiolo2Linux (Ubuntu 24.04.3 LTS) / x86_64  OK    OK    WARNINGS  UNNEEDED, same version is already published
lconwaymacOS 12.7.6 Monterey / x86_64  OK    OK    WARNINGS    OK  UNNEEDED, same version is already published
kjohnson3macOS 13.7.7 Ventura / arm64  OK    OK    WARNINGS    OK  UNNEEDED, same version is already published
Package 341/375HostnameOS / ArchINSTALLBUILDCHECKBUILD BIN
StabMap 1.4.0  (landing page)
Shila Ghazanfar
git_last_commit: 82229fe
git_last_commit_date: 2025-10-29 11:31:21 -0400
nebbiolo2Linux (Ubuntu 24.04.3 LTS) / x86_64  OK    OK    OK  UNNEEDED, same version is already published
lconwaymacOS 12.7.6 Monterey / x86_64  OK    OK    OK    OK  UNNEEDED, same version is already published
kjohnson3macOS 13.7.7 Ventura / arm64  OK    OK    OK    OK  UNNEEDED, same version is already published
Package 342/375HostnameOS / ArchINSTALLBUILDCHECKBUILD BIN
Statial 1.12.0  (landing page)
Farhan Ameen
git_last_commit: 7de3cdd
git_last_commit_date: 2025-10-29 11:19:57 -0400
nebbiolo2Linux (Ubuntu 24.04.3 LTS) / x86_64  OK    OK    OK  UNNEEDED, same version is already published
lconwaymacOS 12.7.6 Monterey / x86_64  OK    OK    OK    OK  UNNEEDED, same version is already published
kjohnson3macOS 13.7.7 Ventura / arm64  OK    OK    OK    OK  UNNEEDED, same version is already published
Package 343/375HostnameOS / ArchINSTALLBUILDCHECKBUILD BIN
SUITOR 1.12.0  (landing page)
Bill Wheeler
git_last_commit: c64d23d
git_last_commit_date: 2025-10-29 11:17:09 -0400
nebbiolo2Linux (Ubuntu 24.04.3 LTS) / x86_64  OK    OK    OK  UNNEEDED, same version is already published
lconwaymacOS 12.7.6 Monterey / x86_64  OK    OK    OK    OK  UNNEEDED, same version is already published
kjohnson3macOS 13.7.7 Ventura / arm64  ERROR    ERROR  skippedskipped
Package 344/375HostnameOS / ArchINSTALLBUILDCHECKBUILD BIN
SuperCellCyto 1.0.0  (landing page)
Givanna Putri
git_last_commit: 1e49305
git_last_commit_date: 2025-10-29 11:38:04 -0400
nebbiolo2Linux (Ubuntu 24.04.3 LTS) / x86_64  OK    OK    OK  UNNEEDED, same version is already published
lconwaymacOS 12.7.6 Monterey / x86_64  OK    OK    OK    OK  UNNEEDED, same version is already published
kjohnson3macOS 13.7.7 Ventura / arm64  OK    OK    OK    OK  UNNEEDED, same version is already published
Package 345/375HostnameOS / ArchINSTALLBUILDCHECKBUILD BIN
sva 3.58.0  (landing page)
Jeffrey T. Leek , John D. Storey
git_last_commit: 32d0f19
git_last_commit_date: 2025-10-29 10:09:21 -0400
nebbiolo2Linux (Ubuntu 24.04.3 LTS) / x86_64  OK    OK    OK  UNNEEDED, same version is already published
lconwaymacOS 12.7.6 Monterey / x86_64  OK    OK    OK    OK  UNNEEDED, same version is already published
kjohnson3macOS 13.7.7 Ventura / arm64  OK    OK    OK    OK  UNNEEDED, same version is already published
Package 346/375HostnameOS / ArchINSTALLBUILDCHECKBUILD BIN
SVP 1.2.0  (landing page)
Shuangbin Xu
git_last_commit: 2cb231f
git_last_commit_date: 2025-10-29 11:35:05 -0400
nebbiolo2Linux (Ubuntu 24.04.3 LTS) / x86_64  OK    OK    OK  UNNEEDED, same version is already published
lconwaymacOS 12.7.6 Monterey / x86_64  OK    OK    OK    OK  UNNEEDED, same version is already published
kjohnson3macOS 13.7.7 Ventura / arm64  OK    OK    OK    OK  UNNEEDED, same version is already published
Package 347/375HostnameOS / ArchINSTALLBUILDCHECKBUILD BIN
syntenet 1.12.0  (landing page)
FabrĆ­cio Almeida-Silva
git_last_commit: 113a35a
git_last_commit_date: 2025-10-29 11:17:22 -0400
nebbiolo2Linux (Ubuntu 24.04.3 LTS) / x86_64  OK    OK    OK  UNNEEDED, same version is already published
lconwaymacOS 12.7.6 Monterey / x86_64  OK    OK    OK    OK  UNNEEDED, same version is already published
kjohnson3macOS 13.7.7 Ventura / arm64  OK    OK    OK    OK  UNNEEDED, same version is already published
Package 348/375HostnameOS / ArchINSTALLBUILDCHECKBUILD BIN
TAPseq 1.22.0  (landing page)
Andreas R. Gschwind
git_last_commit: d0aad39
git_last_commit_date: 2025-10-29 10:57:19 -0400
nebbiolo2Linux (Ubuntu 24.04.3 LTS) / x86_64  OK    OK    WARNINGS  UNNEEDED, same version is already published
lconwaymacOS 12.7.6 Monterey / x86_64  OK    OK    WARNINGS    OK  UNNEEDED, same version is already published
kjohnson3macOS 13.7.7 Ventura / arm64  OK    OK    WARNINGS    OK  UNNEEDED, same version is already published
Package 349/375HostnameOS / ArchINSTALLBUILDCHECKBUILD BIN
TBSignatureProfiler 1.22.0  (landing page)
Kiloni Quiles
git_last_commit: 376376a
git_last_commit_date: 2025-10-29 10:58:59 -0400
nebbiolo2Linux (Ubuntu 24.04.3 LTS) / x86_64  OK    OK    OK  UNNEEDED, same version is already published
lconwaymacOS 12.7.6 Monterey / x86_64  OK    OK    OK    OK  UNNEEDED, same version is already published
kjohnson3macOS 13.7.7 Ventura / arm64  OK    OK    OK    OK  UNNEEDED, same version is already published
Package 350/375HostnameOS / ArchINSTALLBUILDCHECKBUILD BIN
ternarynet 1.54.0  (landing page)
McCall N. Matthew
git_last_commit: 091c254
git_last_commit_date: 2025-10-29 10:10:20 -0400
nebbiolo2Linux (Ubuntu 24.04.3 LTS) / x86_64  OK    OK    OK  UNNEEDED, same version is already published
lconwaymacOS 12.7.6 Monterey / x86_64  OK    OK    OK    OK  UNNEEDED, same version is already published
kjohnson3macOS 13.7.7 Ventura / arm64  OK    OK    OK    OK  UNNEEDED, same version is already published
Package 351/375HostnameOS / ArchINSTALLBUILDCHECKBUILD BIN
TFBSTools 1.48.0  (landing page)
Ge Tan
git_last_commit: 77e9a0e
git_last_commit_date: 2025-10-29 10:16:59 -0400
nebbiolo2Linux (Ubuntu 24.04.3 LTS) / x86_64  OK    OK    OK  UNNEEDED, same version is already published
lconwaymacOS 12.7.6 Monterey / x86_64  OK    OK    OK    OK  UNNEEDED, same version is already published
kjohnson3macOS 13.7.7 Ventura / arm64  OK    OK    OK    OK  UNNEEDED, same version is already published
Package 352/375HostnameOS / ArchINSTALLBUILDCHECKBUILD BIN
tidyCoverage 1.6.0  (landing page)
Jacques Serizay
git_last_commit: 56ab248
git_last_commit_date: 2025-10-29 11:27:26 -0400
nebbiolo2Linux (Ubuntu 24.04.3 LTS) / x86_64  OK    OK    OK  UNNEEDED, same version is already published
lconwaymacOS 12.7.6 Monterey / x86_64  OK    OK    OK    OK  UNNEEDED, same version is already published
kjohnson3macOS 13.7.7 Ventura / arm64  OK    OK    OK    OK  UNNEEDED, same version is already published
Package 353/375HostnameOS / ArchINSTALLBUILDCHECKBUILD BIN
TMixClust 1.32.0  (landing page)
Monica Golumbeanu
git_last_commit: b2d1cbb
git_last_commit_date: 2025-10-29 10:40:16 -0400
nebbiolo2Linux (Ubuntu 24.04.3 LTS) / x86_64  OK    OK    OK  UNNEEDED, same version is already published
lconwaymacOS 12.7.6 Monterey / x86_64  OK    OK    OK    OK  UNNEEDED, same version is already published
kjohnson3macOS 13.7.7 Ventura / arm64  OK    OK    OK    OK  UNNEEDED, same version is already published
Package 354/375HostnameOS / ArchINSTALLBUILDCHECKBUILD BIN
ToxicoGx 2.14.0  (landing page)
Benjamin Haibe-Kains
git_last_commit: c4f8032
git_last_commit_date: 2025-10-29 11:00:14 -0400
nebbiolo2Linux (Ubuntu 24.04.3 LTS) / x86_64  OK    OK    OK  UNNEEDED, same version is already published
lconwaymacOS 12.7.6 Monterey / x86_64  OK    OK    OK    OK  UNNEEDED, same version is already published
kjohnson3macOS 13.7.7 Ventura / arm64  OK    OK    OK    OK  UNNEEDED, same version is already published
Package 355/375HostnameOS / ArchINSTALLBUILDCHECKBUILD BIN
TPP2D 1.26.0  (landing page)
Nils Kurzawa
git_last_commit: 41578f0
git_last_commit_date: 2025-10-29 10:52:09 -0400
nebbiolo2Linux (Ubuntu 24.04.3 LTS) / x86_64  OK    OK    OK  UNNEEDED, same version is already published
lconwaymacOS 12.7.6 Monterey / x86_64  OK    OK    OK    OK  UNNEEDED, same version is already published
kjohnson3macOS 13.7.7 Ventura / arm64  OK    OK    OK    OK  UNNEEDED, same version is already published
Package 356/375HostnameOS / ArchINSTALLBUILDCHECKBUILD BIN
tpSVG 1.6.0  (landing page)
Boyi Guo
git_last_commit: a7202a9
git_last_commit_date: 2025-10-29 11:28:17 -0400
nebbiolo2Linux (Ubuntu 24.04.3 LTS) / x86_64  OK    OK    OK  UNNEEDED, same version is already published
lconwaymacOS 12.7.6 Monterey / x86_64  OK    OK    OK    OK  UNNEEDED, same version is already published
kjohnson3macOS 13.7.7 Ventura / arm64  OK    OK    OK    OK  UNNEEDED, same version is already published
Package 357/375HostnameOS / ArchINSTALLBUILDCHECKBUILD BIN
tradeSeq 1.24.0  (landing page)
Hector Roux de Bezieux
git_last_commit: 7eea99e
git_last_commit_date: 2025-10-29 10:55:42 -0400
nebbiolo2Linux (Ubuntu 24.04.3 LTS) / x86_64  OK    OK    OK  UNNEEDED, same version is already published
lconwaymacOS 12.7.6 Monterey / x86_64  OK    OK    OK    OK  UNNEEDED, same version is already published
kjohnson3macOS 13.7.7 Ventura / arm64  OK    OK    OK    OK  UNNEEDED, same version is already published
Package 358/375HostnameOS / ArchINSTALLBUILDCHECKBUILD BIN
TreeSummarizedExperiment 2.18.0  (landing page)
Ruizhu Huang
git_last_commit: f463a1d
git_last_commit_date: 2025-10-29 10:52:27 -0400
nebbiolo2Linux (Ubuntu 24.04.3 LTS) / x86_64  OK    OK    OK  UNNEEDED, same version is already published
lconwaymacOS 12.7.6 Monterey / x86_64  OK    OK    OK    OK  UNNEEDED, same version is already published
kjohnson3macOS 13.7.7 Ventura / arm64  OK    OK    OK    OK  UNNEEDED, same version is already published
Package 359/375HostnameOS / ArchINSTALLBUILDCHECKBUILD BIN
Trendy 1.32.0  (landing page)
Rhonda Bacher
git_last_commit: a0843fb
git_last_commit_date: 2025-10-29 10:42:59 -0400
nebbiolo2Linux (Ubuntu 24.04.3 LTS) / x86_64  OK    OK    OK  UNNEEDED, same version is already published
lconwaymacOS 12.7.6 Monterey / x86_64  OK    OK    OK    OK  UNNEEDED, same version is already published
kjohnson3macOS 13.7.7 Ventura / arm64  OK    OK    OK    OK  UNNEEDED, same version is already published
Package 360/375HostnameOS / ArchINSTALLBUILDCHECKBUILD BIN
TVTB 1.36.0  (landing page)
Kevin Rue-Albrecht
git_last_commit: f5471e1
git_last_commit_date: 2025-10-29 10:35:21 -0400
nebbiolo2Linux (Ubuntu 24.04.3 LTS) / x86_64  OK    OK    OK  UNNEEDED, same version is already published
lconwaymacOS 12.7.6 Monterey / x86_64  OK    OK    OK    OK  UNNEEDED, same version is already published
kjohnson3macOS 13.7.7 Ventura / arm64  OK    OK    OK    OK  UNNEEDED, same version is already published
Package 361/375HostnameOS / ArchINSTALLBUILDCHECKBUILD BIN
txcutr 1.16.0  (landing page)
Mervin Fansler
git_last_commit: c2ea2a8
git_last_commit_date: 2025-10-29 11:13:37 -0400
nebbiolo2Linux (Ubuntu 24.04.3 LTS) / x86_64  OK    OK    OK  UNNEEDED, same version is already published
lconwaymacOS 12.7.6 Monterey / x86_64  OK    OK    OK    OK  UNNEEDED, same version is already published
kjohnson3macOS 13.7.7 Ventura / arm64  OK    OK    OK    OK  UNNEEDED, same version is already published
Package 362/375HostnameOS / ArchINSTALLBUILDCHECKBUILD BIN
UCell 2.14.0  (landing page)
Massimo Andreatta
git_last_commit: 4d11456
git_last_commit_date: 2025-10-29 11:15:16 -0400
nebbiolo2Linux (Ubuntu 24.04.3 LTS) / x86_64  OK    OK    OK  UNNEEDED, same version is already published
lconwaymacOS 12.7.6 Monterey / x86_64  OK    OK    OK    OK  UNNEEDED, same version is already published
kjohnson3macOS 13.7.7 Ventura / arm64  OK    OK    OK    OK  UNNEEDED, same version is already published
Package 363/375HostnameOS / ArchINSTALLBUILDCHECKBUILD BIN
UPDhmm 1.6.0  (landing page)
Marta Sevilla
git_last_commit: 0af356a
git_last_commit_date: 2025-10-29 11:29:26 -0400
nebbiolo2Linux (Ubuntu 24.04.3 LTS) / x86_64  OK    OK    OK  UNNEEDED, same version is already published
lconwaymacOS 12.7.6 Monterey / x86_64  OK    OK    OK    OK  UNNEEDED, same version is already published
kjohnson3macOS 13.7.7 Ventura / arm64  OK    OK    OK    OK  UNNEEDED, same version is already published
Package 364/375HostnameOS / ArchINSTALLBUILDCHECKBUILD BIN
variancePartition 1.40.0  (landing page)
Gabriel E. Hoffman
git_last_commit: 1ff4f97
git_last_commit_date: 2025-10-29 10:27:03 -0400
nebbiolo2Linux (Ubuntu 24.04.3 LTS) / x86_64  OK    OK    OK  UNNEEDED, same version is already published
lconwaymacOS 12.7.6 Monterey / x86_64  OK    OK    OK    OK  UNNEEDED, same version is already published
kjohnson3macOS 13.7.7 Ventura / arm64  OK    OK    OK    OK  UNNEEDED, same version is already published
Package 365/375HostnameOS / ArchINSTALLBUILDCHECKBUILD BIN
VariantFiltering 1.46.0  (landing page)
Robert Castelo
git_last_commit: 958023b
git_last_commit_date: 2025-10-29 10:19:08 -0400
nebbiolo2Linux (Ubuntu 24.04.3 LTS) / x86_64  OK    OK    OK  UNNEEDED, same version is already published
lconwaymacOS 12.7.6 Monterey / x86_64  OK    OK    OK    OK  UNNEEDED, same version is already published
kjohnson3macOS 13.7.7 Ventura / arm64  OK    OK    OK    OK  UNNEEDED, same version is already published
Package 366/375HostnameOS / ArchINSTALLBUILDCHECKBUILD BIN
VariantTools 1.52.0  (landing page)
Michael Lawrence
git_last_commit: a3304e5
git_last_commit_date: 2025-10-29 10:12:36 -0400
nebbiolo2Linux (Ubuntu 24.04.3 LTS) / x86_64  OK    ERROR  skipped
lconwaymacOS 12.7.6 Monterey / x86_64  OK    ERROR  skippedskipped
kjohnson3macOS 13.7.7 Ventura / arm64  OK    OK    ERROR    OK  
Package 367/375HostnameOS / ArchINSTALLBUILDCHECKBUILD BIN
VDJdive 1.12.0  (landing page)
Kelly Street
git_last_commit: a0d5c4f
git_last_commit_date: 2025-10-29 11:18:28 -0400
nebbiolo2Linux (Ubuntu 24.04.3 LTS) / x86_64  OK    OK    OK  UNNEEDED, same version is already published
lconwaymacOS 12.7.6 Monterey / x86_64  OK    OK    OK    OK  UNNEEDED, same version is already published
kjohnson3macOS 13.7.7 Ventura / arm64  OK    OK    OK    OK  UNNEEDED, same version is already published
Package 368/375HostnameOS / ArchINSTALLBUILDCHECKBUILD BIN
velociraptor 1.20.0  (landing page)
Kevin Rue-Albrecht
git_last_commit: 67b4a9e
git_last_commit_date: 2025-10-29 11:02:39 -0400
nebbiolo2Linux (Ubuntu 24.04.3 LTS) / x86_64  OK    OK    OK  UNNEEDED, same version is already published
lconwaymacOS 12.7.6 Monterey / x86_64  OK    OK    OK    OK  UNNEEDED, same version is already published
kjohnson3macOS 13.7.7 Ventura / arm64  OK    OK    OK    OK  UNNEEDED, same version is already published
Package 369/375HostnameOS / ArchINSTALLBUILDCHECKBUILD BIN
vmrseq 1.2.0  (landing page)
Ning Shen
git_last_commit: 3ca9867
git_last_commit_date: 2025-10-29 11:35:54 -0400
nebbiolo2Linux (Ubuntu 24.04.3 LTS) / x86_64  OK    OK    OK  UNNEEDED, same version is already published
lconwaymacOS 12.7.6 Monterey / x86_64  OK    OK    OK    OK  UNNEEDED, same version is already published
kjohnson3macOS 13.7.7 Ventura / arm64  OK    OK    OK    OK  UNNEEDED, same version is already published
Package 370/375HostnameOS / ArchINSTALLBUILDCHECKBUILD BIN
Voyager 1.12.0  (landing page)
Lambda Moses
git_last_commit: d689ab8
git_last_commit_date: 2025-10-29 11:19:14 -0400
nebbiolo2Linux (Ubuntu 24.04.3 LTS) / x86_64  OK    OK    WARNINGS  UNNEEDED, same version is already published
lconwaymacOS 12.7.6 Monterey / x86_64  OK    OK    WARNINGS    OK  UNNEEDED, same version is already published
kjohnson3macOS 13.7.7 Ventura / arm64  OK    OK    WARNINGS    OK  UNNEEDED, same version is already published
Package 371/375HostnameOS / ArchINSTALLBUILDCHECKBUILD BIN
waddR 1.24.0  (landing page)
Julian Flesch
git_last_commit: 6d40862
git_last_commit_date: 2025-10-29 10:55:06 -0400
nebbiolo2Linux (Ubuntu 24.04.3 LTS) / x86_64  OK    OK    OK  UNNEEDED, same version is already published
lconwaymacOS 12.7.6 Monterey / x86_64  OK    ERROR  skippedskipped
kjohnson3macOS 13.7.7 Ventura / arm64  OK    ERROR  skippedskipped
Package 372/375HostnameOS / ArchINSTALLBUILDCHECKBUILD BIN
weitrix 1.22.0  (landing page)
Paul Harrison
git_last_commit: 46b4f6c
git_last_commit_date: 2025-10-29 10:59:24 -0400
nebbiolo2Linux (Ubuntu 24.04.3 LTS) / x86_64  OK    OK    OK  UNNEEDED, same version is already published
lconwaymacOS 12.7.6 Monterey / x86_64  OK    OK    OK    OK  UNNEEDED, same version is already published
kjohnson3macOS 13.7.7 Ventura / arm64  OK    OK    OK    OK  UNNEEDED, same version is already published
Package 373/375HostnameOS / ArchINSTALLBUILDCHECKBUILD BIN
xCell2 1.2.0  (landing page)
Almog Angel
git_last_commit: d42142a
git_last_commit_date: 2025-10-29 11:33:51 -0400
nebbiolo2Linux (Ubuntu 24.04.3 LTS) / x86_64  OK    OK    OK  UNNEEDED, same version is already published
lconwaymacOS 12.7.6 Monterey / x86_64  OK    OK    OK    OK  UNNEEDED, same version is already published
kjohnson3macOS 13.7.7 Ventura / arm64  OK    OK    OK    OK  UNNEEDED, same version is already published
Package 374/375HostnameOS / ArchINSTALLBUILDCHECKBUILD BIN
xcms 4.8.0  (landing page)
Steffen Neumann
git_last_commit: 8c7e9cf
git_last_commit_date: 2025-10-29 09:56:19 -0400
nebbiolo2Linux (Ubuntu 24.04.3 LTS) / x86_64  OK    OK    OK  UNNEEDED, same version is already published
lconwaymacOS 12.7.6 Monterey / x86_64  OK    OK    OK    OK  UNNEEDED, same version is already published
kjohnson3macOS 13.7.7 Ventura / arm64  OK    OK    OK    OK  UNNEEDED, same version is already published
Package 375/375HostnameOS / ArchINSTALLBUILDCHECKBUILD BIN
zinbwave 1.32.0  (landing page)
Davide Risso
git_last_commit: cfc6ec2
git_last_commit_date: 2025-10-29 10:39:04 -0400
nebbiolo2Linux (Ubuntu 24.04.3 LTS) / x86_64  OK    OK    OK  UNNEEDED, same version is already published
lconwaymacOS 12.7.6 Monterey / x86_64  OK    OK    OK    OK  UNNEEDED, same version is already published
kjohnson3macOS 13.7.7 Ventura / arm64  OK    OK    OK    OK  UNNEEDED, same version is already published