| Back to Multiple platform build/check report for BioC 3.22: simplified long |
|
This page was generated on 2025-10-25 12:06 -0400 (Sat, 25 Oct 2025).
| Hostname | OS | Arch (*) | R version | Installed pkgs |
|---|---|---|---|---|
| nebbiolo2 | Linux (Ubuntu 24.04.3 LTS) | x86_64 | 4.5.1 Patched (2025-08-23 r88802) -- "Great Square Root" | 4901 |
| lconway | macOS 12.7.6 Monterey | x86_64 | 4.5.1 Patched (2025-09-10 r88807) -- "Great Square Root" | 4691 |
| kjohnson3 | macOS 13.7.7 Ventura | arm64 | 4.5.1 Patched (2025-09-10 r88807) -- "Great Square Root" | 4637 |
| taishan | Linux (openEuler 24.03 LTS) | aarch64 | 4.5.0 (2025-04-11) -- "How About a Twenty-Six" | 4658 |
| Click on any hostname to see more info about the system (e.g. compilers) (*) as reported by 'uname -p', except on Windows and Mac OS X | ||||
| Package 2146/2361 | Hostname | OS / Arch | INSTALL | BUILD | CHECK | BUILD BIN | ||||||||
| structToolbox 1.21.0 (landing page) Gavin Rhys Lloyd
| nebbiolo2 | Linux (Ubuntu 24.04.3 LTS) / x86_64 | OK | OK | OK | |||||||||
| lconway | macOS 12.7.6 Monterey / x86_64 | OK | OK | OK | OK | |||||||||
| kjohnson3 | macOS 13.7.7 Ventura / arm64 | OK | OK | OK | OK | |||||||||
| taishan | Linux (openEuler 24.03 LTS) / aarch64 | OK | NA | NA | ||||||||||
|
To the developers/maintainers of the structToolbox package: - Allow up to 24 hours (and sometimes 48 hours) for your latest push to git@git.bioconductor.org:packages/structToolbox.git to reflect on this report. See Troubleshooting Build Report for more information. - Use the following Renviron settings to reproduce errors and warnings. - If 'R CMD check' started to fail recently on the Linux builder(s) over a missing dependency, add the missing dependency to 'Suggests:' in your DESCRIPTION file. See Renviron.bioc for more information. |
| Package: structToolbox |
| Version: 1.21.0 |
| Command: /Library/Frameworks/R.framework/Resources/bin/R CMD check --install=check:structToolbox.install-out.txt --library=/Library/Frameworks/R.framework/Resources/library --no-vignettes --timings structToolbox_1.21.0.tar.gz |
| StartedAt: 2025-10-24 22:23:37 -0400 (Fri, 24 Oct 2025) |
| EndedAt: 2025-10-24 22:26:27 -0400 (Fri, 24 Oct 2025) |
| EllapsedTime: 170.0 seconds |
| RetCode: 0 |
| Status: OK |
| CheckDir: structToolbox.Rcheck |
| Warnings: 0 |
##############################################################################
##############################################################################
###
### Running command:
###
### /Library/Frameworks/R.framework/Resources/bin/R CMD check --install=check:structToolbox.install-out.txt --library=/Library/Frameworks/R.framework/Resources/library --no-vignettes --timings structToolbox_1.21.0.tar.gz
###
##############################################################################
##############################################################################
* using log directory ‘/Users/biocbuild/bbs-3.22-bioc/meat/structToolbox.Rcheck’
* using R version 4.5.1 Patched (2025-09-10 r88807)
* using platform: aarch64-apple-darwin20
* R was compiled by
Apple clang version 16.0.0 (clang-1600.0.26.6)
GNU Fortran (GCC) 14.2.0
* running under: macOS Ventura 13.7.7
* using session charset: UTF-8
* using option ‘--no-vignettes’
* checking for file ‘structToolbox/DESCRIPTION’ ... OK
* checking extension type ... Package
* this is package ‘structToolbox’ version ‘1.21.0’
* package encoding: UTF-8
* checking package namespace information ... OK
* checking package dependencies ... OK
* checking if this is a source package ... OK
* checking if there is a namespace ... OK
* checking for hidden files and directories ... OK
* checking for portable file names ... OK
* checking for sufficient/correct file permissions ... OK
* checking whether package ‘structToolbox’ can be installed ... OK
* checking installed package size ... OK
* checking package directory ... OK
* checking ‘build’ directory ... OK
* checking DESCRIPTION meta-information ... OK
* checking top-level files ... OK
* checking for left-over files ... OK
* checking index information ... OK
* checking package subdirectories ... OK
* checking code files for non-ASCII characters ... OK
* checking R files for syntax errors ... OK
* checking whether the package can be loaded ... OK
* checking whether the package can be loaded with stated dependencies ... OK
* checking whether the package can be unloaded cleanly ... OK
* checking whether the namespace can be loaded with stated dependencies ... OK
* checking whether the namespace can be unloaded cleanly ... OK
* checking dependencies in R code ... OK
* checking S3 generic/method consistency ... OK
* checking replacement functions ... OK
* checking foreign function calls ... OK
* checking R code for possible problems ... OK
* checking Rd files ... OK
* checking Rd metadata ... OK
* checking Rd cross-references ... OK
* checking for missing documentation entries ... OK
* checking for code/documentation mismatches ... OK
* checking Rd \usage sections ... OK
* checking Rd contents ... OK
* checking for unstated dependencies in examples ... OK
* checking R/sysdata.rda ... OK
* checking files in ‘vignettes’ ... OK
* checking examples ... OK
* checking for unstated dependencies in ‘tests’ ... OK
* checking tests ...
Running ‘testthat.R’
OK
* checking for unstated dependencies in vignettes ... OK
* checking package vignettes ... OK
* checking running R code from vignettes ... SKIPPED
* checking re-building of vignette outputs ... SKIPPED
* checking PDF version of manual ... OK
* DONE
Status: OK
structToolbox.Rcheck/00install.out
############################################################################## ############################################################################## ### ### Running command: ### ### /Library/Frameworks/R.framework/Resources/bin/R CMD INSTALL structToolbox ### ############################################################################## ############################################################################## * installing to library ‘/Library/Frameworks/R.framework/Versions/4.5-arm64/Resources/library’ * installing *source* package ‘structToolbox’ ... ** this is package ‘structToolbox’ version ‘1.21.0’ ** using staged installation ** R ** inst ** byte-compile and prepare package for lazy loading ** help *** installing help indices ** building package indices ** installing vignettes ** testing if installed package can be loaded from temporary location ** testing if installed package can be loaded from final location ** testing if installed package keeps a record of temporary installation path * DONE (structToolbox)
structToolbox.Rcheck/tests/testthat.Rout
R version 4.5.1 Patched (2025-09-10 r88807) -- "Great Square Root"
Copyright (C) 2025 The R Foundation for Statistical Computing
Platform: aarch64-apple-darwin20
R is free software and comes with ABSOLUTELY NO WARRANTY.
You are welcome to redistribute it under certain conditions.
Type 'license()' or 'licence()' for distribution details.
R is a collaborative project with many contributors.
Type 'contributors()' for more information and
'citation()' on how to cite R or R packages in publications.
Type 'demo()' for some demos, 'help()' for on-line help, or
'help.start()' for an HTML browser interface to help.
Type 'q()' to quit R.
> library(testthat)
> library(ggplot2)
> library(structToolbox)
Loading required package: struct
>
> test_check("structToolbox")
[ FAIL 0 | WARN 6 | SKIP 0 | PASS 166 ]
[ FAIL 0 | WARN 6 | SKIP 0 | PASS 166 ]
>
> proc.time()
user system elapsed
56.950 0.577 57.780
structToolbox.Rcheck/structToolbox-Ex.timings
| name | user | system | elapsed | |
| ANOVA | 0.072 | 0.002 | 0.074 | |
| AUC | 0.605 | 0.025 | 0.629 | |
| DFA | 0.057 | 0.001 | 0.058 | |
| DatasetExperiment_boxplot | 0.371 | 0.009 | 0.381 | |
| DatasetExperiment_dist | 0.868 | 0.023 | 0.891 | |
| DatasetExperiment_factor_boxplot | 0.104 | 0.004 | 0.109 | |
| DatasetExperiment_heatmap | 0.189 | 0.013 | 0.205 | |
| HCA | 0.019 | 0.000 | 0.019 | |
| HSD | 0.084 | 0.004 | 0.090 | |
| HSDEM | 0.111 | 0.007 | 0.119 | |
| MTBLS79_DatasetExperiment | 0.000 | 0.000 | 0.001 | |
| OPLSDA | 0.003 | 0.000 | 0.003 | |
| OPLSR | 0.003 | 0.000 | 0.002 | |
| PCA | 0.001 | 0.000 | 0.002 | |
| PLSDA | 0.003 | 0.000 | 0.003 | |
| PLSR | 0.003 | 0.000 | 0.003 | |
| SVM | 0.006 | 0.000 | 0.007 | |
| as_data_frame | 0.046 | 0.001 | 0.046 | |
| autoscale | 0.02 | 0.00 | 0.02 | |
| balanced_accuracy | 0.509 | 0.005 | 0.513 | |
| blank_filter | 0.110 | 0.006 | 0.116 | |
| blank_filter_hist | 0 | 0 | 0 | |
| bootstrap | 0.003 | 0.000 | 0.002 | |
| calculate | 0.002 | 0.000 | 0.001 | |
| chart_plot | 0.008 | 0.000 | 0.008 | |
| classical_lsq | 0.087 | 0.001 | 0.087 | |
| compare_dist | 1.518 | 0.144 | 1.706 | |
| confounders_clsq | 0.842 | 0.005 | 0.851 | |
| confounders_lsq_barchart | 0.932 | 0.007 | 0.939 | |
| confounders_lsq_boxplot | 0.895 | 0.020 | 0.947 | |
| constant_sum_norm | 0.003 | 0.000 | 0.002 | |
| corr_coef | 0.074 | 0.002 | 0.077 | |
| dfa_scores_plot | 0.306 | 0.003 | 0.308 | |
| dratio_filter | 0.082 | 0.003 | 0.084 | |
| equal_split | 0.034 | 0.000 | 0.034 | |
| feature_boxplot | 0.007 | 0.000 | 0.008 | |
| feature_profile | 0.157 | 0.003 | 0.160 | |
| feature_profile_array | 0.194 | 0.003 | 0.197 | |
| filter_by_name | 0.009 | 0.000 | 0.010 | |
| filter_na_count | 0.325 | 0.023 | 0.375 | |
| filter_smeta | 0.018 | 0.000 | 0.025 | |
| fisher_exact | 2.877 | 0.015 | 3.051 | |
| fold_change | 3.593 | 0.025 | 3.657 | |
| fold_change_int | 4.521 | 0.006 | 4.589 | |
| fold_change_plot | 0.002 | 0.000 | 0.002 | |
| forward_selection_by_rank | 1.747 | 0.054 | 1.811 | |
| fs_line | 2.202 | 0.092 | 2.295 | |
| glog_opt_plot | 0.175 | 0.002 | 0.177 | |
| glog_transform | 0.080 | 0.000 | 0.081 | |
| grid_search_1d | 1.115 | 0.061 | 1.177 | |
| gs_line | 0 | 0 | 0 | |
| hca_dendrogram | 0 | 0 | 0 | |
| kfold_xval | 1.015 | 0.007 | 1.021 | |
| kfoldxcv_grid | 1.191 | 0.030 | 1.220 | |
| kfoldxcv_metric | 0.001 | 0.000 | 0.001 | |
| knn_impute | 0.003 | 0.000 | 0.004 | |
| kw_p_hist | 0.001 | 0.000 | 0.000 | |
| kw_rank_sum | 0.021 | 0.000 | 0.021 | |
| linear_model | 0.008 | 0.000 | 0.008 | |
| log_transform | 0.002 | 0.000 | 0.002 | |
| mean_centre | 0.001 | 0.000 | 0.001 | |
| mean_of_medians | 0.032 | 0.000 | 0.032 | |
| mixed_effect | 0.05 | 0.00 | 0.05 | |
| model_apply | 0.008 | 0.001 | 0.007 | |
| model_predict | 0.016 | 0.000 | 0.016 | |
| model_reverse | 0.008 | 0.000 | 0.007 | |
| model_train | 0.015 | 0.000 | 0.015 | |
| mv_boxplot | 0.133 | 0.003 | 0.137 | |
| mv_feature_filter | 0.032 | 0.000 | 0.033 | |
| mv_feature_filter_hist | 0 | 0 | 0 | |
| mv_histogram | 0.108 | 0.004 | 0.112 | |
| mv_sample_filter | 0.002 | 0.000 | 0.003 | |
| mv_sample_filter_hist | 0.001 | 0.000 | 0.000 | |
| nroot_transform | 0.002 | 0.001 | 0.002 | |
| ontology_cache | 0 | 0 | 0 | |
| pairs_filter | 0.003 | 0.000 | 0.003 | |
| pareto_scale | 0.017 | 0.000 | 0.017 | |
| pca_biplot | 0.004 | 0.000 | 0.005 | |
| pca_correlation_plot | 0.002 | 0.000 | 0.002 | |
| pca_dstat_plot | 0.003 | 0.000 | 0.003 | |
| pca_loadings_plot | 0.003 | 0.000 | 0.003 | |
| pca_scores_plot | 0.218 | 0.001 | 0.220 | |
| pca_scree_plot | 0.002 | 0.000 | 0.003 | |
| permutation_test | 0.002 | 0.000 | 0.003 | |
| permutation_test_plot | 0.001 | 0.000 | 0.001 | |
| permute_sample_order | 0.002 | 0.000 | 0.002 | |
| pls_regcoeff_plot | 0.152 | 0.001 | 0.153 | |
| pls_scores_plot | 0.269 | 0.001 | 0.270 | |
| pls_vip_plot | 0.159 | 0.002 | 0.161 | |
| plsda_feature_importance_plot | 0.277 | 0.002 | 0.280 | |
| plsda_predicted_plot | 0.178 | 0.002 | 0.180 | |
| plsda_roc_plot | 0.392 | 0.006 | 0.399 | |
| plsr_cook_dist | 0.002 | 0.000 | 0.002 | |
| plsr_prediction_plot | 0.002 | 0.000 | 0.002 | |
| plsr_qq_plot | 0.002 | 0.000 | 0.002 | |
| plsr_residual_hist | 0.002 | 0.000 | 0.001 | |
| pqn_norm | 0.106 | 0.001 | 0.106 | |
| pqn_norm_hist | 0.000 | 0.000 | 0.001 | |
| prop_na | 0.003 | 0.000 | 0.003 | |
| r_squared | 0.000 | 0.001 | 0.001 | |
| resample | 0.005 | 0.000 | 0.004 | |
| resample_chart | 0.001 | 0.000 | 0.001 | |
| rsd_filter | 0.004 | 0.000 | 0.004 | |
| rsd_filter_hist | 0.000 | 0.000 | 0.001 | |
| run | 0.01 | 0.00 | 0.01 | |
| sb_corr | 0.008 | 0.000 | 0.008 | |
| scatter_chart | 0.175 | 0.001 | 0.175 | |
| split_data | 0.002 | 0.000 | 0.002 | |
| stratified_split | 0.038 | 0.000 | 0.039 | |
| svm_plot_2d | 0.265 | 0.006 | 0.270 | |
| tSNE | 0.007 | 0.000 | 0.008 | |
| tSNE_scatter | 0.002 | 0.000 | 0.002 | |
| tic_chart | 0.103 | 0.001 | 0.104 | |
| ttest | 0.014 | 0.000 | 0.015 | |
| vec_norm | 0.000 | 0.000 | 0.001 | |
| wilcox_p_hist | 0 | 0 | 0 | |
| wilcox_test | 0.006 | 0.000 | 0.005 | |