Back to Multiple platform build/check report for BioC 3.22:   simplified   long
ABCDEFGHIJKLMNOPQ[R]STUVWXYZ

This page was generated on 2025-07-18 12:09 -0400 (Fri, 18 Jul 2025).

HostnameOSArch (*)R versionInstalled pkgs
nebbiolo2Linux (Ubuntu 24.04.2 LTS)x86_644.5.1 (2025-06-13) -- "Great Square Root" 4787
palomino8Windows Server 2022 Datacenterx644.5.1 (2025-06-13 ucrt) -- "Great Square Root" 4525
lconwaymacOS 12.7.1 Montereyx86_644.5.1 (2025-06-13) -- "Great Square Root" 4568
kjohnson3macOS 13.7.1 Venturaarm644.5.1 Patched (2025-06-14 r88325) -- "Great Square Root" 4509
taishanLinux (openEuler 24.03 LTS)aarch644.5.0 (2025-04-11) -- "How About a Twenty-Six" 4510
Click on any hostname to see more info about the system (e.g. compilers)      (*) as reported by 'uname -p', except on Windows and Mac OS X

Package 1706/2311HostnameOS / ArchINSTALLBUILDCHECKBUILD BIN
ReactomeGSA 1.23.0  (landing page)
Johannes Griss
Snapshot Date: 2025-07-17 13:25 -0400 (Thu, 17 Jul 2025)
git_url: https://git.bioconductor.org/packages/ReactomeGSA
git_branch: devel
git_last_commit: d9a274e
git_last_commit_date: 2025-04-15 11:49:59 -0400 (Tue, 15 Apr 2025)
nebbiolo2Linux (Ubuntu 24.04.2 LTS) / x86_64  OK    OK    OK  UNNEEDED, same version is already published
palomino8Windows Server 2022 Datacenter / x64  OK    OK    OK    OK  UNNEEDED, same version is already published
lconwaymacOS 12.7.1 Monterey / x86_64  OK    OK    OK    OK  UNNEEDED, same version is already published
kjohnson3macOS 13.7.1 Ventura / arm64  OK    OK    OK    OK  UNNEEDED, same version is already published
taishanLinux (openEuler 24.03 LTS) / aarch64  OK    OK    OK  


CHECK results for ReactomeGSA on lconway

To the developers/maintainers of the ReactomeGSA package:
- Allow up to 24 hours (and sometimes 48 hours) for your latest push to git@git.bioconductor.org:packages/ReactomeGSA.git to reflect on this report. See Troubleshooting Build Report for more information.
- Use the following Renviron settings to reproduce errors and warnings.
- If 'R CMD check' started to fail recently on the Linux builder(s) over a missing dependency, add the missing dependency to 'Suggests:' in your DESCRIPTION file. See Renviron.bioc for more information.

raw results


Summary

Package: ReactomeGSA
Version: 1.23.0
Command: /Library/Frameworks/R.framework/Resources/bin/R CMD check --install=check:ReactomeGSA.install-out.txt --library=/Library/Frameworks/R.framework/Resources/library --no-vignettes --timings ReactomeGSA_1.23.0.tar.gz
StartedAt: 2025-07-17 22:55:58 -0400 (Thu, 17 Jul 2025)
EndedAt: 2025-07-17 23:10:58 -0400 (Thu, 17 Jul 2025)
EllapsedTime: 899.4 seconds
RetCode: 0
Status:   OK  
CheckDir: ReactomeGSA.Rcheck
Warnings: 0

Command output

##############################################################################
##############################################################################
###
### Running command:
###
###   /Library/Frameworks/R.framework/Resources/bin/R CMD check --install=check:ReactomeGSA.install-out.txt --library=/Library/Frameworks/R.framework/Resources/library --no-vignettes --timings ReactomeGSA_1.23.0.tar.gz
###
##############################################################################
##############################################################################


* using log directory ‘/Users/biocbuild/bbs-3.22-bioc/meat/ReactomeGSA.Rcheck’
* using R version 4.5.1 (2025-06-13)
* using platform: x86_64-apple-darwin20
* R was compiled by
    Apple clang version 14.0.0 (clang-1400.0.29.202)
    GNU Fortran (GCC) 14.2.0
* running under: macOS Monterey 12.7.6
* using session charset: UTF-8
* using option ‘--no-vignettes’
* checking for file ‘ReactomeGSA/DESCRIPTION’ ... OK
* checking extension type ... Package
* this is package ‘ReactomeGSA’ version ‘1.23.0’
* package encoding: UTF-8
* checking package namespace information ... OK
* checking package dependencies ... OK
* checking if this is a source package ... OK
* checking if there is a namespace ... OK
* checking for hidden files and directories ... OK
* checking for portable file names ... OK
* checking for sufficient/correct file permissions ... OK
* checking whether package ‘ReactomeGSA’ can be installed ... OK
* checking installed package size ... OK
* checking package directory ... OK
* checking ‘build’ directory ... OK
* checking DESCRIPTION meta-information ... OK
* checking top-level files ... OK
* checking for left-over files ... OK
* checking index information ... OK
* checking package subdirectories ... OK
* checking code files for non-ASCII characters ... OK
* checking R files for syntax errors ... OK
* checking whether the package can be loaded ... OK
* checking whether the package can be loaded with stated dependencies ... OK
* checking whether the package can be unloaded cleanly ... OK
* checking whether the namespace can be loaded with stated dependencies ... OK
* checking whether the namespace can be unloaded cleanly ... OK
* checking whether startup messages can be suppressed ... OK
* checking dependencies in R code ... OK
* checking S3 generic/method consistency ... OK
* checking replacement functions ... OK
* checking foreign function calls ... OK
* checking R code for possible problems ... NOTE
plot_correlations,ReactomeAnalysisResult: no visible binding for global
  variable ‘combined_sig’
plot_correlations,ReactomeAnalysisResult: no visible binding for global
  variable ‘alpha’
plot_gsva_pathway,ReactomeAnalysisResult: no visible binding for global
  variable ‘cluster_id’
plot_gsva_pathway,ReactomeAnalysisResult: no visible binding for global
  variable ‘expr’
plot_gsva_pca,ReactomeAnalysisResult: no visible binding for global
  variable ‘gsva_result’
plot_gsva_pca,ReactomeAnalysisResult: no visible binding for global
  variable ‘PC1’
plot_gsva_pca,ReactomeAnalysisResult: no visible binding for global
  variable ‘PC2’
plot_heatmap,ReactomeAnalysisResult: no visible global function
  definition for ‘desc’
plot_heatmap,ReactomeAnalysisResult: no visible binding for global
  variable ‘n_sig’
plot_heatmap,ReactomeAnalysisResult: no visible binding for global
  variable ‘dataset’
plot_heatmap,ReactomeAnalysisResult: no visible binding for global
  variable ‘Name’
plot_volcano,ReactomeAnalysisResult: no visible binding for global
  variable ‘av_foldchange’
plot_volcano,ReactomeAnalysisResult: no visible binding for global
  variable ‘FDR’
Undefined global functions or variables:
  FDR Name PC1 PC2 alpha av_foldchange cluster_id combined_sig dataset
  desc expr gsva_result n_sig
* checking Rd files ... OK
* checking Rd metadata ... OK
* checking Rd cross-references ... OK
* checking for missing documentation entries ... OK
* checking for code/documentation mismatches ... OK
* checking Rd \usage sections ... OK
* checking Rd contents ... OK
* checking for unstated dependencies in examples ... OK
* checking files in ‘vignettes’ ... OK
* checking examples ... OK
Examples with CPU (user + system) or elapsed time > 5s
                                                  user system elapsed
plot_gsva_heatmap-ReactomeAnalysisResult-method 38.908  1.478  72.333
analyse_sc_clusters-Seurat-method               37.279  1.622 119.036
plot_gsva_pca-ReactomeAnalysisResult-method     35.868  1.572  69.509
analyse_sc_clusters                             35.683  1.486 117.832
plot_gsva_pca                                   35.194  1.657  72.089
plot_gsva_heatmap                               35.181  1.547  69.329
plot_gsva_pathway                               35.068  1.459  67.434
plot_gsva_pathway-ReactomeAnalysisResult-method 34.677  1.509  69.288
analyse_sc_clusters-SingleCellExperiment-method 34.754  1.306  68.715
generate_pseudo_bulk_data                       16.519  2.038  18.808
ReactomeAnalysisRequest                          5.891  0.366   6.314
perform_reactome_analysis                        2.402  0.173  16.794
load_public_dataset                              1.667  0.165  35.609
* checking for unstated dependencies in ‘tests’ ... OK
* checking tests ...
  Running ‘testthat.R’
 OK
* checking for unstated dependencies in vignettes ... OK
* checking package vignettes ... OK
* checking running R code from vignettes ... SKIPPED
* checking re-building of vignette outputs ... SKIPPED
* checking PDF version of manual ... OK
* DONE

Status: 1 NOTE
See
  ‘/Users/biocbuild/bbs-3.22-bioc/meat/ReactomeGSA.Rcheck/00check.log’
for details.


Installation output

ReactomeGSA.Rcheck/00install.out

##############################################################################
##############################################################################
###
### Running command:
###
###   /Library/Frameworks/R.framework/Resources/bin/R CMD INSTALL ReactomeGSA
###
##############################################################################
##############################################################################


* installing to library ‘/Library/Frameworks/R.framework/Versions/4.5-x86_64/Resources/library’
* installing *source* package ‘ReactomeGSA’ ...
** this is package ‘ReactomeGSA’ version ‘1.23.0’
** using staged installation
** R
** inst
** byte-compile and prepare package for lazy loading
in method for ‘analyse_sc_clusters’ with signature ‘object="Seurat"’: no definition for class “Seurat”
in method for ‘analyse_sc_clusters’ with signature ‘object="SingleCellExperiment"’: no definition for class “SingleCellExperiment”
in method for ‘add_dataset’ with signature ‘request="ReactomeAnalysisRequest",expression_values="EList"’: no definition for class “EList”
in method for ‘add_dataset’ with signature ‘request="ReactomeAnalysisRequest",expression_values="DGEList"’: no definition for class “DGEList”
in method for ‘generate_pseudo_bulk_data’ with signature ‘object="Seurat"’: no definition for class “Seurat”
in method for ‘generate_pseudo_bulk_data’ with signature ‘object="SingleCellExperiment"’: no definition for class “SingleCellExperiment”
** help
*** installing help indices
** building package indices
** installing vignettes
** testing if installed package can be loaded from temporary location
** testing if installed package can be loaded from final location
** testing if installed package keeps a record of temporary installation path
* DONE (ReactomeGSA)

Tests output

ReactomeGSA.Rcheck/tests/testthat.Rout


R version 4.5.1 (2025-06-13) -- "Great Square Root"
Copyright (C) 2025 The R Foundation for Statistical Computing
Platform: x86_64-apple-darwin20

R is free software and comes with ABSOLUTELY NO WARRANTY.
You are welcome to redistribute it under certain conditions.
Type 'license()' or 'licence()' for distribution details.

R is a collaborative project with many contributors.
Type 'contributors()' for more information and
'citation()' on how to cite R or R packages in publications.

Type 'demo()' for some demos, 'help()' for on-line help, or
'help.start()' for an HTML browser interface to help.
Type 'q()' to quit R.

> library(testthat)
> library(ReactomeGSA)
> 
> test_check("ReactomeGSA")
[ FAIL 0 | WARN 0 | SKIP 0 | PASS 17 ]
> 
> proc.time()
   user  system elapsed 
  1.975   0.198   2.181 

Example timings

ReactomeGSA.Rcheck/ReactomeGSA-Ex.timings

nameusersystemelapsed
ReactomeAnalysisRequest5.8910.3666.314
ReactomeAnalysisResult-class0.2240.0130.241
add_dataset-ReactomeAnalysisRequest-DGEList-method0.7490.0510.808
add_dataset-ReactomeAnalysisRequest-EList-method0.7900.0430.841
add_dataset-ReactomeAnalysisRequest-ExpressionSet-method0.7670.0440.817
add_dataset-ReactomeAnalysisRequest-data.frame-method0.7270.0480.781
add_dataset-ReactomeAnalysisRequest-matrix-method0.7480.0340.788
add_dataset0.7740.0410.825
analyse_sc_clusters-Seurat-method 37.279 1.622119.036
analyse_sc_clusters-SingleCellExperiment-method34.754 1.30668.715
analyse_sc_clusters 35.683 1.486117.832
find_public_datasets0.1180.0182.600
generate_metadata0.0010.0010.001
generate_pseudo_bulk_data16.519 2.03818.808
get_public_species0.0300.0040.319
get_reactome_data_types0.0600.0070.633
get_reactome_methods1.4420.0982.423
get_result-ReactomeAnalysisResult-method0.2120.0090.222
get_result0.2190.0100.231
load_public_dataset 1.667 0.16535.609
names-ReactomeAnalysisResult-method0.2570.0120.271
open_reactome-ReactomeAnalysisResult-method0.2460.0110.258
open_reactome0.2610.0120.281
pathways-ReactomeAnalysisResult-method0.3170.0110.330
pathways0.2630.0100.274
perform_reactome_analysis 2.402 0.17316.794
plot_correlations-ReactomeAnalysisResult-method0.3200.0110.332
plot_correlations0.2810.0100.292
plot_gsva_heatmap-ReactomeAnalysisResult-method38.908 1.47872.333
plot_gsva_heatmap35.181 1.54769.329
plot_gsva_pathway-ReactomeAnalysisResult-method34.677 1.50969.288
plot_gsva_pathway35.068 1.45967.434
plot_gsva_pca-ReactomeAnalysisResult-method35.868 1.57269.509
plot_gsva_pca35.194 1.65772.089
plot_heatmap-ReactomeAnalysisResult-method0.4840.0150.503
plot_heatmap0.5920.0130.609
plot_volcano-ReactomeAnalysisResult-method0.2490.0090.260
plot_volcano0.2640.0090.275
print-ReactomeAnalysisRequest-method0.0020.0000.002
print-ReactomeAnalysisResult-method0.2320.0110.244
reactome_links-ReactomeAnalysisResult-method0.2260.0110.239
reactome_links0.2130.0100.224
result_types-ReactomeAnalysisResult-method0.2380.0090.247
result_types0.2530.0100.265
set_method-ReactomeAnalysisRequest-method0.0020.0020.003
set_method0.0020.0010.003
set_parameters-ReactomeAnalysisRequest-method0.0010.0000.001
set_parameters0.0010.0000.002
show-ReactomeAnalysisRequest-method0.0010.0010.002
show-ReactomeAnalysisResult-method0.2310.0110.244