Back to Build/check report for BioC 3.23:   simplified   long
ABCDEFGHIJKLMNOPQR[S]TUVWXYZ

This page was generated on 2025-11-03 11:32 -0500 (Mon, 03 Nov 2025).

HostnameOSArch (*)R versionInstalled pkgs
nebbiolo1Linux (Ubuntu 24.04.3 LTS)x86_64R Under development (unstable) (2025-10-20 r88955) -- "Unsuffered Consequences" 4775
Click on any hostname to see more info about the system (e.g. compilers)      (*) as reported by 'uname -p', except on Windows and Mac OS X

All results for package SpatialExperiment


To the developers/maintainers of the SpatialExperiment package:
- Allow up to 24 hours (and sometimes 48 hours) for your latest push to git@git.bioconductor.org:packages/SpatialExperiment.git to reflect on this report. See Troubleshooting Build Report for more information.
- Use the following Renviron settings to reproduce errors and warnings.
- If 'R CMD check' started to fail recently on the Linux builder(s) over a missing dependency, add the missing dependency to 'Suggests:' in your DESCRIPTION file. See Renviron.bioc for more information.

raw results

Package 2045/2321HostnameOS / ArchINSTALLBUILDCHECKBUILD BIN
SpatialExperiment 1.21.0  (landing page)
Dario Righelli
Snapshot Date: 2025-11-02 13:40 -0500 (Sun, 02 Nov 2025)
git_url: https://git.bioconductor.org/packages/SpatialExperiment
git_branch: devel
git_last_commit: 0414e3b
git_last_commit_date: 2025-10-29 11:00:55 -0500 (Wed, 29 Oct 2025)
nebbiolo1Linux (Ubuntu 24.04.3 LTS) / x86_64  OK    OK    OK  NO, package depends on 'SingleCellExperiment' which is not available



Results for Bioconductor software packages that depend directly on package SpatialExperiment

QUICK STATSOS / ArchINSTALLBUILDCHECKBUILD BIN
nebbiolo1Linux (Ubuntu 24.04.3 LTS) / x86_64
0055
0451
02346
Package 1/55HostnameOS / ArchINSTALLBUILDCHECKBUILD BIN
alabaster.spatial 1.11.0  (landing page)
Aaron Lun
git_last_commit: 05db641
git_last_commit_date: 2025-10-29 11:21:22 -0500
nebbiolo1Linux (Ubuntu 24.04.3 LTS) / x86_64  OK    ERROR  skipped
Package 2/55HostnameOS / ArchINSTALLBUILDCHECKBUILD BIN
Banksy 1.7.0  (landing page)
Joseph Lee
git_last_commit: 4bdc545
git_last_commit_date: 2025-10-29 11:27:15 -0500
nebbiolo1Linux (Ubuntu 24.04.3 LTS) / x86_64  OK    OK    OK  NO, package depends on 'SpatialExperiment' which is not available
Package 3/55HostnameOS / ArchINSTALLBUILDCHECKBUILD BIN
BulkSignalR 1.3.0  (landing page)
Jean-Philippe Villemin
git_last_commit: 9cefe87
git_last_commit_date: 2025-10-29 11:33:26 -0500
nebbiolo1Linux (Ubuntu 24.04.3 LTS) / x86_64  OK    OK    OK  NO, package depends on 'SpatialExperiment' which is not available
Package 4/55HostnameOS / ArchINSTALLBUILDCHECKBUILD BIN
CARDspa 1.3.0  (landing page)
Jing Fu
git_last_commit: dbb2600
git_last_commit_date: 2025-10-29 11:34:40 -0500
nebbiolo1Linux (Ubuntu 24.04.3 LTS) / x86_64  OK    OK    OK  NO, package depends on 'SingleCellExperiment' which is not available
Package 5/55HostnameOS / ArchINSTALLBUILDCHECKBUILD BIN
CatsCradle 1.5.0  (landing page)
Michael Shapiro
git_last_commit: bb7982c
git_last_commit_date: 2025-10-29 11:31:59 -0500
nebbiolo1Linux (Ubuntu 24.04.3 LTS) / x86_64  OK    ERROR  skipped
Package 6/55HostnameOS / ArchINSTALLBUILDCHECKBUILD BIN
clustSIGNAL 1.3.0  (landing page)
Pratibha Panwar
git_last_commit: 2c2540c
git_last_commit_date: 2025-10-29 11:35:51 -0500
nebbiolo1Linux (Ubuntu 24.04.3 LTS) / x86_64  OK    OK    OK  NO, package depends on 'SpatialExperiment' which is not available
Package 7/55HostnameOS / ArchINSTALLBUILDCHECKBUILD BIN
concordexR 1.11.0  (landing page)
Kayla Jackson
git_last_commit: 7b24dc8
git_last_commit_date: 2025-10-29 11:22:42 -0500
nebbiolo1Linux (Ubuntu 24.04.3 LTS) / x86_64  OK    OK    WARNINGS  NO, package depends on 'SingleCellExperiment' which is not available
Package 8/55HostnameOS / ArchINSTALLBUILDCHECKBUILD BIN
CTSV 1.13.0  (landing page)
Jinge Yu Developer
git_last_commit: 2a4282f
git_last_commit_date: 2025-10-29 11:17:28 -0500
nebbiolo1Linux (Ubuntu 24.04.3 LTS) / x86_64  OK    OK    OK  NO, package depends on 'SpatialExperiment' which is not available
Package 9/55HostnameOS / ArchINSTALLBUILDCHECKBUILD BIN
cytomapper 1.23.0  (landing page)
Lasse Meyer
git_last_commit: 20338b5
git_last_commit_date: 2025-10-29 10:57:59 -0500
nebbiolo1Linux (Ubuntu 24.04.3 LTS) / x86_64  OK    OK    OK  NO, package depends on 'SingleCellExperiment' which is not available
Package 10/55HostnameOS / ArchINSTALLBUILDCHECKBUILD BIN
DESpace 2.3.1  (landing page)
Peiying Cai
git_last_commit: 3dbd101
git_last_commit_date: 2025-10-31 08:13:38 -0500
nebbiolo1Linux (Ubuntu 24.04.3 LTS) / x86_64  OK    OK    OK  NO, package depends on 'SpatialExperiment' which is not available
Package 11/55HostnameOS / ArchINSTALLBUILDCHECKBUILD BIN
escheR 1.11.0  (landing page)
Boyi Guo
git_last_commit: f2a303a
git_last_commit_date: 2025-10-29 11:22:13 -0500
nebbiolo1Linux (Ubuntu 24.04.3 LTS) / x86_64  OK    OK    OK  NO, package depends on 'SpatialExperiment' which is not available
Package 12/55HostnameOS / ArchINSTALLBUILDCHECKBUILD BIN
ExperimentSubset 1.21.0  (landing page)
Irzam Sarfraz
git_last_commit: a61ebd5
git_last_commit_date: 2025-10-29 11:03:30 -0500
nebbiolo1Linux (Ubuntu 24.04.3 LTS) / x86_64  OK    OK    OK  NO, package depends on 'SingleCellExperiment' which is not available
Package 13/55HostnameOS / ArchINSTALLBUILDCHECKBUILD BIN
FLAMES 2.5.1  (landing page)
Changqing Wang
git_last_commit: 7887658
git_last_commit_date: 2025-10-31 02:11:54 -0500
nebbiolo1Linux (Ubuntu 24.04.3 LTS) / x86_64  OK    OK    OK  NO, package depends on 'bambu' which is not available
Package 14/55HostnameOS / ArchINSTALLBUILDCHECKBUILD BIN
ggspavis 1.17.0  (landing page)
Lukas M. Weber
git_last_commit: 0e5bfdb
git_last_commit_date: 2025-10-29 11:11:33 -0500
nebbiolo1Linux (Ubuntu 24.04.3 LTS) / x86_64  OK    OK    OK  NO, package depends on 'SpatialExperiment' which is not available
Package 15/55HostnameOS / ArchINSTALLBUILDCHECKBUILD BIN
GSVA 2.5.0  (landing page)
Robert Castelo
git_last_commit: a714c64
git_last_commit_date: 2025-10-29 10:07:40 -0500
nebbiolo1Linux (Ubuntu 24.04.3 LTS) / x86_64  OK    ERROR  skipped
Package 16/55HostnameOS / ArchINSTALLBUILDCHECKBUILD BIN
hoodscanR 1.9.0  (landing page)
Ning Liu
git_last_commit: fbbd399
git_last_commit_date: 2025-10-29 11:25:11 -0500
nebbiolo1Linux (Ubuntu 24.04.3 LTS) / x86_64  OK    OK    OK  NO, package depends on 'SpatialExperiment' which is not available
Package 17/55HostnameOS / ArchINSTALLBUILDCHECKBUILD BIN
imcRtools 1.17.0  (landing page)
Daniel Schulz
git_last_commit: 00166f2
git_last_commit_date: 2025-10-29 11:12:28 -0500
nebbiolo1Linux (Ubuntu 24.04.3 LTS) / x86_64  OK    OK    OK  NO, package depends on 'SpatialExperiment' which is not available
Package 18/55HostnameOS / ArchINSTALLBUILDCHECKBUILD BIN
jazzPanda 1.3.0  (landing page)
Melody Jin
git_last_commit: f913a8b
git_last_commit_date: 2025-10-29 11:34:53 -0500
nebbiolo1Linux (Ubuntu 24.04.3 LTS) / x86_64  OK    OK    ERROR  
Package 19/55HostnameOS / ArchINSTALLBUILDCHECKBUILD BIN
lisaClust 1.19.0  (landing page)
Ellis Patrick
git_last_commit: f25f3da
git_last_commit_date: 2025-10-29 11:06:59 -0500
nebbiolo1Linux (Ubuntu 24.04.3 LTS) / x86_64  OK    OK    OK  NO, package depends on 'spicyR' which is not available
Package 20/55HostnameOS / ArchINSTALLBUILDCHECKBUILD BIN
MoleculeExperiment 1.11.0  (landing page)
Shila Ghazanfar
git_last_commit: 35b0ff3
git_last_commit_date: 2025-10-29 11:22:45 -0500
nebbiolo1Linux (Ubuntu 24.04.3 LTS) / x86_64  OK    OK    OK  NO, package depends on 'SpatialExperiment' which is not available
Package 21/55HostnameOS / ArchINSTALLBUILDCHECKBUILD BIN
nnSVG 1.15.0  (landing page)
Lukas M. Weber
git_last_commit: 2a226ef
git_last_commit_date: 2025-10-29 11:15:43 -0500
nebbiolo1Linux (Ubuntu 24.04.3 LTS) / x86_64  OK    OK    OK  NO, package depends on 'SpatialExperiment' which is not available
Package 22/55HostnameOS / ArchINSTALLBUILDCHECKBUILD BIN
poem 1.3.0  (landing page)
Siyuan Luo
git_last_commit: e74dd69
git_last_commit_date: 2025-10-29 11:34:48 -0500
nebbiolo1Linux (Ubuntu 24.04.3 LTS) / x86_64  OK    OK    OK  NO, package depends on 'SpatialExperiment' which is not available
Package 23/55HostnameOS / ArchINSTALLBUILDCHECKBUILD BIN
scider 1.9.0  (landing page)
Yunshun Chen
git_last_commit: e0a2a6b
git_last_commit_date: 2025-10-29 11:26:16 -0500
nebbiolo1Linux (Ubuntu 24.04.3 LTS) / x86_64  OK    OK    OK  NO, package depends on 'SpatialExperiment' which is not available
Package 24/55HostnameOS / ArchINSTALLBUILDCHECKBUILD BIN
SEraster 1.3.0  (landing page)
Gohta Aihara
git_last_commit: 0d1b44c
git_last_commit_date: 2025-10-29 11:35:58 -0500
nebbiolo1Linux (Ubuntu 24.04.3 LTS) / x86_64  OK    OK    OK  NO, package depends on 'SpatialExperiment' which is not available
Package 25/55HostnameOS / ArchINSTALLBUILDCHECKBUILD BIN
signifinder 1.13.0  (landing page)
Stefania Pirrotta
git_last_commit: 2e1efc9
git_last_commit_date: 2025-10-29 11:19:34 -0500
nebbiolo1Linux (Ubuntu 24.04.3 LTS) / x86_64  OK    OK    OK  NO, package depends on 'consensusOV' which is not available
Package 26/55HostnameOS / ArchINSTALLBUILDCHECKBUILD BIN
smoothclust 1.7.0  (landing page)
Lukas M. Weber
git_last_commit: 1246c80
git_last_commit_date: 2025-10-31 22:00:55 -0500
nebbiolo1Linux (Ubuntu 24.04.3 LTS) / x86_64  OK    OK    OK  NO, package depends on 'SpatialExperiment' which is not available
Package 27/55HostnameOS / ArchINSTALLBUILDCHECKBUILD BIN
smoppix 1.3.0  (landing page)
Stijn Hawinkel
git_last_commit: 9feb3c0
git_last_commit_date: 2025-10-29 11:33:54 -0500
nebbiolo1Linux (Ubuntu 24.04.3 LTS) / x86_64  OK    OK    OK  NO, package depends on 'SpatialExperiment' which is not available
Package 28/55HostnameOS / ArchINSTALLBUILDCHECKBUILD BIN
sosta 1.3.0  (landing page)
Samuel Gunz
git_last_commit: 02b3ce2
git_last_commit_date: 2025-10-29 11:33:49 -0500
nebbiolo1Linux (Ubuntu 24.04.3 LTS) / x86_64  OK    OK    OK  NO, package depends on 'SpatialExperiment' which is not available
Package 29/55HostnameOS / ArchINSTALLBUILDCHECKBUILD BIN
SpaceTrooper 1.1.0  (landing page)
Dario Righelli
git_last_commit: 99c120b
git_last_commit_date: 2025-10-29 11:37:03 -0500
nebbiolo1Linux (Ubuntu 24.04.3 LTS) / x86_64  OK    OK    OK  NO, package depends on 'SpatialExperiment' which is not available
Package 30/55HostnameOS / ArchINSTALLBUILDCHECKBUILD BIN
spacexr 1.3.0  (landing page)
Gabriel Grajeda
git_last_commit: ea2a493
git_last_commit_date: 2025-10-29 11:35:40 -0500
nebbiolo1Linux (Ubuntu 24.04.3 LTS) / x86_64  OK    OK    OK  NO, package depends on 'SpatialExperiment' which is not available
Package 31/55HostnameOS / ArchINSTALLBUILDCHECKBUILD BIN
SpaNorm 1.5.0  (landing page)
Dharmesh D. Bhuva
git_last_commit: 2845190
git_last_commit_date: 2025-10-29 11:32:47 -0500
nebbiolo1Linux (Ubuntu 24.04.3 LTS) / x86_64  OK    OK    OK  NO, package depends on 'scran' which is not available
Package 32/55HostnameOS / ArchINSTALLBUILDCHECKBUILD BIN
spARI 1.1.0  (landing page)
Yinqiao Yan
git_last_commit: 537c914
git_last_commit_date: 2025-10-29 11:37:24 -0500
nebbiolo1Linux (Ubuntu 24.04.3 LTS) / x86_64  OK    OK    OK  NO, package depends on 'SpatialExperiment' which is not available
Package 33/55HostnameOS / ArchINSTALLBUILDCHECKBUILD BIN
spaSim 1.13.0  (landing page)
Yuzhou Feng
git_last_commit: 3d330bf
git_last_commit_date: 2025-10-29 11:17:31 -0500
nebbiolo1Linux (Ubuntu 24.04.3 LTS) / x86_64  OK    OK    OK  NO, package depends on 'SpatialExperiment' which is not available
Package 34/55HostnameOS / ArchINSTALLBUILDCHECKBUILD BIN
spatialDE 1.17.0  (landing page)
Gabriele Sales
git_last_commit: 8ac058d
git_last_commit_date: 2025-10-29 11:11:31 -0500
nebbiolo1Linux (Ubuntu 24.04.3 LTS) / x86_64  OK    OK    OK  NO, package depends on 'SpatialExperiment' which is not available
Package 35/55HostnameOS / ArchINSTALLBUILDCHECKBUILD BIN
SpatialExperimentIO 1.3.0  (landing page)
Yixing E. Dong
git_last_commit: 5002fdc
git_last_commit_date: 2025-10-29 11:34:03 -0500
nebbiolo1Linux (Ubuntu 24.04.3 LTS) / x86_64  OK    OK    OK  NO, package depends on 'DropletUtils' which is not available
Package 36/55HostnameOS / ArchINSTALLBUILDCHECKBUILD BIN
spatialFDA 1.3.0  (landing page)
Martin Emons
git_last_commit: 40d8b31
git_last_commit_date: 2025-10-29 11:33:57 -0500
nebbiolo1Linux (Ubuntu 24.04.3 LTS) / x86_64  OK    OK    OK  NO, package depends on 'SpatialExperiment' which is not available
Package 37/55HostnameOS / ArchINSTALLBUILDCHECKBUILD BIN
SpatialFeatureExperiment 1.13.0  (landing page)
Lambda Moses
git_last_commit: 06f0dbf
git_last_commit_date: 2025-10-29 11:19:11 -0500
nebbiolo1Linux (Ubuntu 24.04.3 LTS) / x86_64  OK    ERROR  skipped
Package 38/55HostnameOS / ArchINSTALLBUILDCHECKBUILD BIN
spatialSimGP 1.5.0  (landing page)
Kinnary Shah
git_last_commit: de108a0
git_last_commit_date: 2025-10-29 11:32:27 -0500
nebbiolo1Linux (Ubuntu 24.04.3 LTS) / x86_64  OK    OK    OK  NO, package depends on 'SpatialExperiment' which is not available
Package 39/55HostnameOS / ArchINSTALLBUILDCHECKBUILD BIN
SPIAT 1.13.0  (landing page)
Yuzhou Feng
git_last_commit: 8dff5b8
git_last_commit_date: 2025-10-29 11:18:57 -0500
nebbiolo1Linux (Ubuntu 24.04.3 LTS) / x86_64  OK    OK    OK  NO, package depends on 'SpatialExperiment' which is not available
Package 40/55HostnameOS / ArchINSTALLBUILDCHECKBUILD BIN
spicyR 1.23.0  (landing page)
Ellis Patrick
git_last_commit: ed1e5d5
git_last_commit_date: 2025-10-29 10:57:53 -0500
nebbiolo1Linux (Ubuntu 24.04.3 LTS) / x86_64  OK    OK    OK  NO, package depends on 'SingleCellExperiment' which is not available
Package 41/55HostnameOS / ArchINSTALLBUILDCHECKBUILD BIN
spoon 1.7.0  (landing page)
Kinnary Shah
git_last_commit: eeb5f52
git_last_commit_date: 2025-10-29 11:28:09 -0500
nebbiolo1Linux (Ubuntu 24.04.3 LTS) / x86_64  OK    OK    OK  NO, package depends on 'SpatialExperiment' which is not available
Package 42/55HostnameOS / ArchINSTALLBUILDCHECKBUILD BIN
SpotClean 1.13.0  (landing page)
Zijian Ni
git_last_commit: d03a2a9
git_last_commit_date: 2025-10-29 11:17:07 -0500
nebbiolo1Linux (Ubuntu 24.04.3 LTS) / x86_64  OK    OK    OK  NO, package depends on 'SpatialExperiment' which is not available
Package 43/55HostnameOS / ArchINSTALLBUILDCHECKBUILD BIN
SpotSweeper 1.7.0  (landing page)
Michael Totty
git_last_commit: 61632f2
git_last_commit_date: 2025-10-29 11:29:53 -0500
nebbiolo1Linux (Ubuntu 24.04.3 LTS) / x86_64  OK    OK    OK  NO, package depends on 'SpatialExperiment' which is not available
Package 44/55HostnameOS / ArchINSTALLBUILDCHECKBUILD BIN
standR 1.15.0  (landing page)
Ning Liu
git_last_commit: 9a79065
git_last_commit_date: 2025-10-29 11:16:04 -0500
nebbiolo1Linux (Ubuntu 24.04.3 LTS) / x86_64  OK    OK    OK  NO, package depends on 'SpatialExperiment' which is not available
Package 45/55HostnameOS / ArchINSTALLBUILDCHECKBUILD BIN
Statial 1.13.0  (landing page)
Farhan Ameen
git_last_commit: 2a5a1ee
git_last_commit_date: 2025-10-29 11:19:57 -0500
nebbiolo1Linux (Ubuntu 24.04.3 LTS) / x86_64  OK    OK    OK  NO, package depends on 'SingleCellExperiment' which is not available
Package 46/55HostnameOS / ArchINSTALLBUILDCHECKBUILD BIN
stJoincount 1.13.0  (landing page)
Jiarong Song
git_last_commit: 0d545fd
git_last_commit_date: 2025-10-29 11:19:39 -0500
nebbiolo1Linux (Ubuntu 24.04.3 LTS) / x86_64  OK    OK    OK  NO, package depends on 'SpatialExperiment' which is not available
Package 47/55HostnameOS / ArchINSTALLBUILDCHECKBUILD BIN
stPipe 1.1.0  (landing page)
Yang Xu
git_last_commit: 3b726e3
git_last_commit_date: 2025-10-29 11:37:41 -0500
nebbiolo1Linux (Ubuntu 24.04.3 LTS) / x86_64  OK    OK    WARNINGS  NO, package depends on 'DropletUtils' which is not available
Package 48/55HostnameOS / ArchINSTALLBUILDCHECKBUILD BIN
SVP 1.3.0  (landing page)
Shuangbin Xu
git_last_commit: 2a95c79
git_last_commit_date: 2025-10-29 11:35:05 -0500
nebbiolo1Linux (Ubuntu 24.04.3 LTS) / x86_64  OK    OK    OK  NO, package depends on 'SingleCellExperiment' which is not available
Package 49/55HostnameOS / ArchINSTALLBUILDCHECKBUILD BIN
tidySpatialExperiment 1.7.0  (landing page)
William Hutchison
git_last_commit: d6a75cf
git_last_commit_date: 2025-10-29 11:27:28 -0500
nebbiolo1Linux (Ubuntu 24.04.3 LTS) / x86_64  OK    OK    ERROR  
Package 50/55HostnameOS / ArchINSTALLBUILDCHECKBUILD BIN
tpSVG 1.7.0  (landing page)
Boyi Guo
git_last_commit: 762d511
git_last_commit_date: 2025-10-29 11:28:17 -0500
nebbiolo1Linux (Ubuntu 24.04.3 LTS) / x86_64  OK    OK    OK  NO, package depends on 'SingleCellExperiment' which is not available
Package 51/55HostnameOS / ArchINSTALLBUILDCHECKBUILD BIN
VisiumIO 1.7.0  (landing page)
Marcel Ramos
git_last_commit: 459a588
git_last_commit_date: 2025-10-29 11:27:23 -0500
nebbiolo1Linux (Ubuntu 24.04.3 LTS) / x86_64  OK    OK    OK  NO, package depends on 'TENxIO' which is not available
Package 52/55HostnameOS / ArchINSTALLBUILDCHECKBUILD BIN
visiumStitched 1.3.0  (landing page)
Nicholas J. Eagles
git_last_commit: 829e946
git_last_commit_date: 2025-10-29 11:33:12 -0500
nebbiolo1Linux (Ubuntu 24.04.3 LTS) / x86_64  OK    OK    OK  NO, package depends on 'SpatialExperiment' which is not available
Package 53/55HostnameOS / ArchINSTALLBUILDCHECKBUILD BIN
Voyager 1.13.0  (landing page)
Lambda Moses
git_last_commit: d3cefae
git_last_commit_date: 2025-10-29 11:19:14 -0500
nebbiolo1Linux (Ubuntu 24.04.3 LTS) / x86_64  OK    OK    WARNINGS  NO, package depends on 'SpatialFeatureExperiment' which is not available
Package 54/55HostnameOS / ArchINSTALLBUILDCHECKBUILD BIN
XeniumIO 1.3.0  (landing page)
Marcel Ramos
git_last_commit: dfaaa90
git_last_commit_date: 2025-10-29 11:34:29 -0500
nebbiolo1Linux (Ubuntu 24.04.3 LTS) / x86_64  OK    OK    OK  NO, package depends on 'TENxIO' which is not available
Package 55/55HostnameOS / ArchINSTALLBUILDCHECKBUILD BIN
xenLite 1.5.0  (landing page)
Vincent Carey
git_last_commit: 504f4e0
git_last_commit_date: 2025-10-29 11:31:51 -0500
nebbiolo1Linux (Ubuntu 24.04.3 LTS) / x86_64  OK    OK    OK  NO, package depends on 'SpatialExperiment' which is not available