Back to Build/check report for BioC 3.23:   simplified   long
ABCDE[F]GHIJKLMNOPQRSTUVWXYZ

This page was generated on 2025-11-01 11:32 -0400 (Sat, 01 Nov 2025).

HostnameOSArch (*)R versionInstalled pkgs
nebbiolo1Linux (Ubuntu 24.04.3 LTS)x86_64R Under development (unstable) (2025-10-20 r88955) -- "Unsuffered Consequences" 4774
Click on any hostname to see more info about the system (e.g. compilers)      (*) as reported by 'uname -p', except on Windows and Mac OS X

All results for package flowCore


To the developers/maintainers of the flowCore package:
- Allow up to 24 hours (and sometimes 48 hours) for your latest push to git@git.bioconductor.org:packages/flowCore.git to reflect on this report. See Troubleshooting Build Report for more information.
- Use the following Renviron settings to reproduce errors and warnings.
- If 'R CMD check' started to fail recently on the Linux builder(s) over a missing dependency, add the missing dependency to 'Suggests:' in your DESCRIPTION file. See Renviron.bioc for more information.

raw results

Package 741/2321HostnameOS / ArchINSTALLBUILDCHECKBUILD BIN
flowCore 2.23.0  (landing page)
Mike Jiang
Snapshot Date: 2025-10-31 13:40 -0400 (Fri, 31 Oct 2025)
git_url: https://git.bioconductor.org/packages/flowCore
git_branch: devel
git_last_commit: 215e624
git_last_commit_date: 2025-10-29 09:58:38 -0400 (Wed, 29 Oct 2025)
nebbiolo1Linux (Ubuntu 24.04.3 LTS) / x86_64  OK    OK    WARNINGS  UNNEEDED, same version is already published



Results for Bioconductor software packages that depend directly on package flowCore

QUICK STATSOS / ArchINSTALLBUILDCHECKBUILD BIN
nebbiolo1Linux (Ubuntu 24.04.3 LTS) / x86_64
0149
0149
011335
Package 1/50HostnameOS / ArchINSTALLBUILDCHECKBUILD BIN
CATALYST 1.35.0  (landing page)
Helena L. Crowell
git_last_commit: 2e03f66
git_last_commit_date: 2025-10-29 10:38:04 -0400
nebbiolo1Linux (Ubuntu 24.04.3 LTS) / x86_64  OK    OK    OK  NO, package depends on 'SingleCellExperiment' which is not available
Package 2/50HostnameOS / ArchINSTALLBUILDCHECKBUILD BIN
cmapR 1.23.0  (landing page)
Ted Natoli
git_last_commit: b3d9762
git_last_commit_date: 2025-10-29 10:57:41 -0400
nebbiolo1Linux (Ubuntu 24.04.3 LTS) / x86_64  OK    OK    OK  YES
Package 3/50HostnameOS / ArchINSTALLBUILDCHECKBUILD BIN
CONFESS 1.39.0  (landing page)
Diana LOW
git_last_commit: b97e3ac
git_last_commit_date: 2025-10-29 10:31:27 -0400
nebbiolo1Linux (Ubuntu 24.04.3 LTS) / x86_64  OK    OK    WARNINGS  UNNEEDED, same version is already published
Package 4/50HostnameOS / ArchINSTALLBUILDCHECKBUILD BIN
cyanoFilter 1.19.0  (landing page)
Oluwafemi Olusoji
git_last_commit: 8ca42f1
git_last_commit_date: 2025-10-29 11:07:55 -0400
nebbiolo1Linux (Ubuntu 24.04.3 LTS) / x86_64  OK    OK    OK  UNNEEDED, same version is already published
Package 5/50HostnameOS / ArchINSTALLBUILDCHECKBUILD BIN
cydar 1.35.0  (landing page)
Aaron Lun
git_last_commit: d8b7be4
git_last_commit_date: 2025-10-29 10:37:34 -0400
nebbiolo1Linux (Ubuntu 24.04.3 LTS) / x86_64  OK    OK    OK  NO, package depends on 'SingleCellExperiment' which is not available
Package 6/50HostnameOS / ArchINSTALLBUILDCHECKBUILD BIN
CytoDx 1.31.0  (landing page)
Zicheng Hu
git_last_commit: 541a9d4
git_last_commit_date: 2025-10-29 10:44:48 -0400
nebbiolo1Linux (Ubuntu 24.04.3 LTS) / x86_64  OK    OK    OK  UNNEEDED, same version is already published
Package 7/50HostnameOS / ArchINSTALLBUILDCHECKBUILD BIN
cytofQC 1.11.0  (landing page)
Jill Lundell
git_last_commit: 17fcbe3
git_last_commit_date: 2025-10-29 11:21:55 -0400
nebbiolo1Linux (Ubuntu 24.04.3 LTS) / x86_64  ERROR    ERROR  skipped
Package 8/50HostnameOS / ArchINSTALLBUILDCHECKBUILD BIN
CytoMDS 1.7.0  (landing page)
Philippe Hauchamps
git_last_commit: 5e6cbd6
git_last_commit_date: 2025-10-29 11:28:49 -0400
nebbiolo1Linux (Ubuntu 24.04.3 LTS) / x86_64  OK    OK    OK  YES
Package 9/50HostnameOS / ArchINSTALLBUILDCHECKBUILD BIN
cytoMEM 1.15.0  (landing page)
Jonathan Irish
git_last_commit: 64c426a
git_last_commit_date: 2025-10-29 11:16:07 -0400
nebbiolo1Linux (Ubuntu 24.04.3 LTS) / x86_64  OK    OK    OK  UNNEEDED, same version is already published
Package 10/50HostnameOS / ArchINSTALLBUILDCHECKBUILD BIN
CytoML 2.23.0  (landing page)
Mike Jiang
git_last_commit: 8f95dab
git_last_commit_date: 2025-10-29 10:33:02 -0400
nebbiolo1Linux (Ubuntu 24.04.3 LTS) / x86_64  OK    OK    WARNINGS  YES
Package 11/50HostnameOS / ArchINSTALLBUILDCHECKBUILD BIN
CytoPipeline 1.11.0  (landing page)
Philippe Hauchamps
git_last_commit: 54ed268
git_last_commit_date: 2025-10-29 11:20:49 -0400
nebbiolo1Linux (Ubuntu 24.04.3 LTS) / x86_64  OK    OK    OK  YES
Package 12/50HostnameOS / ArchINSTALLBUILDCHECKBUILD BIN
CytoPipelineGUI 1.9.0  (landing page)
Philippe Hauchamps
git_last_commit: ae44853
git_last_commit_date: 2025-10-29 11:25:00 -0400
nebbiolo1Linux (Ubuntu 24.04.3 LTS) / x86_64  OK    OK    OK  YES
Package 13/50HostnameOS / ArchINSTALLBUILDCHECKBUILD BIN
ddPCRclust 1.31.0  (landing page)
Benedikt G. Brink
git_last_commit: 3ada4f8
git_last_commit_date: 2025-10-29 10:43:29 -0400
nebbiolo1Linux (Ubuntu 24.04.3 LTS) / x86_64  OK    OK    OK  UNNEEDED, same version is already published
Package 14/50HostnameOS / ArchINSTALLBUILDCHECKBUILD BIN
diffcyt 1.31.0  (landing page)
Lukas M. Weber
git_last_commit: 5b52099
git_last_commit_date: 2025-10-29 10:44:30 -0400
nebbiolo1Linux (Ubuntu 24.04.3 LTS) / x86_64  OK    OK    OK  YES
Package 15/50HostnameOS / ArchINSTALLBUILDCHECKBUILD BIN
flowAI 1.41.0  (landing page)
Gianni Monaco
git_last_commit: 2f7054f
git_last_commit_date: 2025-10-29 10:29:32 -0400
nebbiolo1Linux (Ubuntu 24.04.3 LTS) / x86_64  OK    OK    OK  UNNEEDED, same version is already published
Package 16/50HostnameOS / ArchINSTALLBUILDCHECKBUILD BIN
flowBeads 1.49.0  (landing page)
Nikolas Pontikos
git_last_commit: 01f6eb8
git_last_commit_date: 2025-10-29 10:15:03 -0400
nebbiolo1Linux (Ubuntu 24.04.3 LTS) / x86_64  OK    OK    WARNINGS  UNNEEDED, same version is already published
Package 17/50HostnameOS / ArchINSTALLBUILDCHECKBUILD BIN
flowBin 1.47.0  (landing page)
Kieran O'Neill
git_last_commit: aafb320
git_last_commit_date: 2025-10-29 10:17:38 -0400
nebbiolo1Linux (Ubuntu 24.04.3 LTS) / x86_64  OK    OK    OK  UNNEEDED, same version is already published
Package 18/50HostnameOS / ArchINSTALLBUILDCHECKBUILD BIN
flowCHIC 1.45.0  (landing page)
Author: Joachim Schumann
git_last_commit: c56715d
git_last_commit_date: 2025-10-29 10:22:16 -0400
nebbiolo1Linux (Ubuntu 24.04.3 LTS) / x86_64  OK    OK    OK  UNNEEDED, same version is already published
Package 19/50HostnameOS / ArchINSTALLBUILDCHECKBUILD BIN
flowClean 1.49.0  (landing page)
Kipper Fletez-Brant
git_last_commit: a14fb52
git_last_commit_date: 2025-10-29 10:19:45 -0400
nebbiolo1Linux (Ubuntu 24.04.3 LTS) / x86_64  OK    OK    WARNINGS  UNNEEDED, same version is already published
Package 20/50HostnameOS / ArchINSTALLBUILDCHECKBUILD BIN
flowClust 3.49.0  (landing page)
Greg Finak , Mike Jiang
git_last_commit: 24bd31c
git_last_commit_date: 2025-10-29 10:00:22 -0400
nebbiolo1Linux (Ubuntu 24.04.3 LTS) / x86_64  OK    OK    WARNINGS  UNNEEDED, same version is already published
Package 21/50HostnameOS / ArchINSTALLBUILDCHECKBUILD BIN
flowCut 1.21.0  (landing page)
Justin Meskas
git_last_commit: fc21b66
git_last_commit_date: 2025-10-29 10:59:45 -0400
nebbiolo1Linux (Ubuntu 24.04.3 LTS) / x86_64  OK    OK    OK  UNNEEDED, same version is already published
Package 22/50HostnameOS / ArchINSTALLBUILDCHECKBUILD BIN
flowDensity 1.45.0  (landing page)
Mehrnoush Malek
git_last_commit: a180b49
git_last_commit_date: 2025-10-29 10:20:08 -0400
nebbiolo1Linux (Ubuntu 24.04.3 LTS) / x86_64  OK    OK    WARNINGS  UNNEEDED, same version is already published
Package 23/50HostnameOS / ArchINSTALLBUILDCHECKBUILD BIN
flowFP 1.69.0  (landing page)
Herb Holyst , Wade Rogers
git_last_commit: ff6ba06
git_last_commit_date: 2025-10-29 10:03:05 -0400
nebbiolo1Linux (Ubuntu 24.04.3 LTS) / x86_64  OK    OK    OK  UNNEEDED, same version is already published
Package 24/50HostnameOS / ArchINSTALLBUILDCHECKBUILD BIN
flowGate 1.11.0  (landing page)
Andrew Wight
git_last_commit: 8396c4e
git_last_commit_date: 2025-10-29 11:21:45 -0400
nebbiolo1Linux (Ubuntu 24.04.3 LTS) / x86_64  OK    OK    OK  YES
Package 25/50HostnameOS / ArchINSTALLBUILDCHECKBUILD BIN
flowMatch 1.47.0  (landing page)
Ariful Azad
git_last_commit: 58dd401
git_last_commit_date: 2025-10-29 10:17:27 -0400
nebbiolo1Linux (Ubuntu 24.04.3 LTS) / x86_64  OK    OK    OK  UNNEEDED, same version is already published
Package 26/50HostnameOS / ArchINSTALLBUILDCHECKBUILD BIN
flowMeans 1.71.0  (landing page)
Nima Aghaeepour
git_last_commit: b1307fd
git_last_commit_date: 2025-10-29 10:04:53 -0400
nebbiolo1Linux (Ubuntu 24.04.3 LTS) / x86_64  OK    OK    OK  UNNEEDED, same version is already published
Package 27/50HostnameOS / ArchINSTALLBUILDCHECKBUILD BIN
flowMerge 2.59.0  (landing page)
Greg Finak
git_last_commit: 07705b4
git_last_commit_date: 2025-10-29 10:03:02 -0400
nebbiolo1Linux (Ubuntu 24.04.3 LTS) / x86_64  OK    OK    WARNINGS  UNNEEDED, same version is already published
Package 28/50HostnameOS / ArchINSTALLBUILDCHECKBUILD BIN
flowPloidy 1.37.0  (landing page)
Tyler Smith
git_last_commit: 8a0ccac
git_last_commit_date: 2025-10-29 10:34:52 -0400
nebbiolo1Linux (Ubuntu 24.04.3 LTS) / x86_64  OK    OK    OK  UNNEEDED, same version is already published
Package 29/50HostnameOS / ArchINSTALLBUILDCHECKBUILD BIN
FlowSOM 2.19.0  (landing page)
Sofie Van Gassen
git_last_commit: 3c00c1d
git_last_commit_date: 2025-10-29 10:23:19 -0400
nebbiolo1Linux (Ubuntu 24.04.3 LTS) / x86_64  OK    OK    OK  UNNEEDED, same version is already published
Package 30/50HostnameOS / ArchINSTALLBUILDCHECKBUILD BIN
flowSpecs 1.25.0  (landing page)
Jakob Theorell
git_last_commit: 07a0d9f
git_last_commit_date: 2025-10-29 10:54:23 -0400
nebbiolo1Linux (Ubuntu 24.04.3 LTS) / x86_64  OK    OK    OK  UNNEEDED, same version is already published
Package 31/50HostnameOS / ArchINSTALLBUILDCHECKBUILD BIN
flowStats 4.23.0  (landing page)
Greg Finak , Mike Jiang
git_last_commit: cc57dce
git_last_commit_date: 2025-10-29 10:02:44 -0400
nebbiolo1Linux (Ubuntu 24.04.3 LTS) / x86_64  OK    OK    WARNINGS  YES
Package 32/50HostnameOS / ArchINSTALLBUILDCHECKBUILD BIN
flowTime 1.35.0  (landing page)
R. Clay Wright
git_last_commit: dafd153
git_last_commit_date: 2025-10-29 10:37:40 -0400
nebbiolo1Linux (Ubuntu 24.04.3 LTS) / x86_64  OK    OK    OK  UNNEEDED, same version is already published
Package 33/50HostnameOS / ArchINSTALLBUILDCHECKBUILD BIN
flowTrans 1.63.0  (landing page)
Greg Finak
git_last_commit: 6e8f2c2
git_last_commit_date: 2025-10-29 10:05:05 -0400
nebbiolo1Linux (Ubuntu 24.04.3 LTS) / x86_64  OK    OK    OK  UNNEEDED, same version is already published
Package 34/50HostnameOS / ArchINSTALLBUILDCHECKBUILD BIN
flowViz 1.75.0  (landing page)
Mike Jiang
git_last_commit: 0ebf1eb
git_last_commit_date: 2025-10-29 09:58:41 -0400
nebbiolo1Linux (Ubuntu 24.04.3 LTS) / x86_64  OK    OK    OK  UNNEEDED, same version is already published
Package 35/50HostnameOS / ArchINSTALLBUILDCHECKBUILD BIN
flowVS 1.43.0  (landing page)
Ariful Azad
git_last_commit: ed38ef9
git_last_commit_date: 2025-10-29 11:08:30 -0400
nebbiolo1Linux (Ubuntu 24.04.3 LTS) / x86_64  OK    OK    OK  YES
Package 36/50HostnameOS / ArchINSTALLBUILDCHECKBUILD BIN
flowWorkspace 4.23.0  (landing page)
Greg Finak , Mike Jiang
git_last_commit: 824996d
git_last_commit_date: 2025-10-29 10:07:43 -0400
nebbiolo1Linux (Ubuntu 24.04.3 LTS) / x86_64  OK    OK    WARNINGS  YES
Package 37/50HostnameOS / ArchINSTALLBUILDCHECKBUILD BIN
GateFinder 1.31.0  (landing page)
Nima Aghaeepour
git_last_commit: d71fb75
git_last_commit_date: 2025-10-29 10:44:12 -0400
nebbiolo1Linux (Ubuntu 24.04.3 LTS) / x86_64  OK    OK    WARNINGS  UNNEEDED, same version is already published
Package 38/50HostnameOS / ArchINSTALLBUILDCHECKBUILD BIN
ggcyto 1.39.0  (landing page)
Mike Jiang
git_last_commit: df82962
git_last_commit_date: 2025-10-29 10:29:24 -0400
nebbiolo1Linux (Ubuntu 24.04.3 LTS) / x86_64  OK    OK    WARNINGS  YES
Package 39/50HostnameOS / ArchINSTALLBUILDCHECKBUILD BIN
immunoClust 1.43.0  (landing page)
Till Soerensen
git_last_commit: 166e477
git_last_commit_date: 2025-10-29 10:24:29 -0400
nebbiolo1Linux (Ubuntu 24.04.3 LTS) / x86_64  OK    OK    OK  UNNEEDED, same version is already published
Package 40/50HostnameOS / ArchINSTALLBUILDCHECKBUILD BIN
infinityFlow 1.21.0  (landing page)
Etienne Becht
git_last_commit: 5790502
git_last_commit_date: 2025-10-29 11:00:49 -0400
nebbiolo1Linux (Ubuntu 24.04.3 LTS) / x86_64  OK    OK    OK  UNNEEDED, same version is already published
Package 41/50HostnameOS / ArchINSTALLBUILDCHECKBUILD BIN
MAPFX 1.7.0  (landing page)
Hsiao-Chi Liao
git_last_commit: e9f080c
git_last_commit_date: 2025-10-29 11:30:04 -0400
nebbiolo1Linux (Ubuntu 24.04.3 LTS) / x86_64  OK    OK    OK  YES
Package 42/50HostnameOS / ArchINSTALLBUILDCHECKBUILD BIN
MetaCyto 1.33.0  (landing page)
Zicheng Hu
git_last_commit: 5669afb
git_last_commit_date: 2025-10-29 10:42:00 -0400
nebbiolo1Linux (Ubuntu 24.04.3 LTS) / x86_64  OK    OK    OK  UNNEEDED, same version is already published
Package 43/50HostnameOS / ArchINSTALLBUILDCHECKBUILD BIN
ncdfFlow 2.57.0  (landing page)
Mike Jiang
git_last_commit: 1d39b7d
git_last_commit_date: 2025-10-29 10:09:38 -0400
nebbiolo1Linux (Ubuntu 24.04.3 LTS) / x86_64  OK    OK    WARNINGS  UNNEEDED, same version is already published
Package 44/50HostnameOS / ArchINSTALLBUILDCHECKBUILD BIN
openCyto 2.23.0  (landing page)
Mike Jiang
git_last_commit: 11bf474
git_last_commit_date: 2025-10-29 10:16:53 -0400
nebbiolo1Linux (Ubuntu 24.04.3 LTS) / x86_64  OK    OK    WARNINGS  YES
Package 45/50HostnameOS / ArchINSTALLBUILDCHECKBUILD BIN
PeacoQC 1.21.0  (landing page)
Annelies Emmaneel
git_last_commit: 9324ee3
git_last_commit_date: 2025-10-29 11:00:07 -0400
nebbiolo1Linux (Ubuntu 24.04.3 LTS) / x86_64  OK    OK    OK  YES
Package 46/50HostnameOS / ArchINSTALLBUILDCHECKBUILD BIN
scDataviz 1.21.0  (landing page)
Kevin Blighe
git_last_commit: 77d65c4
git_last_commit_date: 2025-10-29 11:00:46 -0400
nebbiolo1Linux (Ubuntu 24.04.3 LTS) / x86_64  OK    OK    OK  NO, package depends on 'SingleCellExperiment' which is not available
Package 47/50HostnameOS / ArchINSTALLBUILDCHECKBUILD BIN
scifer 1.13.0  (landing page)
Rodrigo Arcoverde Cerveira
git_last_commit: 3d9c52d
git_last_commit_date: 2025-10-29 11:18:43 -0400
nebbiolo1Linux (Ubuntu 24.04.3 LTS) / x86_64  OK    OK    OK  YES
Package 48/50HostnameOS / ArchINSTALLBUILDCHECKBUILD BIN
Sconify 1.31.0  (landing page)
Tyler J Burns
git_last_commit: 5f12fd9
git_last_commit_date: 2025-10-29 10:44:03 -0400
nebbiolo1Linux (Ubuntu 24.04.3 LTS) / x86_64  OK    OK    OK  UNNEEDED, same version is already published
Package 49/50HostnameOS / ArchINSTALLBUILDCHECKBUILD BIN
tidyFlowCore 1.5.0  (landing page)
Timothy Keyes
git_last_commit: 1848897
git_last_commit_date: 2025-10-29 11:30:26 -0400
nebbiolo1Linux (Ubuntu 24.04.3 LTS) / x86_64  OK    OK    OK  UNNEEDED, same version is already published
Package 50/50HostnameOS / ArchINSTALLBUILDCHECKBUILD BIN
tidytof 1.5.0  (landing page)
Timothy Keyes
git_last_commit: 6312a05
git_last_commit_date: 2025-10-29 11:31:42 -0400
nebbiolo1Linux (Ubuntu 24.04.3 LTS) / x86_64  OK    OK    ERROR