Back to Build/check report for BioC 3.23:   simplified   long
ABC[D]EFGHIJKLMNOPQRSTUVWXYZ

This page was generated on 2025-11-04 11:32 -0500 (Tue, 04 Nov 2025).

HostnameOSArch (*)R versionInstalled pkgs
nebbiolo1Linux (Ubuntu 24.04.3 LTS)x86_64R Under development (unstable) (2025-10-20 r88955) -- "Unsuffered Consequences" 4788
Click on any hostname to see more info about the system (e.g. compilers)      (*) as reported by 'uname -p', except on Windows and Mac OS X

All results for package DelayedArray


To the developers/maintainers of the DelayedArray package:
- Allow up to 24 hours (and sometimes 48 hours) for your latest push to git@git.bioconductor.org:packages/DelayedArray.git to reflect on this report. See Troubleshooting Build Report for more information.
- Use the following Renviron settings to reproduce errors and warnings.
- If 'R CMD check' started to fail recently on the Linux builder(s) over a missing dependency, add the missing dependency to 'Suggests:' in your DESCRIPTION file. See Renviron.bioc for more information.

raw results

Package 542/2323HostnameOS / ArchINSTALLBUILDCHECKBUILD BIN
DelayedArray 0.37.0  (landing page)
Hervé Pagès
Snapshot Date: 2025-11-03 13:40 -0500 (Mon, 03 Nov 2025)
git_url: https://git.bioconductor.org/packages/DelayedArray
git_branch: devel
git_last_commit: a1ebb83
git_last_commit_date: 2025-10-29 14:49:13 -0500 (Wed, 29 Oct 2025)
nebbiolo1Linux (Ubuntu 24.04.3 LTS) / x86_64  OK    OK    WARNINGS  UNNEEDED, same version is already published



Results for Bioconductor software packages that depend directly on package DelayedArray

QUICK STATSOS / ArchINSTALLBUILDCHECKBUILD BIN
nebbiolo1Linux (Ubuntu 24.04.3 LTS) / x86_64
0394
01285
031963
Package 1/97HostnameOS / ArchINSTALLBUILDCHECKBUILD BIN
adverSCarial 1.9.0  (landing page)
Ghislain FIEVET
git_last_commit: a19db67
git_last_commit_date: 2025-10-29 11:23:46 -0500
nebbiolo1Linux (Ubuntu 24.04.3 LTS) / x86_64  OK    OK    WARNINGS  UNNEEDED, same version is already published
Package 2/97HostnameOS / ArchINSTALLBUILDCHECKBUILD BIN
alabaster.matrix 1.11.0  (landing page)
Aaron Lun
git_last_commit: c5028de
git_last_commit_date: 2025-10-29 11:21:14 -0500
nebbiolo1Linux (Ubuntu 24.04.3 LTS) / x86_64  OK    OK    OK  YES
Package 3/97HostnameOS / ArchINSTALLBUILDCHECKBUILD BIN
AUCell 1.33.0  (landing page)
Gert Hulselmans
git_last_commit: cf45038
git_last_commit_date: 2025-10-29 10:40:49 -0500
nebbiolo1Linux (Ubuntu 24.04.3 LTS) / x86_64  OK    OK    OK  UNNEEDED, same version is already published
Package 4/97HostnameOS / ArchINSTALLBUILDCHECKBUILD BIN
batchelor 1.27.0  (landing page)
Aaron Lun
git_last_commit: bb31e4b
git_last_commit_date: 2025-10-29 10:51:04 -0500
nebbiolo1Linux (Ubuntu 24.04.3 LTS) / x86_64  OK    OK    OK  YES
Package 5/97HostnameOS / ArchINSTALLBUILDCHECKBUILD BIN
beachmat 2.27.0  (landing page)
Aaron Lun
git_last_commit: 06edf7e
git_last_commit_date: 2025-10-29 10:39:35 -0500
nebbiolo1Linux (Ubuntu 24.04.3 LTS) / x86_64  OK    OK    OK  UNNEEDED, same version is already published
Package 6/97HostnameOS / ArchINSTALLBUILDCHECKBUILD BIN
beachmat.hdf5 1.9.0  (landing page)
Aaron Lun
git_last_commit: c02a721
git_last_commit_date: 2025-10-29 11:24:41 -0500
nebbiolo1Linux (Ubuntu 24.04.3 LTS) / x86_64  OK    OK    WARNINGS  UNNEEDED, same version is already published
Package 7/97HostnameOS / ArchINSTALLBUILDCHECKBUILD BIN
beachmat.tiledb 1.3.0  (landing page)
Aaron Lun
git_last_commit: df0fa94
git_last_commit_date: 2025-10-29 11:33:24 -0500
nebbiolo1Linux (Ubuntu 24.04.3 LTS) / x86_64  OK    OK    WARNINGS  UNNEEDED, same version is already published
Package 8/97HostnameOS / ArchINSTALLBUILDCHECKBUILD BIN
BiocSingular 1.27.0  (landing page)
Aaron Lun
git_last_commit: 2f19618
git_last_commit_date: 2025-10-29 10:50:05 -0500
nebbiolo1Linux (Ubuntu 24.04.3 LTS) / x86_64  OK    OK    WARNINGS  UNNEEDED, same version is already published
Package 9/97HostnameOS / ArchINSTALLBUILDCHECKBUILD BIN
bsseq 1.47.1  (landing page)
Kasper Daniel Hansen
git_last_commit: 46b4295
git_last_commit_date: 2025-10-31 11:03:21 -0500
nebbiolo1Linux (Ubuntu 24.04.3 LTS) / x86_64  OK    OK    WARNINGS  NO, package depends on 'BSgenome' which is not available
Package 10/97HostnameOS / ArchINSTALLBUILDCHECKBUILD BIN
celaref 1.29.0  (landing page)
Sarah Williams
git_last_commit: 20dbb3d
git_last_commit_date: 2025-10-29 10:46:48 -0500
nebbiolo1Linux (Ubuntu 24.04.3 LTS) / x86_64  OK    OK    OK  YES
Package 11/97HostnameOS / ArchINSTALLBUILDCHECKBUILD BIN
celda 1.27.0  (landing page)
Joshua Campbell
git_last_commit: 9bcee6f
git_last_commit_date: 2025-10-29 10:52:12 -0500
nebbiolo1Linux (Ubuntu 24.04.3 LTS) / x86_64  OK    OK    ERROR  
Package 12/97HostnameOS / ArchINSTALLBUILDCHECKBUILD BIN
Cepo 1.17.0  (landing page)
Hani Jieun Kim
git_last_commit: 884e02b
git_last_commit_date: 2025-10-29 11:13:24 -0500
nebbiolo1Linux (Ubuntu 24.04.3 LTS) / x86_64  OK    ERROR  skipped
Package 13/97HostnameOS / ArchINSTALLBUILDCHECKBUILD BIN
chihaya 1.11.0  (landing page)
Aaron Lun
git_last_commit: d520e49
git_last_commit_date: 2025-10-29 11:21:37 -0500
nebbiolo1Linux (Ubuntu 24.04.3 LTS) / x86_64  OK    OK    WARNINGS  UNNEEDED, same version is already published
Package 14/97HostnameOS / ArchINSTALLBUILDCHECKBUILD BIN
ChromSCape 1.21.0  (landing page)
Pacome Prompsy
git_last_commit: 47d0ff7
git_last_commit_date: 2025-10-29 11:02:56 -0500
nebbiolo1Linux (Ubuntu 24.04.3 LTS) / x86_64  OK    OK    WARNINGS  NO, package depends on 'rtracklayer' which is not available
Package 15/97HostnameOS / ArchINSTALLBUILDCHECKBUILD BIN
clusterExperiment 2.31.0  (landing page)
Elizabeth Purdom
git_last_commit: dc97d45
git_last_commit_date: 2025-10-29 10:33:07 -0500
nebbiolo1Linux (Ubuntu 24.04.3 LTS) / x86_64  OK    OK    WARNINGS  YES
Package 16/97HostnameOS / ArchINSTALLBUILDCHECKBUILD BIN
concordexR 1.11.0  (landing page)
Kayla Jackson
git_last_commit: 7b24dc8
git_last_commit_date: 2025-10-29 11:22:42 -0500
nebbiolo1Linux (Ubuntu 24.04.3 LTS) / x86_64  OK    OK    WARNINGS  YES
Package 17/97HostnameOS / ArchINSTALLBUILDCHECKBUILD BIN
CRISPRseek 1.51.0  (landing page)
Lihua Julie Zhu
git_last_commit: 0934262
git_last_commit_date: 2025-10-29 10:17:22 -0500
nebbiolo1Linux (Ubuntu 24.04.3 LTS) / x86_64  OK    OK    OK  NO, package depends on 'GenomicFeatures' which is not available
Package 18/97HostnameOS / ArchINSTALLBUILDCHECKBUILD BIN
cytomapper 1.23.0  (landing page)
Lasse Meyer
git_last_commit: 20338b5
git_last_commit_date: 2025-10-29 10:57:59 -0500
nebbiolo1Linux (Ubuntu 24.04.3 LTS) / x86_64  OK    OK    OK  YES
Package 19/97HostnameOS / ArchINSTALLBUILDCHECKBUILD BIN
decontX 1.9.0  (landing page)
Joshua Campbell
git_last_commit: 0f7be1c
git_last_commit_date: 2025-10-29 11:26:26 -0500
nebbiolo1Linux (Ubuntu 24.04.3 LTS) / x86_64  OK    OK    OK  NO, package depends on 'celda' which is not available
Package 20/97HostnameOS / ArchINSTALLBUILDCHECKBUILD BIN
DelayedDataFrame 1.27.0  (landing page)
Qian Liu
git_last_commit: 7dcd028
git_last_commit_date: 2025-10-29 10:49:14 -0500
nebbiolo1Linux (Ubuntu 24.04.3 LTS) / x86_64  OK    OK    OK  UNNEEDED, same version is already published
Package 21/97HostnameOS / ArchINSTALLBUILDCHECKBUILD BIN
DelayedMatrixStats 1.33.0  (landing page)
Peter Hickey
git_last_commit: ec9ae22
git_last_commit_date: 2025-10-29 10:41:36 -0500
nebbiolo1Linux (Ubuntu 24.04.3 LTS) / x86_64  OK    OK    OK  UNNEEDED, same version is already published
Package 22/97HostnameOS / ArchINSTALLBUILDCHECKBUILD BIN
DelayedRandomArray 1.19.0  (landing page)
Aaron Lun
git_last_commit: 206ccc1
git_last_commit_date: 2025-10-29 11:08:35 -0500
nebbiolo1Linux (Ubuntu 24.04.3 LTS) / x86_64  OK    OK    OK  UNNEEDED, same version is already published
Package 23/97HostnameOS / ArchINSTALLBUILDCHECKBUILD BIN
DelayedTensor 1.17.0  (landing page)
Koki Tsuyuzaki
git_last_commit: fbe5372
git_last_commit_date: 2025-10-29 11:10:14 -0500
nebbiolo1Linux (Ubuntu 24.04.3 LTS) / x86_64  OK    OK    WARNINGS  UNNEEDED, same version is already published
Package 24/97HostnameOS / ArchINSTALLBUILDCHECKBUILD BIN
DEScan2 1.31.0  (landing page)
Dario Righelli
git_last_commit: 788dce2
git_last_commit_date: 2025-10-29 10:43:48 -0500
nebbiolo1Linux (Ubuntu 24.04.3 LTS) / x86_64  ERROR    ERROR  skipped
Package 25/97HostnameOS / ArchINSTALLBUILDCHECKBUILD BIN
dreamlet 1.9.0  (landing page)
Gabriel Hoffman
git_last_commit: dfc1aac
git_last_commit_date: 2025-10-29 11:25:03 -0500
nebbiolo1Linux (Ubuntu 24.04.3 LTS) / x86_64  OK    OK    OK  NO, package depends on 'zenith' which is not available
Package 26/97HostnameOS / ArchINSTALLBUILDCHECKBUILD BIN
DropletUtils 1.31.0  (landing page)
Jonathan Griffiths
git_last_commit: 92de364
git_last_commit_date: 2025-10-29 10:42:43 -0500
nebbiolo1Linux (Ubuntu 24.04.3 LTS) / x86_64  OK    OK    WARNINGS  YES
Package 27/97HostnameOS / ArchINSTALLBUILDCHECKBUILD BIN
ELMER 2.35.0  (landing page)
Tiago Chedraoui Silva
git_last_commit: 642227c
git_last_commit_date: 2025-10-29 10:26:17 -0500
nebbiolo1Linux (Ubuntu 24.04.3 LTS) / x86_64  OK    ERROR  skipped
Package 28/97HostnameOS / ArchINSTALLBUILDCHECKBUILD BIN
EWCE 1.19.0  (landing page)
Hiranyamaya Dash
git_last_commit: 5ede728
git_last_commit_date: 2025-10-29 11:08:07 -0500
nebbiolo1Linux (Ubuntu 24.04.3 LTS) / x86_64  OK    OK    OK  YES
Package 29/97HostnameOS / ArchINSTALLBUILDCHECKBUILD BIN
flowWorkspace 4.23.0  (landing page)
Greg Finak , Mike Jiang
git_last_commit: 824996d
git_last_commit_date: 2025-10-29 10:07:43 -0500
nebbiolo1Linux (Ubuntu 24.04.3 LTS) / x86_64  OK    OK    WARNINGS  UNNEEDED, same version is already published
Package 30/97HostnameOS / ArchINSTALLBUILDCHECKBUILD BIN
FRASER 2.7.0  (landing page)
Christian Mertes
git_last_commit: ecd421c
git_last_commit_date: 2025-10-29 10:58:54 -0500
nebbiolo1Linux (Ubuntu 24.04.3 LTS) / x86_64  ERROR    ERROR  skipped
Package 31/97HostnameOS / ArchINSTALLBUILDCHECKBUILD BIN
GDSArray 1.31.0  (landing page)
Xiuwen Zheng
git_last_commit: 4ed315e
git_last_commit_date: 2025-10-29 10:44:25 -0500
nebbiolo1Linux (Ubuntu 24.04.3 LTS) / x86_64  OK    OK    OK  NO, package depends on 'SeqArray' which is not available
Package 32/97HostnameOS / ArchINSTALLBUILDCHECKBUILD BIN
GenomicScores 2.23.0  (landing page)
Robert Castelo
git_last_commit: fce182e
git_last_commit_date: 2025-10-29 10:38:07 -0500
nebbiolo1Linux (Ubuntu 24.04.3 LTS) / x86_64  OK    OK    OK  UNNEEDED, same version is already published
Package 33/97HostnameOS / ArchINSTALLBUILDCHECKBUILD BIN
glmGamPoi 1.23.0  (landing page)
Constantin Ahlmann-Eltze
git_last_commit: 23ac45d
git_last_commit_date: 2025-10-29 10:58:15 -0500
nebbiolo1Linux (Ubuntu 24.04.3 LTS) / x86_64  OK    OK    WARNINGS  YES
Package 34/97HostnameOS / ArchINSTALLBUILDCHECKBUILD BIN
GSVA 2.5.0  (landing page)
Robert Castelo
git_last_commit: a714c64
git_last_commit_date: 2025-10-29 10:07:40 -0500
nebbiolo1Linux (Ubuntu 24.04.3 LTS) / x86_64  OK    ERROR  skipped
Package 35/97HostnameOS / ArchINSTALLBUILDCHECKBUILD BIN
HDF5Array 1.39.0  (landing page)
Hervé Pagès
git_last_commit: 538f969
git_last_commit_date: 2025-10-29 12:21:26 -0500
nebbiolo1Linux (Ubuntu 24.04.3 LTS) / x86_64  OK    OK    OK  UNNEEDED, same version is already published
Package 36/97HostnameOS / ArchINSTALLBUILDCHECKBUILD BIN
hipathia 3.11.0  (landing page)
Marta R. Hidalgo
git_last_commit: 14e5361
git_last_commit_date: 2025-10-29 10:44:56 -0500
nebbiolo1Linux (Ubuntu 24.04.3 LTS) / x86_64  OK    ERROR  skipped
Package 37/97HostnameOS / ArchINSTALLBUILDCHECKBUILD BIN
LoomExperiment 1.29.0  (landing page)
Bioconductor Package Maintainer
git_last_commit: dce7132
git_last_commit_date: 2025-10-29 10:48:53 -0500
nebbiolo1Linux (Ubuntu 24.04.3 LTS) / x86_64  OK    OK    OK  YES
Package 38/97HostnameOS / ArchINSTALLBUILDCHECKBUILD BIN
Macarron 1.15.0  (landing page)
Sagun Maharjan
git_last_commit: 5c433e2
git_last_commit_date: 2025-10-29 11:16:43 -0500
nebbiolo1Linux (Ubuntu 24.04.3 LTS) / x86_64  OK    ERROR  skipped
Package 39/97HostnameOS / ArchINSTALLBUILDCHECKBUILD BIN
mariner 1.11.0  (landing page)
Eric Davis
git_last_commit: bc186bb
git_last_commit_date: 2025-10-29 11:23:11 -0500
nebbiolo1Linux (Ubuntu 24.04.3 LTS) / x86_64  OK    OK    OK  NO, package depends on 'plyranges' which is not available
Package 40/97HostnameOS / ArchINSTALLBUILDCHECKBUILD BIN
mbkmeans 1.27.0  (landing page)
Davide Risso
git_last_commit: 2aa9036
git_last_commit_date: 2025-10-29 10:51:15 -0500
nebbiolo1Linux (Ubuntu 24.04.3 LTS) / x86_64  OK    OK    OK  YES
Package 41/97HostnameOS / ArchINSTALLBUILDCHECKBUILD BIN
methodical 1.7.0  (landing page)
Richard Heery
git_last_commit: ca1b149
git_last_commit_date: 2025-10-29 11:27:18 -0500
nebbiolo1Linux (Ubuntu 24.04.3 LTS) / x86_64  OK    OK    WARNINGS  NO, package depends on 'annotatr' which is not available
Package 42/97HostnameOS / ArchINSTALLBUILDCHECKBUILD BIN
MethReg 1.21.0  (landing page)
Tiago Silva
git_last_commit: c52c384
git_last_commit_date: 2025-10-29 11:02:28 -0500
nebbiolo1Linux (Ubuntu 24.04.3 LTS) / x86_64  OK    OK    OK  NO, package depends on 'TFBSTools' which is not available
Package 43/97HostnameOS / ArchINSTALLBUILDCHECKBUILD BIN
methrix 1.25.0  (landing page)
Anand Mayakonda
git_last_commit: 797afd5
git_last_commit_date: 2025-10-29 10:55:34 -0500
nebbiolo1Linux (Ubuntu 24.04.3 LTS) / x86_64  OK    OK    OK  NO, package depends on 'rtracklayer' which is not available
Package 44/97HostnameOS / ArchINSTALLBUILDCHECKBUILD BIN
methylSig 1.23.0  (landing page)
Raymond G. Cavalcante
git_last_commit: cb92f7f
git_last_commit_date: 2025-10-29 10:58:51 -0500
nebbiolo1Linux (Ubuntu 24.04.3 LTS) / x86_64  OK    OK    OK  NO, package depends on 'bsseq' which is not available
Package 45/97HostnameOS / ArchINSTALLBUILDCHECKBUILD BIN
mia 1.19.0  (landing page)
Tuomas Borman
git_last_commit: ba530f5
git_last_commit_date: 2025-10-29 11:07:20 -0500
nebbiolo1Linux (Ubuntu 24.04.3 LTS) / x86_64  OK    OK    OK  YES
Package 46/97HostnameOS / ArchINSTALLBUILDCHECKBUILD BIN
miaViz 1.19.0  (landing page)
Tuomas Borman
git_last_commit: 5a360e5
git_last_commit_date: 2025-10-29 11:07:33 -0500
nebbiolo1Linux (Ubuntu 24.04.3 LTS) / x86_64  OK    OK    OK  YES
Package 47/97HostnameOS / ArchINSTALLBUILDCHECKBUILD BIN
minfi 1.57.0  (landing page)
Kasper Daniel Hansen
git_last_commit: 36249fb
git_last_commit_date: 2025-10-29 10:09:18 -0500
nebbiolo1Linux (Ubuntu 24.04.3 LTS) / x86_64  OK    ERROR  skipped
Package 48/97HostnameOS / ArchINSTALLBUILDCHECKBUILD BIN
MOFA2 1.21.0  (landing page)
Ricard Argelaguet
git_last_commit: 004eb62
git_last_commit_date: 2025-10-29 11:03:36 -0500
nebbiolo1Linux (Ubuntu 24.04.3 LTS) / x86_64  OK    OK    WARNINGS  UNNEEDED, same version is already published
Package 49/97HostnameOS / ArchINSTALLBUILDCHECKBUILD BIN
MuData 1.15.0  (landing page)
Ilia Kats
git_last_commit: 186e639
git_last_commit_date: 2025-10-29 11:15:11 -0500
nebbiolo1Linux (Ubuntu 24.04.3 LTS) / x86_64  OK    OK    OK  YES
Package 50/97HostnameOS / ArchINSTALLBUILDCHECKBUILD BIN
MultiAssayExperiment 1.37.0  (landing page)
Marcel Ramos
git_last_commit: bcc9a96
git_last_commit_date: 2025-10-29 10:31:09 -0500
nebbiolo1Linux (Ubuntu 24.04.3 LTS) / x86_64  OK    OK    OK  UNNEEDED, same version is already published
Package 51/97HostnameOS / ArchINSTALLBUILDCHECKBUILD BIN
mumosa 1.19.0  (landing page)
Aaron Lun
git_last_commit: 67c3814
git_last_commit_date: 2025-10-29 11:05:15 -0500
nebbiolo1Linux (Ubuntu 24.04.3 LTS) / x86_64  OK    OK    OK  YES
Package 52/97HostnameOS / ArchINSTALLBUILDCHECKBUILD BIN
mutscan 1.1.0  (landing page)
Charlotte Soneson
git_last_commit: 30e3669
git_last_commit_date: 2025-10-29 11:37:32 -0500
nebbiolo1Linux (Ubuntu 24.04.3 LTS) / x86_64  OK    OK    OK  UNNEEDED, same version is already published
Package 53/97HostnameOS / ArchINSTALLBUILDCHECKBUILD BIN
NetActivity 1.13.0  (landing page)
Carlos Ruiz-Arenas
git_last_commit: 0cad5d9
git_last_commit_date: 2025-10-29 11:19:51 -0500
nebbiolo1Linux (Ubuntu 24.04.3 LTS) / x86_64  OK    OK    OK  UNNEEDED, same version is already published
Package 54/97HostnameOS / ArchINSTALLBUILDCHECKBUILD BIN
netSmooth 1.31.0  (landing page)
Jonathan Ronen
git_last_commit: 33fddd7
git_last_commit_date: 2025-10-29 10:45:19 -0500
nebbiolo1Linux (Ubuntu 24.04.3 LTS) / x86_64  OK    OK    OK  YES
Package 55/97HostnameOS / ArchINSTALLBUILDCHECKBUILD BIN
NewWave 1.21.0  (landing page)
Federico Agostinis
git_last_commit: b3c35af
git_last_commit_date: 2025-10-29 11:04:34 -0500
nebbiolo1Linux (Ubuntu 24.04.3 LTS) / x86_64  OK    OK    OK  YES
Package 56/97HostnameOS / ArchINSTALLBUILDCHECKBUILD BIN
omicsGMF 1.1.0  (landing page)
Alexandre Segers
git_last_commit: 66f9d2d
git_last_commit_date: 2025-10-29 11:39:15 -0500
nebbiolo1Linux (Ubuntu 24.04.3 LTS) / x86_64  OK    OK    OK  YES
Package 57/97HostnameOS / ArchINSTALLBUILDCHECKBUILD BIN
orthogene 1.17.0  (landing page)
Brian Schilder
git_last_commit: 7e93d1a
git_last_commit_date: 2025-10-29 11:12:12 -0500
nebbiolo1Linux (Ubuntu 24.04.3 LTS) / x86_64  OK    OK    OK  UNNEEDED, same version is already published
Package 58/97HostnameOS / ArchINSTALLBUILDCHECKBUILD BIN
orthos 1.9.0  (landing page)
Panagiotis Papasaikas
git_last_commit: dc6b128
git_last_commit_date: 2025-10-29 11:24:17 -0500
nebbiolo1Linux (Ubuntu 24.04.3 LTS) / x86_64  OK    OK    OK  UNNEEDED, same version is already published
Package 59/97HostnameOS / ArchINSTALLBUILDCHECKBUILD BIN
PCAtools 2.23.0  (landing page)
Kevin Blighe
git_last_commit: e79752c
git_last_commit_date: 2025-10-29 10:49:30 -0500
nebbiolo1Linux (Ubuntu 24.04.3 LTS) / x86_64  OK    ERROR  skipped
Package 60/97HostnameOS / ArchINSTALLBUILDCHECKBUILD BIN
Rarr 1.11.1  (landing page)
Hugo Gruson
git_last_commit: f1e4086
git_last_commit_date: 2025-10-31 03:54:37 -0500
nebbiolo1Linux (Ubuntu 24.04.3 LTS) / x86_64  OK    OK    OK  UNNEEDED, same version is already published
Package 61/97HostnameOS / ArchINSTALLBUILDCHECKBUILD BIN
ResidualMatrix 1.21.0  (landing page)
Aaron Lun
git_last_commit: d568a7c
git_last_commit_date: 2025-10-29 11:02:07 -0500
nebbiolo1Linux (Ubuntu 24.04.3 LTS) / x86_64  OK    OK    OK  UNNEEDED, same version is already published
Package 62/97HostnameOS / ArchINSTALLBUILDCHECKBUILD BIN
rhdf5client 1.33.0  (landing page)
Alexey Sergushichev
git_last_commit: d37daa8
git_last_commit_date: 2025-10-29 10:41:39 -0500
nebbiolo1Linux (Ubuntu 24.04.3 LTS) / x86_64  OK    OK    OK  UNNEEDED, same version is already published
Package 63/97HostnameOS / ArchINSTALLBUILDCHECKBUILD BIN
RTCGAToolbox 2.41.0  (landing page)
Marcel Ramos
git_last_commit: d55f300
git_last_commit_date: 2025-10-29 10:26:09 -0500
nebbiolo1Linux (Ubuntu 24.04.3 LTS) / x86_64  OK    ERROR  skipped
Package 64/97HostnameOS / ArchINSTALLBUILDCHECKBUILD BIN
ScaledMatrix 1.19.0  (landing page)
Aaron Lun
git_last_commit: 439f56b
git_last_commit_date: 2025-10-29 11:05:33 -0500
nebbiolo1Linux (Ubuntu 24.04.3 LTS) / x86_64  OK    OK    OK  UNNEEDED, same version is already published
Package 65/97HostnameOS / ArchINSTALLBUILDCHECKBUILD BIN
SCArray 1.19.0  (landing page)
Xiuwen Zheng
git_last_commit: d488bb9
git_last_commit_date: 2025-10-29 11:05:31 -0500
nebbiolo1Linux (Ubuntu 24.04.3 LTS) / x86_64  OK    OK    OK  YES
Package 66/97HostnameOS / ArchINSTALLBUILDCHECKBUILD BIN
SCArray.sat 1.11.0  (landing page)
Xiuwen Zheng
git_last_commit: 10b697d
git_last_commit_date: 2025-10-29 11:22:05 -0500
nebbiolo1Linux (Ubuntu 24.04.3 LTS) / x86_64  OK    ERROR  skipped
Package 67/97HostnameOS / ArchINSTALLBUILDCHECKBUILD BIN
scater 1.39.0  (landing page)
Alan O'Callaghan
git_last_commit: 4ba4420
git_last_commit_date: 2025-10-29 10:30:01 -0500
nebbiolo1Linux (Ubuntu 24.04.3 LTS) / x86_64  OK    OK    OK  YES
Package 68/97HostnameOS / ArchINSTALLBUILDCHECKBUILD BIN
scDblFinder 1.25.0  (landing page)
Pierre-Luc Germain
git_last_commit: dffe1fe
git_last_commit_date: 2025-10-29 10:55:23 -0500
nebbiolo1Linux (Ubuntu 24.04.3 LTS) / x86_64  OK    OK    OK  NO, package depends on 'rtracklayer' which is not available
Package 69/97HostnameOS / ArchINSTALLBUILDCHECKBUILD BIN
scFeatures 1.11.0  (landing page)
Yue Cao
git_last_commit: 6d12eae
git_last_commit_date: 2025-10-29 11:20:52 -0500
nebbiolo1Linux (Ubuntu 24.04.3 LTS) / x86_64  OK    OK    ERROR  
Package 70/97HostnameOS / ArchINSTALLBUILDCHECKBUILD BIN
scMerge 1.27.0  (landing page)
Yingxin Lin
git_last_commit: 1741f7e
git_last_commit_date: 2025-10-29 10:51:54 -0500
nebbiolo1Linux (Ubuntu 24.04.3 LTS) / x86_64  OK    OK    OK  YES
Package 71/97HostnameOS / ArchINSTALLBUILDCHECKBUILD BIN
scmeth 1.31.0  (landing page)
Divy Kangeyan
git_last_commit: 96dcd92
git_last_commit_date: 2025-10-29 10:43:21 -0500
nebbiolo1Linux (Ubuntu 24.04.3 LTS) / x86_64  OK    OK    OK  NO, package depends on 'bsseq' which is not available
Package 72/97HostnameOS / ArchINSTALLBUILDCHECKBUILD BIN
scPCA 1.25.0  (landing page)
Philippe Boileau
git_last_commit: 93c5905
git_last_commit_date: 2025-10-29 10:55:26 -0500
nebbiolo1Linux (Ubuntu 24.04.3 LTS) / x86_64  OK    OK    OK  UNNEEDED, same version is already published
Package 73/97HostnameOS / ArchINSTALLBUILDCHECKBUILD BIN
scran 1.39.0  (landing page)
Aaron Lun
git_last_commit: 5b4b8a1
git_last_commit_date: 2025-10-29 10:31:34 -0500
nebbiolo1Linux (Ubuntu 24.04.3 LTS) / x86_64  OK    OK    WARNINGS  YES
Package 74/97HostnameOS / ArchINSTALLBUILDCHECKBUILD BIN
scrapper 1.5.1  (landing page)
Aaron Lun
git_last_commit: 1a313d9
git_last_commit_date: 2025-10-31 03:26:44 -0500
nebbiolo1Linux (Ubuntu 24.04.3 LTS) / x86_64  OK    OK    WARNINGS  YES
Package 75/97HostnameOS / ArchINSTALLBUILDCHECKBUILD BIN
scry 1.23.0  (landing page)
Kelly Street
git_last_commit: 0eeb235
git_last_commit_date: 2025-10-29 10:59:07 -0500
nebbiolo1Linux (Ubuntu 24.04.3 LTS) / x86_64  OK    OK    OK  YES
Package 76/97HostnameOS / ArchINSTALLBUILDCHECKBUILD BIN
scuttle 1.21.0  (landing page)
Aaron Lun
git_last_commit: 02c9bb0
git_last_commit_date: 2025-10-29 10:59:47 -0500
nebbiolo1Linux (Ubuntu 24.04.3 LTS) / x86_64  OK    OK    OK  YES
Package 77/97HostnameOS / ArchINSTALLBUILDCHECKBUILD BIN
signatureSearch 1.25.0  (landing page)
Brendan Gongol
git_last_commit: 342f9a7
git_last_commit_date: 2025-10-29 10:55:44 -0500
nebbiolo1Linux (Ubuntu 24.04.3 LTS) / x86_64  OK    OK    OK  UNNEEDED, same version is already published
Package 78/97HostnameOS / ArchINSTALLBUILDCHECKBUILD BIN
SingleCellAlleleExperiment 1.7.0  (landing page)
Jonas Schuck
git_last_commit: 51ef84b
git_last_commit_date: 2025-10-29 11:30:07 -0500
nebbiolo1Linux (Ubuntu 24.04.3 LTS) / x86_64  OK    OK    OK  YES
Package 79/97HostnameOS / ArchINSTALLBUILDCHECKBUILD BIN
SingleCellExperiment 1.33.0  (landing page)
Davide Risso
git_last_commit: bdf6af0
git_last_commit_date: 2025-10-29 10:39:29 -0500
nebbiolo1Linux (Ubuntu 24.04.3 LTS) / x86_64  OK    OK    OK  YES
Package 80/97HostnameOS / ArchINSTALLBUILDCHECKBUILD BIN
singleCellTK 2.21.0  (landing page)
Joshua David Campbell
git_last_commit: 4895b66
git_last_commit_date: 2025-10-29 11:29:49 -0500
nebbiolo1Linux (Ubuntu 24.04.3 LTS) / x86_64  ERROR    ERROR  skipped
Package 81/97HostnameOS / ArchINSTALLBUILDCHECKBUILD BIN
SingleR 2.13.0  (landing page)
Aaron Lun
git_last_commit: 2ee58a5
git_last_commit_date: 2025-10-29 10:54:00 -0500
nebbiolo1Linux (Ubuntu 24.04.3 LTS) / x86_64  OK    OK    OK  YES
Package 82/97HostnameOS / ArchINSTALLBUILDCHECKBUILD BIN
sketchR 1.7.0  (landing page)
Charlotte Soneson
git_last_commit: 25a7083
git_last_commit_date: 2025-10-29 11:28:06 -0500
nebbiolo1Linux (Ubuntu 24.04.3 LTS) / x86_64  OK    OK    OK  YES
Package 83/97HostnameOS / ArchINSTALLBUILDCHECKBUILD BIN
SpliceWiz 1.13.0  (landing page)
Alex Chit Hei Wong
git_last_commit: 73b017a
git_last_commit_date: 2025-10-29 11:17:35 -0500
nebbiolo1Linux (Ubuntu 24.04.3 LTS) / x86_64  OK    OK    WARNINGS  NO, package depends on 'BSgenome' which is not available
Package 84/97HostnameOS / ArchINSTALLBUILDCHECKBUILD BIN
SQLDataFrame 1.25.0  (landing page)
Qian Liu
git_last_commit: bef96d3
git_last_commit_date: 2025-10-29 10:52:35 -0500
nebbiolo1Linux (Ubuntu 24.04.3 LTS) / x86_64  OK    OK    ERROR  
Package 85/97HostnameOS / ArchINSTALLBUILDCHECKBUILD BIN
SummarizedExperiment 1.41.0  (landing page)
Hervé Pagès
git_last_commit: 7a9787c
git_last_commit_date: 2025-10-29 14:49:30 -0500
nebbiolo1Linux (Ubuntu 24.04.3 LTS) / x86_64  OK    OK    OK  UNNEEDED, same version is already published
Package 86/97HostnameOS / ArchINSTALLBUILDCHECKBUILD BIN
TileDBArray 1.21.0  (landing page)
Aaron Lun
git_last_commit: 4e1f73b
git_last_commit_date: 2025-10-29 11:02:23 -0500
nebbiolo1Linux (Ubuntu 24.04.3 LTS) / x86_64  OK    OK    OK  UNNEEDED, same version is already published
Package 87/97HostnameOS / ArchINSTALLBUILDCHECKBUILD BIN
transformGamPoi 1.17.0  (landing page)
Constantin Ahlmann-Eltze
git_last_commit: 7ddcbe2
git_last_commit_date: 2025-10-29 11:12:07 -0500
nebbiolo1Linux (Ubuntu 24.04.3 LTS) / x86_64  OK    OK    OK  YES
Package 88/97HostnameOS / ArchINSTALLBUILDCHECKBUILD BIN
TSCAN 1.49.0  (landing page)
Zhicheng Ji
git_last_commit: 19fa1c7
git_last_commit_date: 2025-10-29 10:21:25 -0500
nebbiolo1Linux (Ubuntu 24.04.3 LTS) / x86_64  OK    OK    OK  YES
Package 89/97HostnameOS / ArchINSTALLBUILDCHECKBUILD BIN
VariantExperiment 1.25.0  (landing page)
Qian Liu
git_last_commit: 230466e
git_last_commit_date: 2025-10-29 10:53:44 -0500
nebbiolo1Linux (Ubuntu 24.04.3 LTS) / x86_64  OK    OK    OK  NO, package depends on 'GDSArray' which is not available
Package 90/97HostnameOS / ArchINSTALLBUILDCHECKBUILD BIN
VCFArray 1.27.0  (landing page)
Qian Liu
git_last_commit: c9fb606
git_last_commit_date: 2025-10-29 10:49:16 -0500
nebbiolo1Linux (Ubuntu 24.04.3 LTS) / x86_64  OK    OK    OK  NO, package depends on 'VariantAnnotation' which is not available
Package 91/97HostnameOS / ArchINSTALLBUILDCHECKBUILD BIN
velociraptor 1.21.0  (landing page)
Kevin Rue-Albrecht
git_last_commit: b6ed8f8
git_last_commit_date: 2025-10-29 11:02:39 -0500
nebbiolo1Linux (Ubuntu 24.04.3 LTS) / x86_64  OK    OK    OK  YES
Package 92/97HostnameOS / ArchINSTALLBUILDCHECKBUILD BIN
vmrseq 1.3.0  (landing page)
Ning Shen
git_last_commit: ad3b777
git_last_commit_date: 2025-10-29 11:35:54 -0500
nebbiolo1Linux (Ubuntu 24.04.3 LTS) / x86_64  OK    OK    OK  NO, package depends on 'bumphunter' which is not available
Package 93/97HostnameOS / ArchINSTALLBUILDCHECKBUILD BIN
Voyager 1.13.0  (landing page)
Lambda Moses
git_last_commit: d3cefae
git_last_commit_date: 2025-10-29 11:19:14 -0500
nebbiolo1Linux (Ubuntu 24.04.3 LTS) / x86_64  OK    OK    WARNINGS  NO, package depends on 'SpatialFeatureExperiment' which is not available
Package 94/97HostnameOS / ArchINSTALLBUILDCHECKBUILD BIN
weitrix 1.23.0  (landing page)
Paul Harrison
git_last_commit: 0187a17
git_last_commit_date: 2025-10-29 10:59:24 -0500
nebbiolo1Linux (Ubuntu 24.04.3 LTS) / x86_64  OK    OK    OK  UNNEEDED, same version is already published
Package 95/97HostnameOS / ArchINSTALLBUILDCHECKBUILD BIN
xcore 1.15.0  (landing page)
Maciej Migdał
git_last_commit: a7dbfb4
git_last_commit_date: 2025-10-29 11:15:21 -0500
nebbiolo1Linux (Ubuntu 24.04.3 LTS) / x86_64  OK    OK    OK  UNNEEDED, same version is already published
Package 96/97HostnameOS / ArchINSTALLBUILDCHECKBUILD BIN
zellkonverter 1.21.0  (landing page)
Luke Zappia
git_last_commit: 38b921d
git_last_commit_date: 2025-11-01 07:21:07 -0500
nebbiolo1Linux (Ubuntu 24.04.3 LTS) / x86_64  OK    OK    OK  YES
Package 97/97HostnameOS / ArchINSTALLBUILDCHECKBUILD BIN
ZygosityPredictor 1.11.0  (landing page)
Marco Rheinnecker
git_last_commit: 21ba67a
git_last_commit_date: 2025-10-29 11:22:08 -0500
nebbiolo1Linux (Ubuntu 24.04.3 LTS) / x86_64  OK    OK    OK  NO, package depends on 'VariantAnnotation' which is not available