Back to Multiple platform build/check report for BioC 3.22: simplified long |
|
This page was generated on 2025-07-19 12:05 -0400 (Sat, 19 Jul 2025).
Hostname | OS | Arch (*) | R version | Installed pkgs |
---|---|---|---|---|
nebbiolo2 | Linux (Ubuntu 24.04.2 LTS) | x86_64 | 4.5.1 (2025-06-13) -- "Great Square Root" | 4791 |
palomino8 | Windows Server 2022 Datacenter | x64 | 4.5.1 (2025-06-13 ucrt) -- "Great Square Root" | 4529 |
lconway | macOS 12.7.1 Monterey | x86_64 | 4.5.1 (2025-06-13) -- "Great Square Root" | 4572 |
kjohnson3 | macOS 13.7.1 Ventura | arm64 | 4.5.1 Patched (2025-06-14 r88325) -- "Great Square Root" | 4513 |
taishan | Linux (openEuler 24.03 LTS) | aarch64 | 4.5.0 (2025-04-11) -- "How About a Twenty-Six" | 4510 |
Click on any hostname to see more info about the system (e.g. compilers) (*) as reported by 'uname -p', except on Windows and Mac OS X |
Package 1706/2311 | Hostname | OS / Arch | INSTALL | BUILD | CHECK | BUILD BIN | ||||||||
ReactomeGSA 1.23.0 (landing page) Johannes Griss
| nebbiolo2 | Linux (Ubuntu 24.04.2 LTS) / x86_64 | OK | OK | OK | ![]() | ||||||||
palomino8 | Windows Server 2022 Datacenter / x64 | OK | OK | OK | OK | ![]() | ||||||||
lconway | macOS 12.7.1 Monterey / x86_64 | OK | OK | OK | OK | ![]() | ||||||||
kjohnson3 | macOS 13.7.1 Ventura / arm64 | OK | TIMEOUT | skipped | skipped | |||||||||
taishan | Linux (openEuler 24.03 LTS) / aarch64 | OK | OK | OK | ||||||||||
To the developers/maintainers of the ReactomeGSA package: - Allow up to 24 hours (and sometimes 48 hours) for your latest push to git@git.bioconductor.org:packages/ReactomeGSA.git to reflect on this report. See Troubleshooting Build Report for more information. - Use the following Renviron settings to reproduce errors and warnings. - If 'R CMD check' started to fail recently on the Linux builder(s) over a missing dependency, add the missing dependency to 'Suggests:' in your DESCRIPTION file. See Renviron.bioc for more information. |
Package: ReactomeGSA |
Version: 1.23.0 |
Command: /home/biocbuild/bbs-3.22-bioc/R/bin/R CMD check --install=check:ReactomeGSA.install-out.txt --library=/home/biocbuild/bbs-3.22-bioc/R/site-library --timings ReactomeGSA_1.23.0.tar.gz |
StartedAt: 2025-07-19 01:40:54 -0400 (Sat, 19 Jul 2025) |
EndedAt: 2025-07-19 01:58:40 -0400 (Sat, 19 Jul 2025) |
EllapsedTime: 1066.4 seconds |
RetCode: 0 |
Status: OK |
CheckDir: ReactomeGSA.Rcheck |
Warnings: 0 |
############################################################################## ############################################################################## ### ### Running command: ### ### /home/biocbuild/bbs-3.22-bioc/R/bin/R CMD check --install=check:ReactomeGSA.install-out.txt --library=/home/biocbuild/bbs-3.22-bioc/R/site-library --timings ReactomeGSA_1.23.0.tar.gz ### ############################################################################## ############################################################################## * using log directory ‘/home/biocbuild/bbs-3.22-bioc/meat/ReactomeGSA.Rcheck’ * using R version 4.5.1 (2025-06-13) * using platform: x86_64-pc-linux-gnu * R was compiled by gcc (Ubuntu 13.3.0-6ubuntu2~24.04) 13.3.0 GNU Fortran (Ubuntu 13.3.0-6ubuntu2~24.04) 13.3.0 * running under: Ubuntu 24.04.2 LTS * using session charset: UTF-8 * checking for file ‘ReactomeGSA/DESCRIPTION’ ... OK * checking extension type ... Package * this is package ‘ReactomeGSA’ version ‘1.23.0’ * package encoding: UTF-8 * checking package namespace information ... OK * checking package dependencies ... OK * checking if this is a source package ... OK * checking if there is a namespace ... OK * checking for hidden files and directories ... OK * checking for portable file names ... OK * checking for sufficient/correct file permissions ... OK * checking whether package ‘ReactomeGSA’ can be installed ... OK * checking installed package size ... OK * checking package directory ... OK * checking ‘build’ directory ... OK * checking DESCRIPTION meta-information ... OK * checking top-level files ... OK * checking for left-over files ... OK * checking index information ... OK * checking package subdirectories ... OK * checking code files for non-ASCII characters ... OK * checking R files for syntax errors ... OK * checking whether the package can be loaded ... OK * checking whether the package can be loaded with stated dependencies ... OK * checking whether the package can be unloaded cleanly ... OK * checking whether the namespace can be loaded with stated dependencies ... OK * checking whether the namespace can be unloaded cleanly ... OK * checking loading without being on the library search path ... OK * checking whether startup messages can be suppressed ... OK * checking dependencies in R code ... OK * checking S3 generic/method consistency ... OK * checking replacement functions ... OK * checking foreign function calls ... OK * checking R code for possible problems ... NOTE plot_correlations,ReactomeAnalysisResult: no visible binding for global variable ‘combined_sig’ plot_correlations,ReactomeAnalysisResult: no visible binding for global variable ‘alpha’ plot_gsva_pathway,ReactomeAnalysisResult: no visible binding for global variable ‘cluster_id’ plot_gsva_pathway,ReactomeAnalysisResult: no visible binding for global variable ‘expr’ plot_gsva_pca,ReactomeAnalysisResult: no visible binding for global variable ‘gsva_result’ plot_gsva_pca,ReactomeAnalysisResult: no visible binding for global variable ‘PC1’ plot_gsva_pca,ReactomeAnalysisResult: no visible binding for global variable ‘PC2’ plot_heatmap,ReactomeAnalysisResult: no visible global function definition for ‘desc’ plot_heatmap,ReactomeAnalysisResult: no visible binding for global variable ‘n_sig’ plot_heatmap,ReactomeAnalysisResult: no visible binding for global variable ‘dataset’ plot_heatmap,ReactomeAnalysisResult: no visible binding for global variable ‘Name’ plot_volcano,ReactomeAnalysisResult: no visible binding for global variable ‘av_foldchange’ plot_volcano,ReactomeAnalysisResult: no visible binding for global variable ‘FDR’ Undefined global functions or variables: FDR Name PC1 PC2 alpha av_foldchange cluster_id combined_sig dataset desc expr gsva_result n_sig * checking Rd files ... OK * checking Rd metadata ... OK * checking Rd cross-references ... OK * checking for missing documentation entries ... OK * checking for code/documentation mismatches ... OK * checking Rd \usage sections ... OK * checking Rd contents ... OK * checking for unstated dependencies in examples ... OK * checking files in ‘vignettes’ ... OK * checking examples ... OK Examples with CPU (user + system) or elapsed time > 5s user system elapsed analyse_sc_clusters 35.186 0.594 109.355 plot_gsva_heatmap-ReactomeAnalysisResult-method 33.358 0.519 64.901 plot_gsva_pca 31.764 0.641 63.788 plot_gsva_heatmap 31.783 0.517 60.401 analyse_sc_clusters-Seurat-method 31.421 0.801 62.743 plot_gsva_pathway-ReactomeAnalysisResult-method 31.446 0.544 62.260 plot_gsva_pathway 31.082 0.608 59.739 plot_gsva_pca-ReactomeAnalysisResult-method 31.124 0.401 59.259 analyse_sc_clusters-SingleCellExperiment-method 30.871 0.469 61.472 generate_pseudo_bulk_data 14.689 0.635 15.336 perform_reactome_analysis 4.390 0.177 17.843 load_public_dataset 4.094 0.148 36.453 * checking for unstated dependencies in ‘tests’ ... OK * checking tests ... Running ‘testthat.R’ OK * checking for unstated dependencies in vignettes ... OK * checking package vignettes ... OK * checking re-building of vignette outputs ... OK * checking PDF version of manual ... OK * DONE Status: 1 NOTE See ‘/home/biocbuild/bbs-3.22-bioc/meat/ReactomeGSA.Rcheck/00check.log’ for details.
ReactomeGSA.Rcheck/00install.out
############################################################################## ############################################################################## ### ### Running command: ### ### /home/biocbuild/bbs-3.22-bioc/R/bin/R CMD INSTALL ReactomeGSA ### ############################################################################## ############################################################################## * installing to library ‘/home/biocbuild/bbs-3.22-bioc/R/site-library’ * installing *source* package ‘ReactomeGSA’ ... ** this is package ‘ReactomeGSA’ version ‘1.23.0’ ** using staged installation ** R ** inst ** byte-compile and prepare package for lazy loading in method for ‘analyse_sc_clusters’ with signature ‘object="Seurat"’: no definition for class “Seurat” in method for ‘analyse_sc_clusters’ with signature ‘object="SingleCellExperiment"’: no definition for class “SingleCellExperiment” in method for ‘add_dataset’ with signature ‘request="ReactomeAnalysisRequest",expression_values="EList"’: no definition for class “EList” in method for ‘add_dataset’ with signature ‘request="ReactomeAnalysisRequest",expression_values="DGEList"’: no definition for class “DGEList” in method for ‘generate_pseudo_bulk_data’ with signature ‘object="Seurat"’: no definition for class “Seurat” in method for ‘generate_pseudo_bulk_data’ with signature ‘object="SingleCellExperiment"’: no definition for class “SingleCellExperiment” ** help *** installing help indices ** building package indices ** installing vignettes ** testing if installed package can be loaded from temporary location ** testing if installed package can be loaded from final location ** testing if installed package keeps a record of temporary installation path * DONE (ReactomeGSA)
ReactomeGSA.Rcheck/tests/testthat.Rout
R version 4.5.1 (2025-06-13) -- "Great Square Root" Copyright (C) 2025 The R Foundation for Statistical Computing Platform: x86_64-pc-linux-gnu R is free software and comes with ABSOLUTELY NO WARRANTY. You are welcome to redistribute it under certain conditions. Type 'license()' or 'licence()' for distribution details. R is a collaborative project with many contributors. Type 'contributors()' for more information and 'citation()' on how to cite R or R packages in publications. Type 'demo()' for some demos, 'help()' for on-line help, or 'help.start()' for an HTML browser interface to help. Type 'q()' to quit R. > library(testthat) > library(ReactomeGSA) > > test_check("ReactomeGSA") [ FAIL 0 | WARN 0 | SKIP 0 | PASS 17 ] > > proc.time() user system elapsed 1.597 0.095 1.679
ReactomeGSA.Rcheck/ReactomeGSA-Ex.timings
name | user | system | elapsed | |
ReactomeAnalysisRequest | 4.698 | 0.248 | 4.948 | |
ReactomeAnalysisResult-class | 0.202 | 0.006 | 0.208 | |
add_dataset-ReactomeAnalysisRequest-DGEList-method | 0.857 | 0.024 | 0.881 | |
add_dataset-ReactomeAnalysisRequest-EList-method | 0.537 | 0.004 | 0.541 | |
add_dataset-ReactomeAnalysisRequest-ExpressionSet-method | 0.530 | 0.018 | 0.548 | |
add_dataset-ReactomeAnalysisRequest-data.frame-method | 0.542 | 0.003 | 0.545 | |
add_dataset-ReactomeAnalysisRequest-matrix-method | 0.568 | 0.003 | 0.571 | |
add_dataset | 0.543 | 0.001 | 0.544 | |
analyse_sc_clusters-Seurat-method | 31.421 | 0.801 | 62.743 | |
analyse_sc_clusters-SingleCellExperiment-method | 30.871 | 0.469 | 61.472 | |
analyse_sc_clusters | 35.186 | 0.594 | 109.355 | |
find_public_datasets | 0.519 | 0.009 | 3.159 | |
generate_metadata | 0.002 | 0.000 | 0.002 | |
generate_pseudo_bulk_data | 14.689 | 0.635 | 15.336 | |
get_public_species | 0.143 | 0.000 | 0.584 | |
get_reactome_data_types | 0.369 | 0.005 | 1.251 | |
get_reactome_methods | 0.512 | 0.008 | 1.864 | |
get_result-ReactomeAnalysisResult-method | 0.193 | 0.002 | 0.195 | |
get_result | 0.259 | 0.002 | 0.262 | |
load_public_dataset | 4.094 | 0.148 | 36.453 | |
names-ReactomeAnalysisResult-method | 0.190 | 0.003 | 0.193 | |
open_reactome-ReactomeAnalysisResult-method | 0.189 | 0.003 | 0.191 | |
open_reactome | 0.199 | 0.002 | 0.201 | |
pathways-ReactomeAnalysisResult-method | 0.251 | 0.002 | 0.253 | |
pathways | 0.224 | 0.005 | 0.229 | |
perform_reactome_analysis | 4.390 | 0.177 | 17.843 | |
plot_correlations-ReactomeAnalysisResult-method | 0.243 | 0.005 | 0.247 | |
plot_correlations | 0.223 | 0.004 | 0.227 | |
plot_gsva_heatmap-ReactomeAnalysisResult-method | 33.358 | 0.519 | 64.901 | |
plot_gsva_heatmap | 31.783 | 0.517 | 60.401 | |
plot_gsva_pathway-ReactomeAnalysisResult-method | 31.446 | 0.544 | 62.260 | |
plot_gsva_pathway | 31.082 | 0.608 | 59.739 | |
plot_gsva_pca-ReactomeAnalysisResult-method | 31.124 | 0.401 | 59.259 | |
plot_gsva_pca | 31.764 | 0.641 | 63.788 | |
plot_heatmap-ReactomeAnalysisResult-method | 0.424 | 0.002 | 0.426 | |
plot_heatmap | 0.518 | 0.004 | 0.522 | |
plot_volcano-ReactomeAnalysisResult-method | 0.216 | 0.003 | 0.219 | |
plot_volcano | 0.231 | 0.003 | 0.235 | |
print-ReactomeAnalysisRequest-method | 0.002 | 0.000 | 0.001 | |
print-ReactomeAnalysisResult-method | 0.211 | 0.001 | 0.212 | |
reactome_links-ReactomeAnalysisResult-method | 0.202 | 0.002 | 0.203 | |
reactome_links | 0.195 | 0.003 | 0.198 | |
result_types-ReactomeAnalysisResult-method | 0.195 | 0.004 | 0.200 | |
result_types | 0.194 | 0.004 | 0.198 | |
set_method-ReactomeAnalysisRequest-method | 0.001 | 0.000 | 0.002 | |
set_method | 0.001 | 0.000 | 0.001 | |
set_parameters-ReactomeAnalysisRequest-method | 0.001 | 0.001 | 0.001 | |
set_parameters | 0.001 | 0.000 | 0.002 | |
show-ReactomeAnalysisRequest-method | 0.001 | 0.000 | 0.001 | |
show-ReactomeAnalysisResult-method | 0.200 | 0.002 | 0.202 | |