Back to Multiple platform build/check report for BioC 3.22:   simplified   long
ABCDEFGHIJKLMNOPQ[R]STUVWXYZ

This page was generated on 2025-07-18 12:12 -0400 (Fri, 18 Jul 2025).

HostnameOSArch (*)R versionInstalled pkgs
nebbiolo2Linux (Ubuntu 24.04.2 LTS)x86_644.5.1 (2025-06-13) -- "Great Square Root" 4787
palomino8Windows Server 2022 Datacenterx644.5.1 (2025-06-13 ucrt) -- "Great Square Root" 4525
lconwaymacOS 12.7.1 Montereyx86_644.5.1 (2025-06-13) -- "Great Square Root" 4568
kjohnson3macOS 13.7.1 Venturaarm644.5.1 Patched (2025-06-14 r88325) -- "Great Square Root" 4509
taishanLinux (openEuler 24.03 LTS)aarch644.5.0 (2025-04-11) -- "How About a Twenty-Six" 4510
Click on any hostname to see more info about the system (e.g. compilers)      (*) as reported by 'uname -p', except on Windows and Mac OS X

Package 1706/2311HostnameOS / ArchINSTALLBUILDCHECKBUILD BIN
ReactomeGSA 1.23.0  (landing page)
Johannes Griss
Snapshot Date: 2025-07-17 13:25 -0400 (Thu, 17 Jul 2025)
git_url: https://git.bioconductor.org/packages/ReactomeGSA
git_branch: devel
git_last_commit: d9a274e
git_last_commit_date: 2025-04-15 11:49:59 -0400 (Tue, 15 Apr 2025)
nebbiolo2Linux (Ubuntu 24.04.2 LTS) / x86_64  OK    OK    OK  UNNEEDED, same version is already published
palomino8Windows Server 2022 Datacenter / x64  OK    OK    OK    OK  UNNEEDED, same version is already published
lconwaymacOS 12.7.1 Monterey / x86_64  OK    OK    OK    OK  UNNEEDED, same version is already published
kjohnson3macOS 13.7.1 Ventura / arm64  OK    OK    OK    OK  UNNEEDED, same version is already published
taishanLinux (openEuler 24.03 LTS) / aarch64  OK    OK    OK  


CHECK results for ReactomeGSA on taishan

To the developers/maintainers of the ReactomeGSA package:
- Allow up to 24 hours (and sometimes 48 hours) for your latest push to git@git.bioconductor.org:packages/ReactomeGSA.git to reflect on this report. See Troubleshooting Build Report for more information.
- Use the following Renviron settings to reproduce errors and warnings.
- If 'R CMD check' started to fail recently on the Linux builder(s) over a missing dependency, add the missing dependency to 'Suggests:' in your DESCRIPTION file. See Renviron.bioc for more information.
- See Martin Grigorov's blog post for how to debug Linux ARM64 related issues on a x86_64 host.

raw results


Summary

Package: ReactomeGSA
Version: 1.23.0
Command: /home/biocbuild/R/R/bin/R CMD check --install=check:ReactomeGSA.install-out.txt --library=/home/biocbuild/R/R/site-library --no-vignettes --timings ReactomeGSA_1.23.0.tar.gz
StartedAt: 2025-07-18 10:18:44 -0000 (Fri, 18 Jul 2025)
EndedAt: 2025-07-18 10:36:02 -0000 (Fri, 18 Jul 2025)
EllapsedTime: 1038.1 seconds
RetCode: 0
Status:   OK  
CheckDir: ReactomeGSA.Rcheck
Warnings: 0

Command output

##############################################################################
##############################################################################
###
### Running command:
###
###   /home/biocbuild/R/R/bin/R CMD check --install=check:ReactomeGSA.install-out.txt --library=/home/biocbuild/R/R/site-library --no-vignettes --timings ReactomeGSA_1.23.0.tar.gz
###
##############################################################################
##############################################################################


* using log directory ‘/home/biocbuild/bbs-3.22-bioc/meat/ReactomeGSA.Rcheck’
* using R version 4.5.0 (2025-04-11)
* using platform: aarch64-unknown-linux-gnu
* R was compiled by
    aarch64-unknown-linux-gnu-gcc (GCC) 14.2.0
    GNU Fortran (GCC) 14.2.0
* running under: openEuler 24.03 (LTS)
* using session charset: UTF-8
* using option ‘--no-vignettes’
* checking for file ‘ReactomeGSA/DESCRIPTION’ ... OK
* checking extension type ... Package
* this is package ‘ReactomeGSA’ version ‘1.23.0’
* package encoding: UTF-8
* checking package namespace information ... OK
* checking package dependencies ... OK
* checking if this is a source package ... OK
* checking if there is a namespace ... OK
* checking for hidden files and directories ... OK
* checking for portable file names ... OK
* checking for sufficient/correct file permissions ... OK
* checking whether package ‘ReactomeGSA’ can be installed ... OK
* checking installed package size ... OK
* checking package directory ... OK
* checking ‘build’ directory ... OK
* checking DESCRIPTION meta-information ... OK
* checking top-level files ... OK
* checking for left-over files ... OK
* checking index information ... OK
* checking package subdirectories ... OK
* checking code files for non-ASCII characters ... OK
* checking R files for syntax errors ... OK
* checking whether the package can be loaded ... OK
* checking whether the package can be loaded with stated dependencies ... OK
* checking whether the package can be unloaded cleanly ... OK
* checking whether the namespace can be loaded with stated dependencies ... OK
* checking whether the namespace can be unloaded cleanly ... OK
* checking loading without being on the library search path ... OK
* checking whether startup messages can be suppressed ... OK
* checking dependencies in R code ... OK
* checking S3 generic/method consistency ... OK
* checking replacement functions ... OK
* checking foreign function calls ... OK
* checking R code for possible problems ... NOTE
plot_correlations,ReactomeAnalysisResult: no visible binding for global
  variable ‘combined_sig’
plot_correlations,ReactomeAnalysisResult: no visible binding for global
  variable ‘alpha’
plot_gsva_pathway,ReactomeAnalysisResult: no visible binding for global
  variable ‘cluster_id’
plot_gsva_pathway,ReactomeAnalysisResult: no visible binding for global
  variable ‘expr’
plot_gsva_pca,ReactomeAnalysisResult: no visible binding for global
  variable ‘gsva_result’
plot_gsva_pca,ReactomeAnalysisResult: no visible binding for global
  variable ‘PC1’
plot_gsva_pca,ReactomeAnalysisResult: no visible binding for global
  variable ‘PC2’
plot_heatmap,ReactomeAnalysisResult: no visible global function
  definition for ‘desc’
plot_heatmap,ReactomeAnalysisResult: no visible binding for global
  variable ‘n_sig’
plot_heatmap,ReactomeAnalysisResult: no visible binding for global
  variable ‘dataset’
plot_heatmap,ReactomeAnalysisResult: no visible binding for global
  variable ‘Name’
plot_volcano,ReactomeAnalysisResult: no visible binding for global
  variable ‘av_foldchange’
plot_volcano,ReactomeAnalysisResult: no visible binding for global
  variable ‘FDR’
Undefined global functions or variables:
  FDR Name PC1 PC2 alpha av_foldchange cluster_id combined_sig dataset
  desc expr gsva_result n_sig
* checking Rd files ... OK
* checking Rd metadata ... OK
* checking Rd cross-references ... OK
* checking for missing documentation entries ... OK
* checking for code/documentation mismatches ... OK
* checking Rd \usage sections ... OK
* checking Rd contents ... OK
* checking for unstated dependencies in examples ... OK
* checking files in ‘vignettes’ ... OK
* checking examples ... OK
Examples with CPU (user + system) or elapsed time > 5s
                                                  user system elapsed
plot_gsva_pathway                               56.700  1.620  93.718
plot_gsva_pathway-ReactomeAnalysisResult-method 55.523  1.560  93.146
plot_gsva_pca                                   55.443  1.522  93.812
plot_gsva_pca-ReactomeAnalysisResult-method     55.054  1.687  94.466
plot_gsva_heatmap                               54.213  1.572  93.610
plot_gsva_heatmap-ReactomeAnalysisResult-method 53.291  1.997  93.135
analyse_sc_clusters-SingleCellExperiment-method 51.551  0.850 134.042
analyse_sc_clusters                             49.548  0.981  90.669
analyse_sc_clusters-Seurat-method               49.511  0.694  91.694
generate_pseudo_bulk_data                       19.374  1.719  21.312
ReactomeAnalysisRequest                          6.648  0.299   6.975
perform_reactome_analysis                        4.585  0.519  22.337
load_public_dataset                              1.230  0.103  10.305
find_public_datasets                             0.151  0.032   6.970
* checking for unstated dependencies in ‘tests’ ... OK
* checking tests ...
  Running ‘testthat.R’
 OK
* checking for unstated dependencies in vignettes ... OK
* checking package vignettes ... OK
* checking running R code from vignettes ... SKIPPED
* checking re-building of vignette outputs ... SKIPPED
* checking PDF version of manual ... OK
* DONE

Status: 1 NOTE
See
  ‘/home/biocbuild/bbs-3.22-bioc/meat/ReactomeGSA.Rcheck/00check.log’
for details.


Installation output

ReactomeGSA.Rcheck/00install.out

##############################################################################
##############################################################################
###
### Running command:
###
###   /home/biocbuild/R/R/bin/R CMD INSTALL ReactomeGSA
###
##############################################################################
##############################################################################


* installing to library ‘/home/biocbuild/R/R-4.5.0/site-library’
* installing *source* package ‘ReactomeGSA’ ...
** this is package ‘ReactomeGSA’ version ‘1.23.0’
** using staged installation
** R
** inst
** byte-compile and prepare package for lazy loading
in method for ‘analyse_sc_clusters’ with signature ‘object="Seurat"’: no definition for class “Seurat”
in method for ‘analyse_sc_clusters’ with signature ‘object="SingleCellExperiment"’: no definition for class “SingleCellExperiment”
in method for ‘add_dataset’ with signature ‘request="ReactomeAnalysisRequest",expression_values="EList"’: no definition for class “EList”
in method for ‘add_dataset’ with signature ‘request="ReactomeAnalysisRequest",expression_values="DGEList"’: no definition for class “DGEList”
in method for ‘generate_pseudo_bulk_data’ with signature ‘object="Seurat"’: no definition for class “Seurat”
in method for ‘generate_pseudo_bulk_data’ with signature ‘object="SingleCellExperiment"’: no definition for class “SingleCellExperiment”
** help
*** installing help indices
** building package indices
** installing vignettes
** testing if installed package can be loaded from temporary location
** testing if installed package can be loaded from final location
** testing if installed package keeps a record of temporary installation path
* DONE (ReactomeGSA)

Tests output

ReactomeGSA.Rcheck/tests/testthat.Rout


R version 4.5.0 (2025-04-11) -- "How About a Twenty-Six"
Copyright (C) 2025 The R Foundation for Statistical Computing
Platform: aarch64-unknown-linux-gnu

R is free software and comes with ABSOLUTELY NO WARRANTY.
You are welcome to redistribute it under certain conditions.
Type 'license()' or 'licence()' for distribution details.

R is a collaborative project with many contributors.
Type 'contributors()' for more information and
'citation()' on how to cite R or R packages in publications.

Type 'demo()' for some demos, 'help()' for on-line help, or
'help.start()' for an HTML browser interface to help.
Type 'q()' to quit R.

> library(testthat)
> library(ReactomeGSA)
> 
> test_check("ReactomeGSA")
[ FAIL 0 | WARN 0 | SKIP 0 | PASS 17 ]
> 
> proc.time()
   user  system elapsed 
  2.160   0.126   2.277 

Example timings

ReactomeGSA.Rcheck/ReactomeGSA-Ex.timings

nameusersystemelapsed
ReactomeAnalysisRequest6.6480.2996.975
ReactomeAnalysisResult-class0.2350.0000.238
add_dataset-ReactomeAnalysisRequest-DGEList-method1.1780.0151.198
add_dataset-ReactomeAnalysisRequest-EList-method0.8820.0040.890
add_dataset-ReactomeAnalysisRequest-ExpressionSet-method0.8770.0040.884
add_dataset-ReactomeAnalysisRequest-data.frame-method0.8710.0000.873
add_dataset-ReactomeAnalysisRequest-matrix-method0.8800.0000.883
add_dataset0.8670.0040.873
analyse_sc_clusters-Seurat-method49.511 0.69491.694
analyse_sc_clusters-SingleCellExperiment-method 51.551 0.850134.042
analyse_sc_clusters49.548 0.98190.669
find_public_datasets0.1510.0326.970
generate_metadata0.0010.0010.003
generate_pseudo_bulk_data19.374 1.71921.312
get_public_species0.0550.0001.297
get_reactome_data_types0.1100.0002.871
get_reactome_methods0.1630.0163.965
get_result-ReactomeAnalysisResult-method0.2460.0900.337
get_result0.2410.0200.261
load_public_dataset 1.230 0.10310.305
names-ReactomeAnalysisResult-method0.2240.0600.283
open_reactome-ReactomeAnalysisResult-method0.2340.0090.245
open_reactome0.2480.0000.248
pathways-ReactomeAnalysisResult-method0.2970.0280.325
pathways0.2580.0360.294
perform_reactome_analysis 4.585 0.51922.337
plot_correlations-ReactomeAnalysisResult-method0.3320.0240.357
plot_correlations0.2980.0240.323
plot_gsva_heatmap-ReactomeAnalysisResult-method53.291 1.99793.135
plot_gsva_heatmap54.213 1.57293.610
plot_gsva_pathway-ReactomeAnalysisResult-method55.523 1.56093.146
plot_gsva_pathway56.700 1.62093.718
plot_gsva_pca-ReactomeAnalysisResult-method55.054 1.68794.466
plot_gsva_pca55.443 1.52293.812
plot_heatmap-ReactomeAnalysisResult-method0.5670.0390.608
plot_heatmap0.7760.0320.811
plot_volcano-ReactomeAnalysisResult-method0.2670.0160.283
plot_volcano0.2920.0120.305
print-ReactomeAnalysisRequest-method0.0020.0000.002
print-ReactomeAnalysisResult-method0.2590.0000.260
reactome_links-ReactomeAnalysisResult-method0.2550.0000.255
reactome_links0.2470.0080.256
result_types-ReactomeAnalysisResult-method0.2450.0040.249
result_types0.2560.0000.257
set_method-ReactomeAnalysisRequest-method0.0020.0000.002
set_method0.0000.0020.002
set_parameters-ReactomeAnalysisRequest-method0.0010.0010.002
set_parameters0.0020.0000.002
show-ReactomeAnalysisRequest-method0.0000.0010.002
show-ReactomeAnalysisResult-method0.2560.0050.262