Workflows build report for BioC 3.23

This page was generated on 2025-10-31 10:55 -0400 (Fri, 31 Oct 2025).

Approx. Package Snapshot Date/Time (git pull): 2025-10-31 10:02 -0400 (Fri, 31 Oct 2025)
See this page for all the Bioconductor builds and their schedule.

HostnameOSArch (*)R versionInstalled pkgs
nebbiolo1Linux (Ubuntu 24.04.3 LTS)x86_64R Under development (unstable) (2025-10-20 r88955) -- "Unsuffered Consequences" 4474
Click on any hostname to see more info about the system (e.g. compilers)      (*) as reported by 'uname -p', except on Windows and Mac OS X

Package status is indicated by one of the following glyphs
  TIMEOUT  
INSTALL or BUILD of package took more than 40 or 180 minutes, respectively
  ERROR  
Bad DESCRIPTION file, or INSTALL or BUILD of package failed
  OK  
INSTALL or BUILD of package went OK
  NA  
INSTALL or BUILD result is not available because of an anomaly in the Build System
Click on any glyph in the report below to access the detailed report.
Package propagation status is indicated by one of the following LEDs
YES YES: Package was propagated because it didn't previously exist or version was bumped
NO NO: Package was not propagated because of a problem (impossible dependencies, or version lower than what is already propagated)
UNNEEDED UNNEEDED: Package was not propagated because it is already in the repository with this version. A version bump is required in order to propagate it

A crossed-out package name indicates that the package is deprecated


QUICK STATSOS / ArchINSTALLBUILD
nebbiolo1Linux (Ubuntu 24.04.3 LTS) / x86_64
0919
01018
PackageMaintainerINSTALLBUILD
1/28annotation 1.35.0  (landing page)Bioconductor Package Maintainer  ERROR    ERROR  
2/28arrays 1.37.0  (landing page)Bioconductor Package Maintainer  OK    OK  YES
3/28BP4RNAseq 1.21.0  (landing page)Shanwen Sun  OK    OK  YES
4/28CAGEWorkflow 1.27.0  (landing page)Malte Thodberg  OK    OK  NO, package depends on 'CAGEfightR' which is not available
5/28chipseqDB 1.35.0  (landing page)Aaron Lun  OK    OK  YES
6/28csawUsersGuide 1.27.0  (landing page)Aaron Lun  OK    OK  YES
7/28cytofWorkflow 1.35.0  (landing page)Mark D. Robinson  OK    OK  NO, package depends on 'CATALYST' which is not available
8/28EGSEA123 1.35.0  (landing page)Matthew Ritchie  ERROR    ERROR  
9/28ExpHunterSuite 1.19.0  (landing page)James Perkins  ERROR    ERROR  
10/28ExpressionNormalizationWorkflow 1.37.0  (landing page)Karthikeyan Murugesan  OK    OK  NO, package depends on 'pvca' which is not available
11/28fluentGenomics 1.23.0  (landing page)Stuart Lee  OK    OK  NO, package depends on 'plyranges' which is not available
12/28generegulation 1.35.0  (landing page)Bioconductor Package Maintainer  OK    OK  NO, package depends on 'Biostrings' which is not available
13/28GeoMxWorkflows 1.17.0  (landing page)Maddy Griswold  OK    OK  NO, package depends on 'NanoStringNCTools' which is not available
14/28highthroughputassays 1.35.0  (landing page)Bioconductor Package Maintainer  OK    OK  NO, package depends on 'flowStats' which is not available
15/28liftOver 1.35.0  (landing page)Bioconductor Package Maintainer  ERROR    ERROR  
16/28maEndToEnd 2.31.0  (landing page)Stefanie Reisenauer  ERROR    ERROR  
17/28methylationArrayAnalysis 1.35.0  (landing page)Jovana Maksimovic  ERROR    ERROR  
18/28recountWorkflow 1.35.0  (landing page)Leonardo Collado-Torres  ERROR    ERROR  
19/28RNAseq123 1.35.0  (landing page)Matthew Ritchie  ERROR    ERROR  
20/28rnaseqDTU 1.31.0  (landing page)Michael Love  OK    OK  NO, package depends on 'DRIMSeq' which is not available
21/28rnaseqGene 1.35.0  (landing page)Michael Love  OK    OK  NO, package depends on 'tximeta' which is not available
22/28RnaSeqGeneEdgeRQL 1.35.0  (landing page)Yunshun Chen  OK    OK  YES
23/28seqpac 1.11.0  (landing page)Alessandro Gozzo  OK    OK  NO, package depends on 'Biostrings' which is not available
24/28sequencing 1.35.0  (landing page)Bioconductor Package Maintainer  OK    OK  NO, package depends on 'GenomicRanges' which is not available
25/28simpleSingleCell 1.35.0  (landing page)Aaron Lun  OK    OK  YES
26/28SingscoreAMLMutations 1.27.0  (landing page)Dharmesh D. Bhuva  OK    ERROR  
27/28TCGAWorkflow 1.35.0  (landing page)Tiago Chedraoui Silva  ERROR    ERROR  
28/28variants 1.35.0  (landing page)Bioconductor Package Maintainer  OK    OK  NO, package depends on 'GenomeInfoDb' which is not available