This page was generated on 2025-04-01 15:41 -0400 (Tue, 01 Apr 2025).
| |
| See this page for all the Bioconductor builds and their schedule. |
| Hostname | OS | Arch (*) | R version | Installed pkgs |
|---|---|---|---|---|
| nebbiolo2 | Linux (Ubuntu 24.04.1 LTS) | x86_64 | 4.4.3 (2025-02-28) -- "Trophy Case" | 4764 |
| Click on any hostname to see more info about the system (e.g. compilers) (*) as reported by 'uname -p', except on Windows and Mac OS X | ||||
A | |||||||||
| QUICK STATS | OS / Arch | INSTALL | BUILD | CHECK | |||||||||||||||||||||||||||||||
| nebbiolo2 | Linux (Ubuntu 24.04.1 LTS) / x86_64 |
|
|
| |||||||||||||||||||||||||||||||
|
| ||||||||||||||||||||||||||||||||||
| Package | Maintainer | INSTALL | BUILD | CHECK | |||||||||||||||||||||||||||||||
| 1/431 | adductData 1.22.0 (landing page) | Josie Hayes | OK | OK | OK | ||||||||||||||||||||||||||||||
| 2/431 | affycompData 1.44.0 (landing page) | Robert D Shear | OK | OK | OK | ||||||||||||||||||||||||||||||
| 3/431 | affydata 1.54.0 (landing page) | Robert D Shear | OK | OK | WARNINGS | ||||||||||||||||||||||||||||||
| 4/431 | Affyhgu133A2Expr 1.42.0 (landing page) | Zhicheng Ji | OK | OK | OK | ||||||||||||||||||||||||||||||
| 5/431 | Affyhgu133aExpr 1.44.0 (landing page) | Zhicheng Ji | OK | OK | OK | ||||||||||||||||||||||||||||||
| 6/431 | Affyhgu133Plus2Expr 1.40.0 (landing page) | Zhicheng Ji | OK | OK | OK | ||||||||||||||||||||||||||||||
| 7/431 | AffymetrixDataTestFiles 0.44.0 (landing page) | Henrik Bengtsson | OK | OK | OK | ||||||||||||||||||||||||||||||
| 8/431 | Affymoe4302Expr 1.44.0 (landing page) | Zhicheng Ji | OK | OK | OK | ||||||||||||||||||||||||||||||
| 9/431 | airway 1.26.0 (landing page) | Michael Love | OK | OK | WARNINGS | ||||||||||||||||||||||||||||||
| 10/431 | ALL 1.48.0 (landing page) | Robert Gentleman | OK | OK | OK | ||||||||||||||||||||||||||||||
| 11/431 | ALLMLL 1.46.0 (landing page) | B. M. Bolstad | OK | OK | OK | ||||||||||||||||||||||||||||||
| 12/431 | AmpAffyExample 1.46.0 (landing page) | Robert D Shear | OK | OK | WARNINGS | ||||||||||||||||||||||||||||||
| 13/431 | AneuFinderData 1.34.0 (landing page) | Aaron Taudt | OK | OK | WARNINGS | ||||||||||||||||||||||||||||||
| 14/431 | antiProfilesData 1.42.0 (landing page) | Hector Corrada Bravo | OK | OK | OK | ||||||||||||||||||||||||||||||
| 15/431 | aracne.networks 1.32.0 (landing page) | Federico M. Giorgi | OK | OK | WARNINGS | ||||||||||||||||||||||||||||||
| 16/431 | ARRmData 1.42.0 (landing page) | Jean-Philippe Fortin | OK | OK | OK | ||||||||||||||||||||||||||||||
| 17/431 | AshkenazimSonChr21 1.36.0 (landing page) | Who to complain to | OK | OK | OK | ||||||||||||||||||||||||||||||
| 18/431 | ASICSdata 1.26.0 (landing page) | Gaëlle Lefort | OK | OK | OK | ||||||||||||||||||||||||||||||
| 19/431 | AssessORFData 1.24.0 (landing page) | Deepank Korandla | OK | OK | ERROR | ||||||||||||||||||||||||||||||
|
| ||||||||||||||||||||||||||||||||||
| Package | Maintainer | INSTALL | BUILD | CHECK | |||||||||||||||||||||||||||||||
| 20/431 | bcellViper 1.42.0 (landing page) | Mariano Javier Alvarez | OK | OK | OK | ||||||||||||||||||||||||||||||
| 21/431 | beadarrayExampleData 1.44.0 (landing page) | Mark Dunning | OK | OK | OK | ||||||||||||||||||||||||||||||
| 22/431 | BeadArrayUseCases 1.44.1 (landing page) | Mike Smith | OK | ERROR | skipped | ||||||||||||||||||||||||||||||
| 23/431 | BeadSorted.Saliva.EPIC 1.14.0 (landing page) | Jonah Fisher | OK | OK | OK | ||||||||||||||||||||||||||||||
| 24/431 | benchmarkfdrData2019 1.20.0 (landing page) | Stephanie Hicks | OK | OK | OK | ||||||||||||||||||||||||||||||
| 25/431 | beta7 1.44.0 (landing page) | Jean Yang | OK | OK | WARNINGS | ||||||||||||||||||||||||||||||
| 26/431 | BioImageDbs 1.14.0 (landing page) | Satoshi Kume | OK | OK | OK | ||||||||||||||||||||||||||||||
| 27/431 | BioPlex 1.12.0 (landing page) | Ludwig Geistlinger | OK | OK | OK | ||||||||||||||||||||||||||||||
| 28/431 | biotmleData 1.30.0 (landing page) | Nima Hejazi | OK | OK | WARNINGS | ||||||||||||||||||||||||||||||
| 29/431 | biscuiteerData 1.20.0 (landing page) | "Jacob Morrison" | OK | OK | OK | ||||||||||||||||||||||||||||||
| 30/431 | bladderbatch 1.44.0 (landing page) | Jeffrey T. Leek | OK | OK | WARNINGS | ||||||||||||||||||||||||||||||
| 31/431 | blimaTestingData 1.26.0 (landing page) | Vojtech Kulvait | OK | OK | OK | ||||||||||||||||||||||||||||||
| 32/431 | BloodCancerMultiOmics2017 1.26.0 (landing page) | Malgorzata Oles | OK | OK | WARNINGS | ||||||||||||||||||||||||||||||
| 33/431 | bodymapRat 1.22.0 (landing page) | Stephanie Hicks | OK | OK | OK | ||||||||||||||||||||||||||||||
| 34/431 | breakpointRdata 1.24.0 (landing page) | David Porubsky | OK | OK | OK | ||||||||||||||||||||||||||||||
| 35/431 | breastCancerMAINZ 1.44.0 (landing page) | Markus Schroeder | OK | OK | WARNINGS | ||||||||||||||||||||||||||||||
| 36/431 | breastCancerNKI 1.44.0 (landing page) | Markus Schroeder | OK | OK | WARNINGS | ||||||||||||||||||||||||||||||
| 37/431 | breastCancerTRANSBIG 1.44.0 (landing page) | Markus Schroeder | OK | OK | WARNINGS | ||||||||||||||||||||||||||||||
| 38/431 | breastCancerUNT 1.44.0 (landing page) | Markus Schroeder | OK | OK | WARNINGS | ||||||||||||||||||||||||||||||
| 39/431 | breastCancerUPP 1.44.0 (landing page) | Markus Schroeder | OK | OK | WARNINGS | ||||||||||||||||||||||||||||||
| 40/431 | breastCancerVDX 1.44.0 (landing page) | Markus Schroeder | OK | OK | WARNINGS | ||||||||||||||||||||||||||||||
| 41/431 | brgedata 1.28.0 (landing page) | Dolors Pelegri-Siso | OK | OK | WARNINGS | ||||||||||||||||||||||||||||||
| 42/431 | bronchialIL13 1.44.0 (landing page) | Vince Carey | OK | OK | OK | ||||||||||||||||||||||||||||||
| 43/431 | bsseqData 0.44.0 (landing page) | Kasper Daniel Hansen | OK | OK | WARNINGS | ||||||||||||||||||||||||||||||
| 44/431 | bugphyzz 1.0.0 (landing page) | Samuel Gamboa | OK | OK | OK | ||||||||||||||||||||||||||||||
|
| ||||||||||||||||||||||||||||||||||
| Package | Maintainer | INSTALL | BUILD | CHECK | |||||||||||||||||||||||||||||||
| 45/431 | cancerdata 1.44.0 (landing page) | Daniel Kosztyla | OK | OK | OK | ||||||||||||||||||||||||||||||
| 46/431 | CardinalWorkflows 1.38.0 (landing page) | Kylie A. Bemis | OK | OK | OK | ||||||||||||||||||||||||||||||
| 47/431 | ccdata 1.32.0 (landing page) | Alex Pickering | OK | OK | WARNINGS | ||||||||||||||||||||||||||||||
| 48/431 | CCl4 1.44.0 (landing page) | Audrey Kauffmann | OK | OK | WARNINGS | ||||||||||||||||||||||||||||||
| 49/431 | celarefData 1.24.0 (landing page) | Sarah Williams | OK | OK | OK | ||||||||||||||||||||||||||||||
| 50/431 | celldex 1.16.0 (landing page) | Aaron Lun | OK | OK | OK | ||||||||||||||||||||||||||||||
| 51/431 | CellMapperData 1.32.0 (landing page) | Brad Nelms | OK | OK | OK | ||||||||||||||||||||||||||||||
| 52/431 | cfToolsData 1.4.0 (landing page) | Ran Hu | OK | OK | OK | ||||||||||||||||||||||||||||||
| 53/431 | ChAMPdata 2.38.0 (landing page) | Yuan Tian | OK | OK | WARNINGS | ||||||||||||||||||||||||||||||
| 54/431 | ChimpHumanBrainData 1.44.0 (landing page) | Sean Davis | OK | OK | OK | ||||||||||||||||||||||||||||||
| 55/431 | chipenrich.data 2.30.0 (landing page) | Kai Wang | OK | OK | WARNINGS | ||||||||||||||||||||||||||||||
| 56/431 | ChIPexoQualExample 1.30.0 (landing page) | Rene Welch | OK | OK | OK | ||||||||||||||||||||||||||||||
| 57/431 | chipseqDBData 1.22.0 (landing page) | Aaron Lun | OK | OK | OK | ||||||||||||||||||||||||||||||
| 58/431 | ChIPXpressData 1.44.0 (landing page) | George Wu | OK | OK | WARNINGS | ||||||||||||||||||||||||||||||
| 59/431 | chromstaRData 1.32.0 (landing page) | Aaron Taudt | OK | OK | WARNINGS | ||||||||||||||||||||||||||||||
| 60/431 | CLL 1.46.0 (landing page) | Robert Gentleman | OK | OK | OK | ||||||||||||||||||||||||||||||
| 61/431 | CLLmethylation 1.26.0 (landing page) | Malgorzata Oles | OK | OK | OK | ||||||||||||||||||||||||||||||
| 62/431 | CluMSIDdata 1.22.0 (landing page) | Tobias Depke | OK | OK | OK | ||||||||||||||||||||||||||||||
| 63/431 | clustifyrdatahub 1.16.0 (landing page) | Kent Riemondy | OK | OK | OK | ||||||||||||||||||||||||||||||
| 64/431 | cMap2data 1.42.0 (landing page) | J. Saez-Rodriguez | OK | OK | WARNINGS | ||||||||||||||||||||||||||||||
| 65/431 | cnvGSAdata 1.42.0 (landing page) | Joseph Lugo | OK | OK | WARNINGS | ||||||||||||||||||||||||||||||
| 66/431 | COHCAPanno 1.42.0 (landing page) | Charles Warden | OK | OK | OK | ||||||||||||||||||||||||||||||
| 67/431 | colonCA 1.48.0 (landing page) | W Sylvia Merk | OK | OK | WARNINGS | ||||||||||||||||||||||||||||||
| 68/431 | CONFESSdata 1.34.0 (landing page) | Diana LOW | OK | OK | OK | ||||||||||||||||||||||||||||||
| 69/431 | ConnectivityMap 1.42.0 (landing page) | Paul Shannon | OK | OK | OK | ||||||||||||||||||||||||||||||
| 70/431 | COPDSexualDimorphism.data 1.42.0 (landing page) | J Fah Sathirapongsasuti | OK | OK | WARNINGS | ||||||||||||||||||||||||||||||
| 71/431 | CopyhelpeR 1.38.0 (landing page) | Oscar Krijgsman | OK | OK | OK | ||||||||||||||||||||||||||||||
| 72/431 | CopyNeutralIMA 1.24.0 (landing page) | Xavier Pastor Hostench | OK | OK | OK | ||||||||||||||||||||||||||||||
| 73/431 | CoSIAdata 1.6.0 (landing page) | Amanda D. Clark | OK | OK | OK | ||||||||||||||||||||||||||||||
| 74/431 | COSMIC.67 1.42.0 (landing page) | Julian Gehring | OK | OK | OK | ||||||||||||||||||||||||||||||
| 75/431 | CRCL18 1.26.0 (landing page) | Claudio Isella | OK | OK | OK | ||||||||||||||||||||||||||||||
| 76/431 | crisprScoreData 1.10.0 (landing page) | Jean-Philippe Fortin | OK | OK | OK | ||||||||||||||||||||||||||||||
| 77/431 | curatedAdipoArray 1.18.0 (landing page) | Mahmoud Ahmed | OK | OK | OK | ||||||||||||||||||||||||||||||
| 78/431 | curatedAdipoChIP 1.22.0 (landing page) | Mahmoud Ahmed | OK | OK | OK | ||||||||||||||||||||||||||||||
| 79/431 | curatedAdipoRNA 1.22.0 (landing page) | Mahmoud Ahmed | OK | OK | WARNINGS | ||||||||||||||||||||||||||||||
| 80/431 | curatedBladderData 1.42.0 (landing page) | Markus Riester | OK | OK | OK | ||||||||||||||||||||||||||||||
| 81/431 | curatedBreastData 2.34.0 (landing page) | Katie Planey | OK | OK | OK | ||||||||||||||||||||||||||||||
| 82/431 | curatedCRCData 2.38.0 (landing page) | Princy Parsana | OK | OK | ERROR | ||||||||||||||||||||||||||||||
| 83/431 | curatedMetagenomicData 3.14.0 (landing page) | Lucas schiffer | OK | OK | OK | ||||||||||||||||||||||||||||||
| 84/431 | curatedOvarianData 1.44.0 (landing page) | Levi Waldron | OK | OK | OK | ||||||||||||||||||||||||||||||
| 85/431 | curatedPCaData 1.2.0 (landing page) | Teemu Daniel Laajala | OK | OK | OK | ||||||||||||||||||||||||||||||
| 86/431 | curatedTBData 2.2.0 (landing page) | Xutao Wang | OK | OK | WARNINGS | ||||||||||||||||||||||||||||||
| 87/431 | curatedTCGAData 1.28.1 (landing page) | Marcel Ramos | OK | OK | OK | ||||||||||||||||||||||||||||||
| 88/431 | CytoMethIC 1.2.0 (landing page) | Jacob Fanale | OK | ERROR | skipped | ||||||||||||||||||||||||||||||
|
| ||||||||||||||||||||||||||||||||||
| Package | Maintainer | INSTALL | BUILD | CHECK | |||||||||||||||||||||||||||||||
| 89/431 | DAPARdata 1.36.0 (landing page) | Samuel Wieczorek | OK | OK | OK | ||||||||||||||||||||||||||||||
| 90/431 | davidTiling 1.46.0 (landing page) | Wolfgang Huber | OK | OK | WARNINGS | ||||||||||||||||||||||||||||||
| 91/431 | depmap 1.20.0 (landing page) | Laurent Gatto | OK | OK | OK | ||||||||||||||||||||||||||||||
| 92/431 | derfinderData 2.24.0 (landing page) | Leonardo Collado-Torres | OK | OK | OK | ||||||||||||||||||||||||||||||
| 93/431 | DeSousa2013 1.42.0 (landing page) | Xin Wang | OK | OK | OK | ||||||||||||||||||||||||||||||
| 94/431 | DExMAdata 1.14.0 (landing page) | Juan Antonio Villatoro-García | OK | OK | OK | ||||||||||||||||||||||||||||||
| 95/431 | diffloopdata 1.34.0 (landing page) | Caleb Lareau | OK | OK | OK | ||||||||||||||||||||||||||||||
| 96/431 | diggitdata 1.38.0 (landing page) | Mariano Javier Alvarez | OK | OK | OK | ||||||||||||||||||||||||||||||
| 97/431 | DLBCL 1.46.0 (landing page) | Marcus Dittrich | OK | OK | WARNINGS | ||||||||||||||||||||||||||||||
| 98/431 | Mike Smith | OK | ERROR | skipped | |||||||||||||||||||||||||||||||
| 99/431 | DMRcatedata 2.24.0 (landing page) | Tim Peters | OK | OK | OK | ||||||||||||||||||||||||||||||
| 100/431 | DNAZooData 1.6.0 (landing page) | Jacques Serizay | OK | OK | OK | ||||||||||||||||||||||||||||||
| 101/431 | DonaPLLP2013 1.44.0 (landing page) | Joseph D. Barry | OK | OK | OK | ||||||||||||||||||||||||||||||
| 102/431 | dorothea 1.18.0 (landing page) | Pau Badia-i-Mompel | OK | OK | OK | ||||||||||||||||||||||||||||||
| 103/431 | dressCheck 0.44.0 (landing page) | Vincent Carey | OK | OK | OK | ||||||||||||||||||||||||||||||
| 104/431 | DropletTestFiles 1.16.0 (landing page) | Aaron Lun | OK | OK | OK | ||||||||||||||||||||||||||||||
| 105/431 | DrugVsDiseasedata 1.42.0 (landing page) | J. Saez-Rodriguez | OK | OK | OK | ||||||||||||||||||||||||||||||
| 106/431 | DuoClustering2018 1.24.0 (landing page) | Angelo Duò | OK | OK | OK | ||||||||||||||||||||||||||||||
| 107/431 | DvDdata 1.42.0 (landing page) | J. Saez-Rodriguez | OK | OK | WARNINGS | ||||||||||||||||||||||||||||||
| 108/431 | dyebiasexamples 1.46.0 (landing page) | Philip Lijnzaad | OK | OK | WARNINGS | ||||||||||||||||||||||||||||||
|
| ||||||||||||||||||||||||||||||||||
| Package | Maintainer | INSTALL | BUILD | CHECK | |||||||||||||||||||||||||||||||
| 109/431 | easierData 1.12.0 (landing page) | Oscar Lapuente-Santana | OK | OK | OK | ||||||||||||||||||||||||||||||
| 110/431 | EatonEtAlChIPseq 0.44.0 (landing page) | Patrick Aboyoun | OK | OK | WARNINGS | ||||||||||||||||||||||||||||||
| 111/431 | ecoliLeucine 1.46.0 (landing page) | Laurent Gautier | OK | OK | WARNINGS | ||||||||||||||||||||||||||||||
| 112/431 | EGSEAdata 1.34.0 (landing page) | Monther Alhamdoosh | OK | OK | OK | ||||||||||||||||||||||||||||||
| 113/431 | ELMER.data 2.30.0 (landing page) | Tiago Chedraoui Silva | OK | OK | WARNINGS | ||||||||||||||||||||||||||||||
| 114/431 | emtdata 1.14.0 (landing page) | Malvika D. Kharbanda | OK | OK | OK | ||||||||||||||||||||||||||||||
| 115/431 | eoPredData 1.0.0 (landing page) | Victor Yuan | OK | OK | OK | ||||||||||||||||||||||||||||||
| 116/431 | EpiMix.data 1.8.0 (landing page) | Yuanning Zheng | OK | OK | WARNINGS | ||||||||||||||||||||||||||||||
| 117/431 | epimutacionsData 1.10.0 (landing page) | Leire Abarrategui | OK | OK | OK | ||||||||||||||||||||||||||||||
| 118/431 | EpipwR.data 1.0.0 (landing page) | Jackson Barth | OK | OK | OK | ||||||||||||||||||||||||||||||
| 119/431 | estrogen 1.52.0 (landing page) | Wolfgang Huber | OK | OK | OK | ||||||||||||||||||||||||||||||
| 120/431 | etec16s 1.34.0 (landing page) | Joseph N. Paulson | OK | OK | OK | ||||||||||||||||||||||||||||||
| 121/431 | ewceData 1.14.0 (landing page) | Alan Murphy | OK | ERROR | skipped | ||||||||||||||||||||||||||||||
|
| ||||||||||||||||||||||||||||||||||
| Package | Maintainer | INSTALL | BUILD | CHECK | |||||||||||||||||||||||||||||||
| 122/431 | faahKO 1.46.0 (landing page) | Steffen Neumann | OK | OK | OK | ||||||||||||||||||||||||||||||
| 123/431 | fabiaData 1.44.0 (landing page) | Sepp Hochreiter | OK | OK | OK | ||||||||||||||||||||||||||||||
| 124/431 | FANTOM3and4CAGE 1.42.0 (landing page) | Vanja Haberle | OK | OK | OK | ||||||||||||||||||||||||||||||
| 125/431 | ffpeExampleData 1.44.0 (landing page) | Levi Waldron | OK | OK | OK | ||||||||||||||||||||||||||||||
| 126/431 | fibroEset 1.48.0 (landing page) | Sylvia Merk | OK | OK | WARNINGS | ||||||||||||||||||||||||||||||
| 127/431 | FieldEffectCrc 1.16.0 (landing page) | Christopher Dampier | OK | OK | OK | ||||||||||||||||||||||||||||||
| 128/431 | FIs 1.34.0 (landing page) | Herbert Braselmann | OK | OK | OK | ||||||||||||||||||||||||||||||
| 129/431 | fission 1.26.0 (landing page) | Michael Love | OK | OK | OK | ||||||||||||||||||||||||||||||
| 130/431 | Fletcher2013a 1.42.0 (landing page) | Mauro Castro | OK | OK | OK | ||||||||||||||||||||||||||||||
| 131/431 | Fletcher2013b 1.42.0 (landing page) | Mauro Castro | OK | OK | WARNINGS | ||||||||||||||||||||||||||||||
| 132/431 | flowPloidyData 1.32.0 (landing page) | Tyler Smith | OK | OK | OK | ||||||||||||||||||||||||||||||
| 133/431 | FlowSorted.Blood.450k 1.44.0 (landing page) | Andrew E Jaffe | OK | OK | WARNINGS | ||||||||||||||||||||||||||||||
| 134/431 | FlowSorted.Blood.EPIC 2.10.0 (landing page) | Lucas A. Salas | OK | OK | OK | ||||||||||||||||||||||||||||||
| 135/431 | FlowSorted.CordBlood.450k 1.34.0 (landing page) | Shan V. Andrews | OK | OK | WARNINGS | ||||||||||||||||||||||||||||||
| 136/431 | FlowSorted.CordBloodCombined.450k 1.22.0 (landing page) | Lucas A. Salas | OK | OK | OK | ||||||||||||||||||||||||||||||
| 137/431 | FlowSorted.CordBloodNorway.450k 1.32.0 (landing page) | kristina gervin | OK | OK | WARNINGS | ||||||||||||||||||||||||||||||
| 138/431 | FlowSorted.DLPFC.450k 1.42.0 (landing page) | Andrew E Jaffe | OK | OK | WARNINGS | ||||||||||||||||||||||||||||||
| 139/431 | flowWorkspaceData 3.18.0 (landing page) | Mike Jiang | OK | OK | OK | ||||||||||||||||||||||||||||||
| 140/431 | fourDNData 1.6.0 (landing page) | Jacques Serizay | OK | OK | OK | ||||||||||||||||||||||||||||||
| 141/431 | frmaExampleData 1.42.0 (landing page) | Matthew N. McCall | OK | OK | WARNINGS | ||||||||||||||||||||||||||||||
| 142/431 | furrowSeg 1.34.0 (landing page) | Joseph Barry | OK | OK | WARNINGS | ||||||||||||||||||||||||||||||
|
| ||||||||||||||||||||||||||||||||||
| Package | Maintainer | INSTALL | BUILD | CHECK | |||||||||||||||||||||||||||||||
| 143/431 | gageData 2.44.0 (landing page) | Weijun Luo | OK | OK | OK | ||||||||||||||||||||||||||||||
| 144/431 | gaschYHS 1.44.0 (landing page) | Vince Carey | OK | OK | OK | ||||||||||||||||||||||||||||||
| 145/431 | gcspikelite 1.44.0 (landing page) | Mark Robinson | OK | OK | WARNINGS | ||||||||||||||||||||||||||||||
| 146/431 | gDNAinRNAseqData 1.6.0 (landing page) | Robert Castelo | OK | OK | OK | ||||||||||||||||||||||||||||||
| 147/431 | gDRtestData 1.4.1 (landing page) | Arkadiusz Gladki | OK | OK | OK | ||||||||||||||||||||||||||||||
| 148/431 | geneLenDataBase 1.42.0 (landing page) | Federico Marini | OK | OK | OK | ||||||||||||||||||||||||||||||
| 149/431 | genomationData 1.38.0 (landing page) | Vedran Franke | OK | OK | OK | ||||||||||||||||||||||||||||||
| 150/431 | GenomicDistributionsData 1.14.0 (landing page) | Kristyna Kupkova | OK | OK | OK | ||||||||||||||||||||||||||||||
| 151/431 | GeuvadisTranscriptExpr 1.34.0 (landing page) | Malgorzata Nowicka | OK | OK | OK | ||||||||||||||||||||||||||||||
| 152/431 | GIGSEAdata 1.24.0 (landing page) | Shijia Zhu | OK | OK | WARNINGS | ||||||||||||||||||||||||||||||
| 153/431 | golubEsets 1.48.0 (landing page) | Vince Carey | OK | OK | OK | ||||||||||||||||||||||||||||||
| 154/431 | gpaExample 1.18.0 (landing page) | Dongjun Chung | OK | OK | OK | ||||||||||||||||||||||||||||||
| 155/431 | grndata 1.38.0 (landing page) | Pau Bellot | OK | OK | WARNINGS | ||||||||||||||||||||||||||||||
| 156/431 | GSBenchMark 1.26.0 (landing page) | Bahman Afsari | OK | OK | OK | ||||||||||||||||||||||||||||||
| 157/431 | GSE103322 1.12.0 (landing page) | Mariano Alvarez | OK | OK | OK | ||||||||||||||||||||||||||||||
| 158/431 | GSE13015 1.14.0 (landing page) | Darawan Rinchai | OK | OK | OK | ||||||||||||||||||||||||||||||
| 159/431 | GSE159526 1.12.0 (landing page) | Victor Yuan | OK | OK | OK | ||||||||||||||||||||||||||||||
| 160/431 | GSE62944 1.34.0 (landing page) | Bioconductor Package Maintainer | OK | OK | OK | ||||||||||||||||||||||||||||||
| 161/431 | GSVAdata 1.42.0 (landing page) | Robert Castelo | OK | OK | OK | ||||||||||||||||||||||||||||||
| 162/431 | GWASdata 1.44.0 (landing page) | Stephanie Gogarten | OK | OK | OK | ||||||||||||||||||||||||||||||
|
| ||||||||||||||||||||||||||||||||||
| Package | Maintainer | INSTALL | BUILD | CHECK | |||||||||||||||||||||||||||||||
| 163/431 | h5vcData 2.26.0 (landing page) | Paul Theodor Pyl | OK | OK | OK | ||||||||||||||||||||||||||||||
| 164/431 | hapmap100khind 1.48.0 (landing page) | Benilton Carvalho | OK | OK | OK | ||||||||||||||||||||||||||||||
| 165/431 | hapmap100kxba 1.48.0 (landing page) | Benilton Carvalho | OK | OK | OK | ||||||||||||||||||||||||||||||
| 166/431 | hapmap500knsp 1.48.0 (landing page) | Benilton Carvalho | OK | OK | OK | ||||||||||||||||||||||||||||||
| 167/431 | hapmap500ksty 1.48.0 (landing page) | Benilton Carvalho | OK | OK | OK | ||||||||||||||||||||||||||||||
| 168/431 | hapmapsnp5 1.48.0 (landing page) | Benilton Carvalho | OK | OK | OK | ||||||||||||||||||||||||||||||
| 169/431 | hapmapsnp6 1.48.0 (landing page) | Benilton Carvalho | OK | OK | OK | ||||||||||||||||||||||||||||||
| 170/431 | harbChIP 1.44.0 (landing page) | VJ Carey | OK | OK | OK | ||||||||||||||||||||||||||||||
| 171/431 | HarmanData 1.34.0 (landing page) | Jason Ross | OK | OK | OK | ||||||||||||||||||||||||||||||
| 172/431 | HarmonizedTCGAData 1.28.0 (landing page) | Tianle Ma | OK | OK | OK | ||||||||||||||||||||||||||||||
| 173/431 | HCAData 1.22.0 (landing page) | Federico Marini | OK | OK | OK | ||||||||||||||||||||||||||||||
| 174/431 | HCATonsilData 1.4.0 (landing page) | Ramon Massoni-Badosa | OK | OK | OK | ||||||||||||||||||||||||||||||
| 175/431 | HD2013SGI 1.46.0 (landing page) | Mike Smith | OK | OK | OK | ||||||||||||||||||||||||||||||
| 176/431 | HDCytoData 1.26.0 (landing page) | Lukas M. Weber | OK | OK | OK | ||||||||||||||||||||||||||||||
| 177/431 | healthyControlsPresenceChecker 1.10.0 (landing page) | Davide Chicco | OK | ERROR | skipped | ||||||||||||||||||||||||||||||
| 178/431 | healthyFlowData 1.44.0 (landing page) | Ariful Azad | OK | OK | OK | ||||||||||||||||||||||||||||||
| 179/431 | HEEBOdata 1.44.0 (landing page) | Agnes Paquet | OK | OK | WARNINGS | ||||||||||||||||||||||||||||||
| 180/431 | HelloRangesData 1.32.0 (landing page) | Michael Lawrence | OK | OK | OK | ||||||||||||||||||||||||||||||
| 181/431 | hgu133abarcodevecs 1.44.0 (landing page) | Matthew N. McCall | OK | OK | OK | ||||||||||||||||||||||||||||||
| 182/431 | hgu133plus2barcodevecs 1.44.0 (landing page) | Matthew N. McCall | OK | OK | OK | ||||||||||||||||||||||||||||||
| 183/431 | hgu133plus2CellScore 1.26.0 (landing page) | Nancy Mah | OK | OK | WARNINGS | ||||||||||||||||||||||||||||||
| 184/431 | hgu2beta7 1.46.0 (landing page) | Bioconductor Package Maintainer | OK | OK | WARNINGS | ||||||||||||||||||||||||||||||
| 185/431 | HiBED 1.4.0 (landing page) | Ze Zhang | OK | OK | OK | ||||||||||||||||||||||||||||||
| 186/431 | HiCDataHumanIMR90 1.26.0 (landing page) | Nicolas Servant | OK | OK | WARNINGS | ||||||||||||||||||||||||||||||
| 187/431 | HiCDataLymphoblast 1.42.0 (landing page) | Borbala Mifsud | OK | OK | OK | ||||||||||||||||||||||||||||||
| 188/431 | HiContactsData 1.8.0 (landing page) | Jacques Serizay | OK | OK | OK | ||||||||||||||||||||||||||||||
| 189/431 | HighlyReplicatedRNASeq 1.18.0 (landing page) | Constantin Ahlmann-Eltze | OK | OK | OK | ||||||||||||||||||||||||||||||
| 190/431 | Hiiragi2013 1.42.0 (landing page) | Andrzej Oles | OK | ERROR | skipped | ||||||||||||||||||||||||||||||
| 191/431 | HIVcDNAvantWout03 1.46.0 (landing page) | Chris Fraley | OK | OK | WARNINGS | ||||||||||||||||||||||||||||||
| 192/431 | HMP16SData 1.26.0 (landing page) | Lucas schiffer | OK | OK | OK | ||||||||||||||||||||||||||||||
| 193/431 | HMP2Data 1.20.0 (landing page) | John Stansfield | OK | OK | OK | ||||||||||||||||||||||||||||||
| 194/431 | homosapienDEE2CellScore 1.2.0 (landing page) | Justin Marsh | OK | OK | OK | ||||||||||||||||||||||||||||||
| 195/431 | HSMMSingleCell 1.26.0 (landing page) | Cole Trapnell | OK | OK | WARNINGS | ||||||||||||||||||||||||||||||
| 196/431 | HumanAffyData 1.32.0 (landing page) | Brad Nelms | OK | OK | OK | ||||||||||||||||||||||||||||||
| 197/431 | humanStemCell 0.46.0 (landing page) | R. Gentleman | OK | OK | WARNINGS | ||||||||||||||||||||||||||||||
|
| ||||||||||||||||||||||||||||||||||
| Package | Maintainer | INSTALL | BUILD | CHECK | |||||||||||||||||||||||||||||||
| 198/431 | IHWpaper 1.34.0 (landing page) | Nikos Ignatiadis | OK | OK | OK | ||||||||||||||||||||||||||||||
| 199/431 | Illumina450ProbeVariants.db 1.42.0 (landing page) | Tiffany Morris | OK | OK | OK | ||||||||||||||||||||||||||||||
| 200/431 | IlluminaDataTestFiles 1.44.0 (landing page) | Kasper Daniel Hansen | OK | OK | OK | ||||||||||||||||||||||||||||||
| 201/431 | imcdatasets 1.14.0 (landing page) | Nicolas Damond | OK | OK | OK | ||||||||||||||||||||||||||||||
| 202/431 | ITALICSData 2.44.0 (landing page) | Guillem Rigaill | OK | OK | WARNINGS | ||||||||||||||||||||||||||||||
| 203/431 | Iyer517 1.48.0 (landing page) | Vince Carey | OK | OK | OK | ||||||||||||||||||||||||||||||
|
| ||||||||||||||||||||||||||||||||||
| Package | Maintainer | INSTALL | BUILD | CHECK | |||||||||||||||||||||||||||||||
| 204/431 | JASPAR2014 1.42.0 (landing page) | Ge Tan | OK | OK | WARNINGS | ||||||||||||||||||||||||||||||
| 205/431 | JASPAR2016 1.34.0 (landing page) | Ge Tan | OK | OK | OK | ||||||||||||||||||||||||||||||
| 206/431 | JohnsonKinaseData 1.2.0 (landing page) | Florian Geier | OK | OK | OK | ||||||||||||||||||||||||||||||
|
| ||||||||||||||||||||||||||||||||||
| Package | Maintainer | INSTALL | BUILD | CHECK | |||||||||||||||||||||||||||||||
| 207/431 | KEGGandMetacoreDzPathwaysGEO 1.26.0 (landing page) | Gaurav Bhatti | OK | OK | OK | ||||||||||||||||||||||||||||||
| 208/431 | KEGGdzPathwaysGEO 1.44.0 (landing page) | Gaurav Bhatti | OK | OK | OK | ||||||||||||||||||||||||||||||
| 209/431 | kidpack 1.48.0 (landing page) | Wolfgang Huber | OK | OK | WARNINGS | ||||||||||||||||||||||||||||||
| 210/431 | KOdata 1.32.0 (landing page) | Shana White | OK | OK | WARNINGS | ||||||||||||||||||||||||||||||
|
| ||||||||||||||||||||||||||||||||||
| Package | Maintainer | INSTALL | BUILD | CHECK | |||||||||||||||||||||||||||||||
| 211/431 | leeBamViews 1.42.0 (landing page) | VJ Carey | OK | OK | OK | ||||||||||||||||||||||||||||||
| 212/431 | LegATo 1.0.0 (landing page) | Aubrey Odom | OK | OK | OK | ||||||||||||||||||||||||||||||
| 213/431 | leukemiasEset 1.42.0 (landing page) | Sara Aibar | OK | OK | OK | ||||||||||||||||||||||||||||||
| 214/431 | LiebermanAidenHiC2009 0.44.0 (landing page) | Felix Klein | OK | OK | WARNINGS | ||||||||||||||||||||||||||||||
| 215/431 | ListerEtAlBSseq 1.38.0 (landing page) | Mattia Furlan | OK | OK | WARNINGS | ||||||||||||||||||||||||||||||
| 216/431 | LRcellTypeMarkers 1.14.0 (landing page) | Wenjing Ma | OK | OK | OK | ||||||||||||||||||||||||||||||
| 217/431 | lumiBarnes 1.46.0 (landing page) | Pan Du | OK | OK | WARNINGS | ||||||||||||||||||||||||||||||
| 218/431 | LungCancerACvsSCCGEO 1.42.0 (landing page) | Adi Laurentiu Tarca | OK | OK | OK | ||||||||||||||||||||||||||||||
| 219/431 | LungCancerLines 0.44.0 (landing page) | Michael Lawrence | OK | OK | OK | ||||||||||||||||||||||||||||||
| 220/431 | lungExpression 0.44.0 (landing page) | Robert Scharpf | OK | OK | OK | ||||||||||||||||||||||||||||||
| 221/431 | lydata 1.32.0 (landing page) | Alex Pickering | OK | OK | OK | ||||||||||||||||||||||||||||||
|
| ||||||||||||||||||||||||||||||||||
| Package | Maintainer | INSTALL | BUILD | CHECK | |||||||||||||||||||||||||||||||
| 222/431 | M3DExampleData 1.32.0 (landing page) | Tallulah Andrews | OK | OK | WARNINGS | ||||||||||||||||||||||||||||||
| 223/431 | macrophage 1.22.0 (landing page) | Michael Love | OK | OK | WARNINGS | ||||||||||||||||||||||||||||||
| 224/431 | MACSdata 1.14.0 (landing page) | Qiang Hu | OK | OK | OK | ||||||||||||||||||||||||||||||
| 225/431 | mammaPrintData 1.42.0 (landing page) | Luigi Marchionni | OK | OK | OK | ||||||||||||||||||||||||||||||
| 226/431 | maqcExpression4plex 1.50.0 (landing page) | Benilton Carvalho | OK | OK | OK | ||||||||||||||||||||||||||||||
| 227/431 | MAQCsubset 1.44.0 (landing page) | VJ Carey | OK | OK | WARNINGS | ||||||||||||||||||||||||||||||
| 228/431 | marinerData 1.6.0 (landing page) | Eric Davis | OK | OK | OK | ||||||||||||||||||||||||||||||
| 229/431 | mCSEAdata 1.26.1 (landing page) | Jordi Martorell Marugán | OK | OK | OK | ||||||||||||||||||||||||||||||
| 230/431 | mcsurvdata 1.24.0 (landing page) | Adria Caballe Mestres | OK | OK | OK | ||||||||||||||||||||||||||||||
| 231/431 | MEDIPSData 1.42.0 (landing page) | Lukas Chavez | OK | OK | WARNINGS | ||||||||||||||||||||||||||||||
| 232/431 | MEEBOdata 1.44.0 (landing page) | Agnes Paquet | OK | OK | WARNINGS | ||||||||||||||||||||||||||||||
| 233/431 | MerfishData 1.8.0 (landing page) | Ludwig Geistlinger | OK | OK | OK | ||||||||||||||||||||||||||||||
| 234/431 | MetaGxBreast 1.26.0 (landing page) | Benjamin Haibe-Kains | OK | OK | OK | ||||||||||||||||||||||||||||||
| 235/431 | MetaGxOvarian 1.26.0 (landing page) | Benjamin Haibe-Kains | OK | ERROR | skipped | ||||||||||||||||||||||||||||||
| 236/431 | MetaGxPancreas 1.26.0 (landing page) | Benjamin Haibe-Kains | OK | ERROR | skipped | ||||||||||||||||||||||||||||||
| 237/431 | metaMSdata 1.42.0 (landing page) | Yann Guitton | OK | OK | OK | ||||||||||||||||||||||||||||||
| 238/431 | MetaScope 1.6.0 (landing page) | Aubrey Odom | OK | ERROR | skipped | ||||||||||||||||||||||||||||||
| 239/431 | MethylAidData 1.38.0 (landing page) | M. van Iterson | OK | OK | OK | ||||||||||||||||||||||||||||||
| 240/431 | methylclockData 1.14.0 (landing page) | Dolors Pelegri-Siso | OK | OK | OK | ||||||||||||||||||||||||||||||
| 241/431 | MethylSeqData 1.16.0 (landing page) | Peter Hickey | OK | OK | OK | ||||||||||||||||||||||||||||||
| 242/431 | MicrobiomeBenchmarkData 1.8.0 (landing page) | Samuel Gamboa | OK | OK | OK | ||||||||||||||||||||||||||||||
| 243/431 | microbiomeDataSets 1.14.0 (landing page) | Leo Lahti | OK | OK | OK | ||||||||||||||||||||||||||||||
| 244/431 | microRNAome 1.28.0 (landing page) | Matthew N. McCall | OK | OK | WARNINGS | ||||||||||||||||||||||||||||||
| 245/431 | minfiData 0.52.0 (landing page) | Kasper Daniel Hansen | OK | OK | WARNINGS | ||||||||||||||||||||||||||||||
| 246/431 | minfiDataEPIC 1.32.0 (landing page) | Kasper Daniel Hansen | OK | OK | WARNINGS | ||||||||||||||||||||||||||||||
| 247/431 | minionSummaryData 1.36.0 (landing page) | Mike Smith | OK | OK | WARNINGS | ||||||||||||||||||||||||||||||
| 248/431 | miRcompData 1.36.0 (landing page) | Matthew N. McCall | OK | OK | OK | ||||||||||||||||||||||||||||||
| 249/431 | miRNATarget 1.44.0 (landing page) | Y-h. Taguchi | OK | OK | OK | ||||||||||||||||||||||||||||||
| 250/431 | MMDiffBamSubset 1.42.0 (landing page) | Gabriele Schweikert | OK | OK | OK | ||||||||||||||||||||||||||||||
| 251/431 | MOFAdata 1.22.0 (landing page) | Britta Velten | OK | OK | OK | ||||||||||||||||||||||||||||||
| 252/431 | mosaicsExample 1.44.0 (landing page) | Dongjun Chung | OK | OK | WARNINGS | ||||||||||||||||||||||||||||||
| 253/431 | mouse4302barcodevecs 1.44.0 (landing page) | Matthew N. McCall | OK | OK | OK | ||||||||||||||||||||||||||||||
| 254/431 | MouseAgingData 1.2.0 (landing page) | Tram Nguyen | OK | OK | OK | ||||||||||||||||||||||||||||||
| 255/431 | MouseGastrulationData 1.20.0 (landing page) | Jonathan Griffiths | OK | OK | OK | ||||||||||||||||||||||||||||||
| 256/431 | MouseThymusAgeing 1.14.0 (landing page) | Mike Morgan | OK | OK | OK | ||||||||||||||||||||||||||||||
| 257/431 | msd16s 1.26.0 (landing page) | Joseph N. Paulson | OK | OK | OK | ||||||||||||||||||||||||||||||
| 258/431 | msdata 0.46.0 (landing page) | Steffen Neumann | OK | OK | OK | ||||||||||||||||||||||||||||||
| 259/431 | msigdb 1.14.0 (landing page) | Dharmesh D. Bhuva | OK | OK | WARNINGS | ||||||||||||||||||||||||||||||
| 260/431 | MSMB 1.24.0 (landing page) | Wolfgang Huber | OK | OK | OK | ||||||||||||||||||||||||||||||
| 261/431 | msPurityData 1.34.0 (landing page) | Thomas N. Lawson | OK | OK | OK | ||||||||||||||||||||||||||||||
| 262/431 | msqc1 1.34.0 (landing page) | Christian Panse | OK | OK | OK | ||||||||||||||||||||||||||||||
| 263/431 | mtbls2 1.36.0 (landing page) | Steffen Neumann | OK | OK | WARNINGS | ||||||||||||||||||||||||||||||
| 264/431 | MUGAExampleData 1.26.0 (landing page) | Daniel Gatti | OK | OK | OK | ||||||||||||||||||||||||||||||
| 265/431 | muleaData 1.2.0 (landing page) | Eszter Ari | OK | OK | WARNINGS | ||||||||||||||||||||||||||||||
| 266/431 | multiWGCNAdata 1.4.0 (landing page) | Dario Tommasini | OK | OK | OK | ||||||||||||||||||||||||||||||
| 267/431 | muscData 1.20.0 (landing page) | Helena L. Crowell | OK | OK | WARNINGS | ||||||||||||||||||||||||||||||
| 268/431 | mvoutData 1.42.0 (landing page) | VJ Carey | OK | OK | OK | ||||||||||||||||||||||||||||||
|
| ||||||||||||||||||||||||||||||||||
| Package | Maintainer | INSTALL | BUILD | CHECK | |||||||||||||||||||||||||||||||
| 269/431 | NanoporeRNASeq 1.16.0 (landing page) | Ying Chen | OK | OK | OK | ||||||||||||||||||||||||||||||
| 270/431 | nanotubes 1.22.0 (landing page) | Malte Thodberg | OK | OK | OK | ||||||||||||||||||||||||||||||
| 271/431 | NCIgraphData 1.42.0 (landing page) | Laurent Jacob | OK | OK | WARNINGS | ||||||||||||||||||||||||||||||
| 272/431 | NestLink 1.22.0 (landing page) | Lennart Opitz | OK | OK | OK | ||||||||||||||||||||||||||||||
| 273/431 | NetActivityData 1.8.0 (landing page) | Carlos Ruiz-Arenas | OK | OK | OK | ||||||||||||||||||||||||||||||
| 274/431 | Neve2006 0.44.0 (landing page) | VJ Carey | OK | OK | OK | ||||||||||||||||||||||||||||||
| 275/431 | NGScopyData 1.26.0 (landing page) | Xiaobei Zhao | OK | OK | OK | ||||||||||||||||||||||||||||||
| 276/431 | nullrangesData 1.12.0 (landing page) | Michael Love | OK | OK | OK | ||||||||||||||||||||||||||||||
| 277/431 | NxtIRFdata 1.12.0 (landing page) | Alex Chit Hei Wong | OK | OK | OK | ||||||||||||||||||||||||||||||
|
| ||||||||||||||||||||||||||||||||||
| Package | Maintainer | INSTALL | BUILD | CHECK | |||||||||||||||||||||||||||||||
| 278/431 | ObMiTi 1.14.0 (landing page) | Omar Elashkar | OK | OK | OK | ||||||||||||||||||||||||||||||
| 279/431 | oct4 1.22.0 (landing page) | Michael Love | OK | OK | OK | ||||||||||||||||||||||||||||||
| 280/431 | octad.db 1.8.0 (landing page) | E. Chekalin | OK | OK | OK | ||||||||||||||||||||||||||||||
| 281/431 | OMICsPCAdata 1.24.0 (landing page) | Subhadeep Das | OK | OK | WARNINGS | ||||||||||||||||||||||||||||||
| 282/431 | OnassisJavaLibs 1.28.0 (landing page) | Eugenia Galeota | OK | OK | OK | ||||||||||||||||||||||||||||||
| 283/431 | optimalFlowData 1.18.0 (landing page) | Hristo Inouzhe | OK | OK | WARNINGS | ||||||||||||||||||||||||||||||
| 284/431 | orthosData 1.4.0 (landing page) | Panagiotis Papasaikas | OK | OK | OK | ||||||||||||||||||||||||||||||
|
| ||||||||||||||||||||||||||||||||||
| Package | Maintainer | INSTALL | BUILD | CHECK | |||||||||||||||||||||||||||||||
| 285/431 | parathyroidSE 1.44.0 (landing page) | Michael Love | OK | OK | OK | ||||||||||||||||||||||||||||||
| 286/431 | pasilla 1.34.0 (landing page) | Alejandro Reyes | OK | OK | OK | ||||||||||||||||||||||||||||||
| 287/431 | pasillaBamSubset 0.44.0 (landing page) | Hervé Pagès | OK | OK | OK | ||||||||||||||||||||||||||||||
| 288/431 | PasillaTranscriptExpr 1.34.0 (landing page) | Malgorzata Nowicka | OK | OK | OK | ||||||||||||||||||||||||||||||
| 289/431 | PathNetData 1.42.0 (landing page) | Ludwig Geistlinger | OK | OK | OK | ||||||||||||||||||||||||||||||
| 290/431 | PCHiCdata 1.34.0 (landing page) | Mikhail Spivakov | OK | OK | WARNINGS | ||||||||||||||||||||||||||||||
| 291/431 | pd.atdschip.tiling 0.44.0 (landing page) | Kristof De Beuf | OK | OK | WARNINGS | ||||||||||||||||||||||||||||||
| 292/431 | pepDat 1.26.0 (landing page) | Renan Sauteraud | OK | OK | OK | ||||||||||||||||||||||||||||||
| 293/431 | PepsNMRData 1.24.0 (landing page) | Manon Martin | OK | OK | WARNINGS | ||||||||||||||||||||||||||||||
| 294/431 | PhyloProfileData 1.20.0 (landing page) | Vinh Tran | OK | OK | OK | ||||||||||||||||||||||||||||||
| 295/431 | plotgardenerData 1.12.0 (landing page) | Nicole Kramer | OK | OK | WARNINGS | ||||||||||||||||||||||||||||||
| 296/431 | prebsdata 1.42.0 (landing page) | Karolis Uziela | OK | OK | OK | ||||||||||||||||||||||||||||||
| 297/431 | preciseTADhub 1.14.0 (landing page) | Mikhail Dozmorov | OK | OK | OK | ||||||||||||||||||||||||||||||
| 298/431 | PREDAsampledata 0.46.0 (landing page) | Francesco Ferrari | OK | OK | OK | ||||||||||||||||||||||||||||||
| 299/431 | ProData 1.44.0 (landing page) | Xiaochun Li | OK | OK | OK | ||||||||||||||||||||||||||||||
| 300/431 | pRolocdata 1.44.1 (landing page) | Lisa Breckels | OK | OK | OK | ||||||||||||||||||||||||||||||
| 301/431 | prostateCancerCamcap 1.34.0 (landing page) | Mark Dunning | OK | OK | WARNINGS | ||||||||||||||||||||||||||||||
| 302/431 | prostateCancerGrasso 1.34.0 (landing page) | Mark Dunning | OK | OK | WARNINGS | ||||||||||||||||||||||||||||||
| 303/431 | prostateCancerStockholm 1.34.0 (landing page) | Mark Dunning | OK | OK | WARNINGS | ||||||||||||||||||||||||||||||
| 304/431 | prostateCancerTaylor 1.34.0 (landing page) | Mark Dunning | OK | OK | WARNINGS | ||||||||||||||||||||||||||||||
| 305/431 | prostateCancerVarambally 1.34.0 (landing page) | Mark Dunning | OK | OK | WARNINGS | ||||||||||||||||||||||||||||||
| 306/431 | ProteinGymR 1.0.0 (landing page) | Tram Nguyen | OK | OK | OK | ||||||||||||||||||||||||||||||
| 307/431 | ptairData 1.14.0 (landing page) | camille Roquencourt | OK | OK | OK | ||||||||||||||||||||||||||||||
| 308/431 | PtH2O2lipids 1.32.0 (landing page) | James Collins | OK | OK | WARNINGS | ||||||||||||||||||||||||||||||
| 309/431 | pumadata 2.42.0 (landing page) | Xuejun liu | OK | OK | OK | ||||||||||||||||||||||||||||||
| 310/431 | PWMEnrich.Dmelanogaster.background 4.40.0 (landing page) | Diego Diez | OK | OK | OK | ||||||||||||||||||||||||||||||
| 311/431 | PWMEnrich.Hsapiens.background 4.40.0 (landing page) | Diego Diez | OK | OK | OK | ||||||||||||||||||||||||||||||
| 312/431 | PWMEnrich.Mmusculus.background 4.40.0 (landing page) | Diego Diez | OK | OK | OK | ||||||||||||||||||||||||||||||
|
| ||||||||||||||||||||||||||||||||||
| Package | Maintainer | INSTALL | BUILD | CHECK | |||||||||||||||||||||||||||||||
| 313/431 | QDNAseq.hg19 1.36.0 (landing page) | Daoud Sie | OK | OK | OK | ||||||||||||||||||||||||||||||
| 314/431 | QDNAseq.mm10 1.36.0 (landing page) | Daoud Sie | OK | OK | OK | ||||||||||||||||||||||||||||||
| 315/431 | qPLEXdata 1.24.0 (landing page) | Kamal Kishore Developer | OK | OK | WARNINGS | ||||||||||||||||||||||||||||||
| 316/431 | QUBICdata 1.34.0 (landing page) | Yu Zhang | OK | OK | OK | ||||||||||||||||||||||||||||||
|
| ||||||||||||||||||||||||||||||||||
| Package | Maintainer | INSTALL | BUILD | CHECK | |||||||||||||||||||||||||||||||
| 317/431 | raerdata 1.4.0 (landing page) | Kent Riemondy | OK | OK | OK | ||||||||||||||||||||||||||||||
| 318/431 | rcellminerData 2.28.0 (landing page) | Augustin Luna | OK | OK | WARNINGS | ||||||||||||||||||||||||||||||
| 319/431 | RcisTarget.hg19.motifDBs.cisbpOnly.500bp 1.26.0 (landing page) | Sara Aibar | OK | OK | WARNINGS | ||||||||||||||||||||||||||||||
| 320/431 | ReactomeGSA.data 1.20.0 (landing page) | Johannes Griss | OK | OK | WARNINGS | ||||||||||||||||||||||||||||||
| 321/431 | RegParallel 1.24.0 (landing page) | Kevin Blighe | OK | ERROR | skipped | ||||||||||||||||||||||||||||||
| 322/431 | RforProteomics 1.44.0 (landing page) | Laurent Gatto | OK | OK | WARNINGS | ||||||||||||||||||||||||||||||
| 323/431 | RGMQLlib 1.26.0 (landing page) | Simone Pallotta | OK | OK | OK | ||||||||||||||||||||||||||||||
| 324/431 | rheumaticConditionWOLLBOLD 1.44.0 (landing page) | Alejandro Quiroz-Zarate | OK | OK | OK | ||||||||||||||||||||||||||||||
| 325/431 | RITANdata 1.30.0 (landing page) | Michael Zimmermann | OK | OK | OK | ||||||||||||||||||||||||||||||
| 326/431 | RMassBankData 1.44.0 (landing page) | Michael Stravs, Emma Schymanski | OK | OK | OK | ||||||||||||||||||||||||||||||
| 327/431 | Mike Smith | ERROR | ERROR | skipped | |||||||||||||||||||||||||||||||
| 328/431 | RNAmodR.Data 1.20.0 (landing page) | Felix G.M. Ernst | OK | OK | OK | ||||||||||||||||||||||||||||||
| 329/431 | RNAseqData.HNRNPC.bam.chr14 0.44.0 (landing page) | Hervé Pagès | OK | OK | OK | ||||||||||||||||||||||||||||||
| 330/431 | RnaSeqSampleSizeData 1.38.0 (landing page) | Shilin Zhao | OK | OK | OK | ||||||||||||||||||||||||||||||
| 331/431 | RnBeads.hg19 1.38.0 (landing page) | RnBeadsAnnotationCreator | OK | OK | OK | ||||||||||||||||||||||||||||||
| 332/431 | RnBeads.hg38 1.38.1 (landing page) | RnBeads Team | OK | OK | WARNINGS | ||||||||||||||||||||||||||||||
| 333/431 | RnBeads.mm10 2.14.0 (landing page) | RnBeads Team | OK | OK | OK | ||||||||||||||||||||||||||||||
| 334/431 | RnBeads.mm9 1.38.0 (landing page) | RnBeadsAnnotationCreator | OK | OK | OK | ||||||||||||||||||||||||||||||
| 335/431 | RnBeads.rn5 1.38.0 (landing page) | RnBeadsAnnotationCreator | OK | OK | OK | ||||||||||||||||||||||||||||||
| 336/431 | RRBSdata 1.26.0 (landing page) | Katja Hebestreit | OK | OK | OK | ||||||||||||||||||||||||||||||
| 337/431 | rRDPData 1.26.0 (landing page) | Michael Hahsler | OK | OK | OK | ||||||||||||||||||||||||||||||
| 338/431 | RTCGA.clinical 20151101.36.0 (landing page) | Marcin Kosinski | OK | OK | WARNINGS | ||||||||||||||||||||||||||||||
| 339/431 | RTCGA.CNV 1.34.0 (landing page) | Marcin Kosinski | OK | OK | WARNINGS | ||||||||||||||||||||||||||||||
| 340/431 | RTCGA.methylation 1.34.0 (landing page) | Marcin Kosinski | OK | OK | WARNINGS | ||||||||||||||||||||||||||||||
| 341/431 | RTCGA.miRNASeq 1.34.0 (landing page) | Marcin Kosinski | OK | OK | WARNINGS | ||||||||||||||||||||||||||||||
| 342/431 | RTCGA.mRNA 1.34.0 (landing page) | Marcin Kosinski | OK | OK | WARNINGS | ||||||||||||||||||||||||||||||
| 343/431 | RTCGA.mutations 20151101.36.0 (landing page) | Marcin Kosinski | OK | OK | WARNINGS | ||||||||||||||||||||||||||||||
| 344/431 | RTCGA.PANCAN12 1.34.0 (landing page) | Marcin Kosinski | OK | OK | OK | ||||||||||||||||||||||||||||||
| 345/431 | RTCGA.rnaseq 20151101.36.0 (landing page) | Marcin Kosinski | OK | OK | WARNINGS | ||||||||||||||||||||||||||||||
| 346/431 | RTCGA.RPPA 1.34.0 (landing page) | Marcin Kosinski | OK | OK | WARNINGS | ||||||||||||||||||||||||||||||
| 347/431 | RUVnormalizeData 1.26.0 (landing page) | Laurent Jacob | OK | OK | OK | ||||||||||||||||||||||||||||||
|
| ||||||||||||||||||||||||||||||||||
| Package | Maintainer | INSTALL | BUILD | CHECK | |||||||||||||||||||||||||||||||
| 348/431 | sampleClassifierData 1.30.0 (landing page) | Khadija El Amrani | OK | OK | OK | ||||||||||||||||||||||||||||||
| 349/431 | SBGNview.data 1.20.0 (landing page) | Weijun Luo | OK | OK | OK | ||||||||||||||||||||||||||||||
| 350/431 | scaeData 1.2.0 (landing page) | Ahmad Al Ajami | OK | OK | OK | ||||||||||||||||||||||||||||||
| 351/431 | scanMiRData 1.12.0 (landing page) | Pierre-Luc Germain | OK | OK | OK | ||||||||||||||||||||||||||||||
| 352/431 | scATAC.Explorer 1.12.1 (landing page) | Arrian Gibson-Khademi | OK | OK | OK | ||||||||||||||||||||||||||||||
| 353/431 | SCLCBam 1.38.0 (landing page) | Oscar Krijgsman | OK | OK | OK | ||||||||||||||||||||||||||||||
| 354/431 | scMultiome 1.6.0 (landing page) | Xiaosai Yao | OK | OK | OK | ||||||||||||||||||||||||||||||
| 355/431 | scpdata 1.14.0 (landing page) | Christophe Vanderaa | OK | OK | ERROR | ||||||||||||||||||||||||||||||
| 356/431 | scRNAseq 2.20.0 (landing page) | Aaron Lun | OK | OK | OK | ||||||||||||||||||||||||||||||
| 357/431 | scTHI.data 1.18.0 (landing page) | Michele Ceccarelli | OK | OK | OK | ||||||||||||||||||||||||||||||
| 358/431 | seq2pathway.data 1.38.0 (landing page) | Arjun Kinstlick | OK | OK | WARNINGS | ||||||||||||||||||||||||||||||
| 359/431 | seqc 1.40.0 (landing page) | Yang Liao | OK | OK | WARNINGS | ||||||||||||||||||||||||||||||
| 360/431 | serumStimulation 1.42.0 (landing page) | Morten Hansen, | OK | OK | OK | ||||||||||||||||||||||||||||||
| 361/431 | sesameData 1.24.0 (landing page) | Wanding Zhou | OK | OK | OK | ||||||||||||||||||||||||||||||
| 362/431 | seventyGeneData 1.42.0 (landing page) | Luigi Marchionni | OK | OK | OK | ||||||||||||||||||||||||||||||
| 363/431 | SFEData 1.8.1 (landing page) | Lambda Moses | OK | OK | OK | ||||||||||||||||||||||||||||||
| 364/431 | shinyMethylData 1.26.0 (landing page) | Jean-Philippe Fortin | OK | OK | WARNINGS | ||||||||||||||||||||||||||||||
| 365/431 | signatureSearchData 1.20.0 (landing page) | Brendan Gongol | OK | OK | OK | ||||||||||||||||||||||||||||||
| 366/431 | SimBenchData 1.14.0 (landing page) | Yue Cao | OK | OK | OK | ||||||||||||||||||||||||||||||
| 367/431 | simpIntLists 1.42.0 (landing page) | Kircicegi Korkmaz | OK | OK | WARNINGS | ||||||||||||||||||||||||||||||
| 368/431 | Single.mTEC.Transcriptomes 1.34.0 (landing page) | Alejandro Reyes | OK | OK | OK | ||||||||||||||||||||||||||||||
| 369/431 | SingleCellMultiModal 1.18.0 (landing page) | Marcel Ramos | OK | OK | OK | ||||||||||||||||||||||||||||||
| 370/431 | SingleMoleculeFootprintingData 1.14.0 (landing page) | Guido Barzaghi | OK | OK | OK | ||||||||||||||||||||||||||||||
| 371/431 | smokingMouse 1.4.0 (landing page) | Daianna Gonzalez-Padilla | OK | OK | OK | ||||||||||||||||||||||||||||||
| 372/431 | SNAData 1.52.0 (landing page) | Denise Scholtens | OK | OK | OK | ||||||||||||||||||||||||||||||
| 373/431 | SNAGEEdata 1.42.0 (landing page) | David Venet | OK | OK | OK | ||||||||||||||||||||||||||||||
| 374/431 | SNPhoodData 1.36.0 (landing page) | Christian Arnold | OK | OK | OK | ||||||||||||||||||||||||||||||
| 375/431 | SomatiCAData 1.44.0 (landing page) | Mengjie Chen | OK | OK | WARNINGS | ||||||||||||||||||||||||||||||
| 376/431 | SomaticCancerAlterations 1.42.0 (landing page) | Julian Gehring | OK | OK | OK | ||||||||||||||||||||||||||||||
| 377/431 | SpatialDatasets 1.4.0 (landing page) | Ellis Patrick | OK | OK | WARNINGS | ||||||||||||||||||||||||||||||
| 378/431 | spatialDmelxsim 1.12.0 (landing page) | Michael Love | OK | OK | OK | ||||||||||||||||||||||||||||||
| 379/431 | spatialLIBD 1.18.0 (landing page) | Leonardo Collado-Torres | OK | OK | OK | ||||||||||||||||||||||||||||||
| 380/431 | SpikeIn 1.48.0 (landing page) | Robert D Shear | OK | OK | OK | ||||||||||||||||||||||||||||||
| 381/431 | SpikeInSubset 1.46.0 (landing page) | Robert D Shear | OK | OK | WARNINGS | ||||||||||||||||||||||||||||||
| 382/431 | spqnData 1.18.0 (landing page) | Yi Wang | OK | OK | OK | ||||||||||||||||||||||||||||||
| 383/431 | stemHypoxia 1.42.0 (landing page) | Cristobal Fresno | OK | OK | OK | ||||||||||||||||||||||||||||||
| 384/431 | STexampleData 1.14.3 (landing page) | Lukas M. Weber | OK | OK | OK | ||||||||||||||||||||||||||||||
| 385/431 | SubcellularSpatialData 1.2.0 (landing page) | Dharmesh D. Bhuva | OK | OK | OK | ||||||||||||||||||||||||||||||
| 386/431 | SVM2CRMdata 1.38.0 (landing page) | Guidantonio Malagoli Tagliazucchi | OK | OK | WARNINGS | ||||||||||||||||||||||||||||||
| 387/431 | synapterdata 1.44.0 (landing page) | Laurent Gatto | OK | OK | OK | ||||||||||||||||||||||||||||||
| 388/431 | systemPipeRdata 2.10.0 (landing page) | Thomas Girke | OK | OK | OK | ||||||||||||||||||||||||||||||
|
| ||||||||||||||||||||||||||||||||||
| Package | Maintainer | INSTALL | BUILD | CHECK | |||||||||||||||||||||||||||||||
| 389/431 | TabulaMurisData 1.24.0 (landing page) | Charlotte Soneson | OK | OK | OK | ||||||||||||||||||||||||||||||
| 390/431 | TabulaMurisSenisData 1.12.0 (landing page) | Charlotte Soneson | OK | OK | OK | ||||||||||||||||||||||||||||||
| 391/431 | TargetScoreData 1.42.0 (landing page) | Yue Li | OK | OK | OK | ||||||||||||||||||||||||||||||
| 392/431 | TargetSearchData 1.44.0 (landing page) | Alvaro Cuadros-Inostroza | OK | OK | OK | ||||||||||||||||||||||||||||||
| 393/431 | tartare 1.20.0 (landing page) | Christian Panse | OK | OK | OK | ||||||||||||||||||||||||||||||
| 394/431 | TBX20BamSubset 1.42.0 (landing page) | D. Bindreither | OK | OK | OK | ||||||||||||||||||||||||||||||
| 395/431 | TCGAbiolinksGUI.data 1.26.0 (landing page) | Tiago Chedraoui Silva | OK | OK | WARNINGS | ||||||||||||||||||||||||||||||
| 396/431 | TCGAcrcmiRNA 1.26.0 (landing page) | Claudio Isella | OK | OK | OK | ||||||||||||||||||||||||||||||
| 397/431 | TCGAcrcmRNA 1.26.0 (landing page) | Claudio Isella | OK | OK | OK | ||||||||||||||||||||||||||||||
| 398/431 | TCGAMethylation450k 1.42.0 (landing page) | Sean Davis | OK | OK | OK | ||||||||||||||||||||||||||||||
| 399/431 | TCGAWorkflowData 1.30.0 (landing page) | Tiago Chedraoui Silva | OK | OK | OK | ||||||||||||||||||||||||||||||
| 400/431 | TENxBrainData 1.26.0 (landing page) | Bioconductor Package Maintainer | OK | OK | OK | ||||||||||||||||||||||||||||||
| 401/431 | TENxBUSData 1.20.0 (landing page) | Lambda Moses | OK | OK | OK | ||||||||||||||||||||||||||||||
| 402/431 | TENxPBMCData 1.24.0 (landing page) | Stephanie Hicks | OK | OK | OK | ||||||||||||||||||||||||||||||
| 403/431 | TENxVisiumData 1.14.0 (landing page) | Helena L. Crowell | OK | OK | OK | ||||||||||||||||||||||||||||||
| 404/431 | TENxXeniumData 1.2.0 (landing page) | Matineh Rahmatbakhsh | OK | OK | WARNINGS | ||||||||||||||||||||||||||||||
| 405/431 | timecoursedata 1.16.0 (landing page) | Nelle Varoquaux | OK | OK | OK | ||||||||||||||||||||||||||||||
| 406/431 | TimerQuant 1.36.0 (landing page) | Joseph Barry | OK | OK | OK | ||||||||||||||||||||||||||||||
| 407/431 | tinesath1cdf 1.44.0 (landing page) | Tine Casneuf | OK | OK | WARNINGS | ||||||||||||||||||||||||||||||
| 408/431 | tinesath1probe 1.44.0 (landing page) | Tine Casneuf | OK | OK | WARNINGS | ||||||||||||||||||||||||||||||
| 409/431 | tissueTreg 1.26.0 (landing page) | Charles Imbusch | OK | OK | OK | ||||||||||||||||||||||||||||||
| 410/431 | TMExplorer 1.16.0 (landing page) | Erik Christensen | OK | OK | OK | ||||||||||||||||||||||||||||||
| 411/431 | tofsimsData 1.34.0 (landing page) | Lorenz Gerber | OK | OK | WARNINGS | ||||||||||||||||||||||||||||||
| 412/431 | topdownrdata 1.28.0 (landing page) | Sebastian Gibb | OK | OK | OK | ||||||||||||||||||||||||||||||
| 413/431 | TransOmicsData 1.2.0 (landing page) | Di Xiao | OK | OK | OK | ||||||||||||||||||||||||||||||
| 414/431 | tuberculosis 1.12.0 (landing page) | Lucas Schiffer | OK | OK | OK | ||||||||||||||||||||||||||||||
| 415/431 | TumourMethData 1.4.0 (landing page) | Richard Heery | OK | OK | WARNINGS | ||||||||||||||||||||||||||||||
| 416/431 | tweeDEseqCountData 1.44.0 (landing page) | Dolors Pelegri-Siso | OK | OK | WARNINGS | ||||||||||||||||||||||||||||||
| 417/431 | tximportData 1.34.0 (landing page) | Michael Love | OK | OK | OK | ||||||||||||||||||||||||||||||
|
| ||||||||||||||||||||||||||||||||||
| Package | Maintainer | INSTALL | BUILD | CHECK | |||||||||||||||||||||||||||||||
| 418/431 | VariantToolsData 1.30.0 (landing page) | Michael Lawrence | OK | OK | OK | ||||||||||||||||||||||||||||||
| 419/431 | VectraPolarisData 1.10.0 (landing page) | Wrobel Julia | OK | OK | OK | ||||||||||||||||||||||||||||||
| 420/431 | vulcandata 1.28.0 (landing page) | Federico M. Giorgi | OK | OK | OK | ||||||||||||||||||||||||||||||
|
| ||||||||||||||||||||||||||||||||||
| Package | Maintainer | INSTALL | BUILD | CHECK | |||||||||||||||||||||||||||||||
| 421/431 | WeberDivechaLCdata 1.8.0 (landing page) | Lukas M. Weber | OK | OK | OK | ||||||||||||||||||||||||||||||
| 422/431 | WES.1KG.WUGSC 1.38.0 (landing page) | Yuchao Jiang | OK | OK | OK | ||||||||||||||||||||||||||||||
| 423/431 | WGSmapp 1.18.0 (landing page) | Rujin Wang | OK | OK | WARNINGS | ||||||||||||||||||||||||||||||
|
| ||||||||||||||||||||||||||||||||||
| Package | Maintainer | INSTALL | BUILD | CHECK | |||||||||||||||||||||||||||||||
| 424/431 | xcoredata 1.10.0 (landing page) | Maciej Migdał | OK | OK | OK | ||||||||||||||||||||||||||||||
| 425/431 | XhybCasneuf 1.44.0 (landing page) | Tineke Casneuf | OK | OK | WARNINGS | ||||||||||||||||||||||||||||||
|
| ||||||||||||||||||||||||||||||||||
| Package | Maintainer | INSTALL | BUILD | CHECK | |||||||||||||||||||||||||||||||
| 426/431 | yeastCC 1.46.0 (landing page) | Sandrine Dudoit | OK | OK | WARNINGS | ||||||||||||||||||||||||||||||
| 427/431 | yeastExpData 0.52.0 (landing page) | R. Gentleman | OK | OK | WARNINGS | ||||||||||||||||||||||||||||||
| 428/431 | yeastGSData 0.44.0 (landing page) | R. Gentleman | OK | OK | WARNINGS | ||||||||||||||||||||||||||||||
| 429/431 | yeastNagalakshmi 1.42.0 (landing page) | Bioconductor Package Maintainer | OK | OK | OK | ||||||||||||||||||||||||||||||
| 430/431 | yeastRNASeq 0.44.0 (landing page) | J. Bullard | OK | OK | WARNINGS | ||||||||||||||||||||||||||||||
|
| ||||||||||||||||||||||||||||||||||
| Package | Maintainer | INSTALL | BUILD | CHECK | |||||||||||||||||||||||||||||||
| 431/431 | zebrafishRNASeq 1.26.0 (landing page) | Davide Risso | OK | OK | OK | ||||||||||||||||||||||||||||||